| Back to Multiple platform build/check report for BioC 3.11 | 
 | 
This page was generated on 2020-10-17 11:56:15 -0400 (Sat, 17 Oct 2020).
| TO THE DEVELOPERS/MAINTAINERS OF THE ChIPsim PACKAGE: Please make sure to use the following settings in order to reproduce any error or warning you see on this page. | 
| Package 288/1905 | Hostname | OS / Arch | INSTALL | BUILD | CHECK | BUILD BIN | ||||||
| ChIPsim 1.42.0 Peter Humburg 
 | malbec2 | Linux (Ubuntu 18.04.4 LTS) / x86_64 | OK | OK | OK |  | ||||||
| tokay2 | Windows Server 2012 R2 Standard / x64 | [ OK ] | OK | OK | OK |  | ||||||
| machv2 | macOS 10.14.6 Mojave / x86_64 | OK | OK | OK | OK |  | 
| Package: ChIPsim | 
| Version: 1.42.0 | 
| Command: C:\cygwin\bin\curl.exe -O https://malbec2.bioconductor.org/BBS/3.11/bioc/src/contrib/ChIPsim_1.42.0.tar.gz && rm -rf ChIPsim.buildbin-libdir && mkdir ChIPsim.buildbin-libdir && C:\Users\biocbuild\bbs-3.11-bioc\R\bin\R.exe CMD INSTALL --merge-multiarch --build --library=ChIPsim.buildbin-libdir ChIPsim_1.42.0.tar.gz && C:\Users\biocbuild\bbs-3.11-bioc\R\bin\R.exe CMD INSTALL ChIPsim_1.42.0.zip && rm ChIPsim_1.42.0.tar.gz ChIPsim_1.42.0.zip | 
| StartedAt: 2020-10-16 18:43:31 -0400 (Fri, 16 Oct 2020) | 
| EndedAt: 2020-10-16 18:44:40 -0400 (Fri, 16 Oct 2020) | 
| EllapsedTime: 69.1 seconds | 
| RetCode: 0 | 
| Status: OK | 
##############################################################################
##############################################################################
###
### Running command:
###
###   C:\cygwin\bin\curl.exe -O https://malbec2.bioconductor.org/BBS/3.11/bioc/src/contrib/ChIPsim_1.42.0.tar.gz && rm -rf ChIPsim.buildbin-libdir && mkdir ChIPsim.buildbin-libdir && C:\Users\biocbuild\bbs-3.11-bioc\R\bin\R.exe CMD INSTALL --merge-multiarch --build --library=ChIPsim.buildbin-libdir ChIPsim_1.42.0.tar.gz && C:\Users\biocbuild\bbs-3.11-bioc\R\bin\R.exe CMD INSTALL ChIPsim_1.42.0.zip && rm ChIPsim_1.42.0.tar.gz ChIPsim_1.42.0.zip
###
##############################################################################
##############################################################################
  % Total    % Received % Xferd  Average Speed   Time    Time     Time  Current
                                 Dload  Upload   Total   Spent    Left  Speed
  0     0    0     0    0     0      0      0 --:--:-- --:--:-- --:--:--     0
100 39304  100 39304    0     0   612k      0 --:--:-- --:--:-- --:--:--  685k
install for i386
* installing *source* package 'ChIPsim' ...
** using staged installation
** R
** byte-compile and prepare package for lazy loading
** help
*** installing help indices
  converting help for package 'ChIPsim'
    finding HTML links ... done
    ChIPsim-package                         html  
    bindDens2readDens                       html  
    decodeQuality                           html  
    defaultControl                          html  
    defaultErrorProb                        html  
    defaultFunctions                        html  
    defaultGenerator                        html  
    distDens                                html  
    extractQuality                          html  
    feat2dens                               html  
    featureDensity                          html  
    internal                                html  
    joinRegion                              html  
    makeFeatures                            html  
    placeFeatures                           html  
    pos2fastq                               html  
    readError                               html  
    readQualitySample                       html  
    readSequence                            html  
    reconcileFeatures                       html  
    sampleReads                             html  
    simChIP                                 html  
    simpleNames                             html  
    stableFeature                           html  
    writeFASTQ                              html  
    writeReads                              html  
** building package indices
** installing vignettes
** testing if installed package can be loaded from temporary location
** testing if installed package can be loaded from final location
** testing if installed package keeps a record of temporary installation path
install for x64
* installing *source* package 'ChIPsim' ...
** testing if installed package can be loaded
* MD5 sums
packaged installation of 'ChIPsim' as ChIPsim_1.42.0.zip
* DONE (ChIPsim)
* installing to library 'C:/Users/biocbuild/bbs-3.11-bioc/R/library'
package 'ChIPsim' successfully unpacked and MD5 sums checked