| Back to Multiple platform build/check report for BioC 3.11 | 
 | 
This page was generated on 2020-10-17 11:56:14 -0400 (Sat, 17 Oct 2020).
| TO THE DEVELOPERS/MAINTAINERS OF THE ChIPexoQual PACKAGE: Please make sure to use the following settings in order to reproduce any error or warning you see on this page. | 
| Package 281/1905 | Hostname | OS / Arch | INSTALL | BUILD | CHECK | BUILD BIN | ||||||
| ChIPexoQual 1.12.0 Rene Welch 
 | malbec2 | Linux (Ubuntu 18.04.4 LTS) / x86_64 | OK | OK | OK |  | ||||||
| tokay2 | Windows Server 2012 R2 Standard / x64 | OK | OK | OK | [ OK ] |  | ||||||
| machv2 | macOS 10.14.6 Mojave / x86_64 | OK | OK | OK | OK |  | 
| Package: ChIPexoQual | 
| Version: 1.12.0 | 
| Command: rm -rf ChIPexoQual.buildbin-libdir && mkdir ChIPexoQual.buildbin-libdir && C:\Users\biocbuild\bbs-3.11-bioc\R\bin\R.exe CMD INSTALL --merge-multiarch --build --library=ChIPexoQual.buildbin-libdir ChIPexoQual_1.12.0.tar.gz | 
| StartedAt: 2020-10-17 10:05:13 -0400 (Sat, 17 Oct 2020) | 
| EndedAt: 2020-10-17 10:06:30 -0400 (Sat, 17 Oct 2020) | 
| EllapsedTime: 77.2 seconds | 
| RetCode: 0 | 
| Status: OK | 
| PackageFile: ChIPexoQual_1.12.0.zip | 
| PackageFileSize: 2.209 MiB | 
##############################################################################
##############################################################################
###
### Running command:
###
###   rm -rf ChIPexoQual.buildbin-libdir && mkdir ChIPexoQual.buildbin-libdir && C:\Users\biocbuild\bbs-3.11-bioc\R\bin\R.exe CMD INSTALL --merge-multiarch --build --library=ChIPexoQual.buildbin-libdir ChIPexoQual_1.12.0.tar.gz
###
##############################################################################
##############################################################################
install for i386
* installing *source* package 'ChIPexoQual' ...
** using staged installation
** R
** data
** inst
** byte-compile and prepare package for lazy loading
** help
*** installing help indices
  converting help for package 'ChIPexoQual'
    finding HTML links ... done
    ARCvURCplot                             html  
    ExoData                                 html  
    ExoDataBlacklist                        html  
    ExoDataSubsampling                      html  
    FSRDistplot                             html  
    MAplot                                  html  
    beta1-methods                           html  
    beta2-methods                           html  
    blacklists                              html  
    calculateParamDist                      html  
    exoExample                              html  
    formatRegions                           html  
    nreads-methods                          html  
    paramDist-methods                       html  
    paramDistBoxplot                        html  
    regionCompplot                          html  
** building package indices
** installing vignettes
** testing if installed package can be loaded from temporary location
** testing if installed package can be loaded from final location
** testing if installed package keeps a record of temporary installation path
install for x64
* installing *source* package 'ChIPexoQual' ...
** testing if installed package can be loaded
* MD5 sums
packaged installation of 'ChIPexoQual' as ChIPexoQual_1.12.0.zip
* DONE (ChIPexoQual)