| Back to Multiple platform build/check report for BioC 3.11 |
|
This page was generated on 2020-10-17 11:56:13 -0400 (Sat, 17 Oct 2020).
| TO THE DEVELOPERS/MAINTAINERS OF THE CellTrails PACKAGE: Please make sure to use the following settings in order to reproduce any error or warning you see on this page. |
| Package 256/1905 | Hostname | OS / Arch | INSTALL | BUILD | CHECK | BUILD BIN | ||||||
| CellTrails 1.6.1 Daniel Ellwanger
| malbec2 | Linux (Ubuntu 18.04.4 LTS) / x86_64 | OK | OK | OK | |||||||
| tokay2 | Windows Server 2012 R2 Standard / x64 | OK | OK | [ OK ] | OK | |||||||
| machv2 | macOS 10.14.6 Mojave / x86_64 | OK | OK | OK | OK |
| Package: CellTrails |
| Version: 1.6.1 |
| Command: C:\Users\biocbuild\bbs-3.11-bioc\R\bin\R.exe CMD check --force-multiarch --install=check:CellTrails.install-out.txt --library=C:\Users\biocbuild\bbs-3.11-bioc\R\library --no-vignettes --timings CellTrails_1.6.1.tar.gz |
| StartedAt: 2020-10-17 02:26:58 -0400 (Sat, 17 Oct 2020) |
| EndedAt: 2020-10-17 02:34:57 -0400 (Sat, 17 Oct 2020) |
| EllapsedTime: 478.8 seconds |
| RetCode: 0 |
| Status: OK |
| CheckDir: CellTrails.Rcheck |
| Warnings: 0 |
##############################################################################
##############################################################################
###
### Running command:
###
### C:\Users\biocbuild\bbs-3.11-bioc\R\bin\R.exe CMD check --force-multiarch --install=check:CellTrails.install-out.txt --library=C:\Users\biocbuild\bbs-3.11-bioc\R\library --no-vignettes --timings CellTrails_1.6.1.tar.gz
###
##############################################################################
##############################################################################
* using log directory 'C:/Users/biocbuild/bbs-3.11-bioc/meat/CellTrails.Rcheck'
* using R version 4.0.3 (2020-10-10)
* using platform: x86_64-w64-mingw32 (64-bit)
* using session charset: ISO8859-1
* using option '--no-vignettes'
* checking for file 'CellTrails/DESCRIPTION' ... OK
* checking extension type ... Package
* this is package 'CellTrails' version '1.6.1'
* package encoding: UTF-8
* checking package namespace information ... OK
* checking package dependencies ... OK
* checking if this is a source package ... OK
* checking if there is a namespace ... OK
* checking for hidden files and directories ... OK
* checking for portable file names ... OK
* checking whether package 'CellTrails' can be installed ... OK
* checking installed package size ... OK
* checking package directory ... OK
* checking 'build' directory ... OK
* checking DESCRIPTION meta-information ... OK
* checking top-level files ... OK
* checking for left-over files ... OK
* checking index information ... OK
* checking package subdirectories ... OK
* checking R files for non-ASCII characters ... OK
* checking R files for syntax errors ... OK
* loading checks for arch 'i386'
** checking whether the package can be loaded ... OK
** checking whether the package can be loaded with stated dependencies ... OK
** checking whether the package can be unloaded cleanly ... OK
** checking whether the namespace can be loaded with stated dependencies ... OK
** checking whether the namespace can be unloaded cleanly ... OK
* loading checks for arch 'x64'
** checking whether the package can be loaded ... OK
** checking whether the package can be loaded with stated dependencies ... OK
** checking whether the package can be unloaded cleanly ... OK
** checking whether the namespace can be loaded with stated dependencies ... OK
** checking whether the namespace can be unloaded cleanly ... OK
* checking dependencies in R code ... OK
* checking S3 generic/method consistency ... OK
* checking replacement functions ... OK
* checking foreign function calls ... OK
* checking R code for possible problems ... OK
* checking Rd files ... OK
* checking Rd metadata ... OK
* checking Rd cross-references ... OK
* checking for missing documentation entries ... OK
* checking for code/documentation mismatches ... OK
* checking Rd \usage sections ... OK
* checking Rd contents ... OK
* checking for unstated dependencies in examples ... OK
* checking contents of 'data' directory ... OK
* checking data for non-ASCII characters ... OK
* checking data for ASCII and uncompressed saves ... OK
* checking files in 'vignettes' ... OK
* checking examples ...
** running examples for arch 'i386' ... OK
Examples with CPU (user + system) or elapsed time > 5s
user system elapsed
plotMap 10.21 0.30 11.12
filterTrajFeaturesByCOV 4.92 0.17 5.09
** running examples for arch 'x64' ... OK
Examples with CPU (user + system) or elapsed time > 5s
user system elapsed
plotMap 6.59 0.39 6.99
* checking for unstated dependencies in 'tests' ... OK
* checking tests ...
** running tests for arch 'i386' ...
Running 'runTests.R'
OK
** running tests for arch 'x64' ...
Running 'runTests.R'
OK
* checking for unstated dependencies in vignettes ... OK
* checking package vignettes in 'inst/doc' ... OK
* checking running R code from vignettes ... SKIPPED
* checking re-building of vignette outputs ... SKIPPED
* checking PDF version of manual ... OK
* DONE
Status: OK
CellTrails.Rcheck/00install.out
##############################################################################
##############################################################################
###
### Running command:
###
### C:\cygwin\bin\curl.exe -O https://malbec2.bioconductor.org/BBS/3.11/bioc/src/contrib/CellTrails_1.6.1.tar.gz && rm -rf CellTrails.buildbin-libdir && mkdir CellTrails.buildbin-libdir && C:\Users\biocbuild\bbs-3.11-bioc\R\bin\R.exe CMD INSTALL --merge-multiarch --build --library=CellTrails.buildbin-libdir CellTrails_1.6.1.tar.gz && C:\Users\biocbuild\bbs-3.11-bioc\R\bin\R.exe CMD INSTALL CellTrails_1.6.1.zip && rm CellTrails_1.6.1.tar.gz CellTrails_1.6.1.zip
###
##############################################################################
##############################################################################
% Total % Received % Xferd Average Speed Time Time Time Current
Dload Upload Total Spent Left Speed
0 0 0 0 0 0 0 0 --:--:-- --:--:-- --:--:-- 0
100 2182k 100 2182k 0 0 27.8M 0 --:--:-- --:--:-- --:--:-- 30.8M
install for i386
* installing *source* package 'CellTrails' ...
** using staged installation
** R
** data
** inst
** byte-compile and prepare package for lazy loading
** help
*** installing help indices
converting help for package 'CellTrails'
finding HTML links ... done
addTrail html
connectStates html
contrastTrailExpr html
dot-adjustLayoutByPtime html
dot-bhtsne html
dot-capitalize html
dot-color_hue html
dot-color_ramp html
dot-connectStates_def html
dot-connect_ordi html
dot-connect_ortho html
dot-contrastExprTrail_def html
dot-deleteMedianCentres html
dot-denoiseExpression html
dot-diffExpr html
dot-diffExprState_def html
dot-embedSamples_def html
dot-exprs html
dot-featureNameExists html
dot-filterTrajFeaturesByCOV_def html
dot-filterTrajFeaturesByDL_def html
dot-filterTrajFeaturesByFF_def html
dot-findSpectrum_def html
dot-findStates_def html
dot-fitDynamic_def html
dot-fitTrajectory_def html
dot-fit_surface html
dot-fr_layout html
dot-generate_ordination html
dot-ihs html
dot-linear_fit html
dot-needsToBeExpanded html
dot-nn_impute html
dot-pca_def html
dot-pheno html
dot-phenoNameExists html
dot-plotDynamic html
dot-plotManifold_def html
dot-plotSpectrum_def html
dot-plotStateExpression_def html
dot-plotStateSize_def html
dot-plotStateTrajectory_def html
dot-plotTrail_def html
dot-plotTrailblazing_def html
dot-plot_trajectoryFit html
dot-prettyColorRamp html
dot-prettyString html
dot-project_ortho html
dot-rbf html
dot-rescale html
dot-sampleNameExists html
dot-spanForest-set html
dot-spanForest html
dot-spatmed html
dot-stateTrajLayout html
dot-trailNameExists html
dot-trajGraph-set html
dot-trajGraph html
dot-trajLandmark-set html
dot-trajLandmark html
dot-trajResiduals-set html
dot-useFeature-set html
dot-useFeature html
dot-useSample-set html
dot-useSample html
dot-validatePlotParams html
dot-write_ygraphml_def html
embedSamples html
enrichment.test html
exSCE html
featureNames-SingleCellExperiment-method
html
filterTrajFeaturesByCOV html
filterTrajFeaturesByDL html
filterTrajFeaturesByFF html
findSpectrum html
findStates html
fitDynamic html
fitTrajectory html
landmarks html
latentSpace-set html
latentSpace html
manifold2D-set html
manifold2D html
pca html
phenoNames html
plotDynamic html
plotManifold html
plotMap html
plotStateExpression html
plotStateSize html
plotStateTrajectory html
plotTrail html
plotTrajectoryFit html
read.ygraphml html
removeTrail html
sampleNames-SingleCellExperiment-method
html
selectTrajectory html
showTrajInfo html
simulate_exprs html
stateTrajLayout-set html
states-set html
states html
trailNames-set html
trailNames html
trails html
trajComponents html
trajFeatureNames-set html
trajFeatureNames html
trajLayout-set html
trajLayout html
trajResiduals html
trajSampleNames html
userLandmarks-set html
userLandmarks html
write.ygraphml html
** building package indices
** installing vignettes
** testing if installed package can be loaded from temporary location
** testing if installed package can be loaded from final location
** testing if installed package keeps a record of temporary installation path
install for x64
* installing *source* package 'CellTrails' ...
** testing if installed package can be loaded
* MD5 sums
packaged installation of 'CellTrails' as CellTrails_1.6.1.zip
* DONE (CellTrails)
* installing to library 'C:/Users/biocbuild/bbs-3.11-bioc/R/library'
package 'CellTrails' successfully unpacked and MD5 sums checked
|
CellTrails.Rcheck/tests_i386/runTests.Rout
R version 4.0.3 (2020-10-10) -- "Bunny-Wunnies Freak Out"
Copyright (C) 2020 The R Foundation for Statistical Computing
Platform: i386-w64-mingw32/i386 (32-bit)
R is free software and comes with ABSOLUTELY NO WARRANTY.
You are welcome to redistribute it under certain conditions.
Type 'license()' or 'licence()' for distribution details.
R is a collaborative project with many contributors.
Type 'contributors()' for more information and
'citation()' on how to cite R or R packages in publications.
Type 'demo()' for some demos, 'help()' for on-line help, or
'help.start()' for an HTML browser interface to help.
Type 'q()' to quit R.
> BiocGenerics:::testPackage("CellTrails")
Attaching package: 'BiocGenerics'
The following objects are masked from 'package:parallel':
clusterApply, clusterApplyLB, clusterCall, clusterEvalQ,
clusterExport, clusterMap, parApply, parCapply, parLapply,
parLapplyLB, parRapply, parSapply, parSapplyLB
The following objects are masked from 'package:stats':
IQR, mad, sd, var, xtabs
The following objects are masked from 'package:base':
Filter, Find, Map, Position, Reduce, anyDuplicated, append,
as.data.frame, basename, cbind, colnames, dirname, do.call,
duplicated, eval, evalq, get, grep, grepl, intersect, is.unsorted,
lapply, mapply, match, mget, order, paste, pmax, pmax.int, pmin,
pmin.int, rank, rbind, rownames, sapply, setdiff, sort, table,
tapply, union, unique, unsplit, which, which.max, which.min
Attaching package: 'S4Vectors'
The following object is masked from 'package:base':
expand.grid
Attaching package: 'IRanges'
The following object is masked from 'package:grDevices':
windows
Welcome to Bioconductor
Vignettes contain introductory material; view with
'browseVignettes()'. To cite Bioconductor, see
'citation("Biobase")', and for packages 'citation("pkgname")'.
Attaching package: 'matrixStats'
The following objects are masked from 'package:Biobase':
anyMissing, rowMedians
Attaching package: 'DelayedArray'
The following objects are masked from 'package:matrixStats':
colMaxs, colMins, colRanges, rowMaxs, rowMins, rowRanges
The following objects are masked from 'package:base':
aperm, apply, rowsum
Computing adjacency matrix ...
Computing spectral embedding ...
Calculating approximation of CellTrails manifold for 2D visualization...
Used tSNE perplexity: 30
Initialized 20 clusters with a minimum size of 1 sample(s) each.
Performing post-hoc test ...
Found 5 states.
Calculating layout of state trajectory graph component 1...
Computing adjacency matrix ...
Computing spectral embedding ...
Calculating approximation of CellTrails manifold for 2D visualization...
Used tSNE perplexity: 30
Initialized 20 clusters with a minimum size of 1 sample(s) each.
Performing post-hoc test ...
Found 5 states.
Calculating layout of state trajectory graph component 1...
Calculating layout of state trajectory graph component 2...
Calculating layout of state trajectory graph component 3...
Calculating layout of state trajectory graph component 4...
Calculating layout of state trajectory graph component 5...
Calculating layout of state trajectory graph component 1...
Computing adjacency matrix ...
Computing spectral embedding ...
Computing adjacency matrix ...
Computing spectral embedding ...
Calculating approximation of CellTrails manifold for 2D visualization...
Used tSNE perplexity: 30
Computing adjacency matrix ...
Computing spectral embedding ...
Calculating approximation of CellTrails manifold for 2D visualization...
Used tSNE perplexity: 30
Initialized 20 clusters with a minimum size of 1 sample(s) each.
Performing post-hoc test ...
Found 1 states.
Initialized 20 clusters with a minimum size of 1 sample(s) each.
Performing post-hoc test ...
Found 1 states.
Initialized 0 clusters with a minimum size of 1000 sample(s) each.
Initialized 20 clusters with a minimum size of 1 sample(s) each.
Performing post-hoc test ...
Found 20 states.
Initialized 20 clusters with a minimum size of 1 sample(s) each.
Performing post-hoc test ...
Found 1 states.
Initialized 20 clusters with a minimum size of 1 sample(s) each.
Performing post-hoc test ...
Found 19 states.
Initialized 20 clusters with a minimum size of 1 sample(s) each.
Performing post-hoc test ...
Found 5 states.
Initialized 20 clusters with a minimum size of 1 sample(s) each.
Performing post-hoc test ...
Found 5 states.
Computing adjacency matrix ...
Computing spectral embedding ...
Calculating approximation of CellTrails manifold for 2D visualization...
Used tSNE perplexity: 30
Initialized 20 clusters with a minimum size of 1 sample(s) each.
Performing post-hoc test ...
Found 5 states.
Calculating layout of state trajectory graph component 1...
Computing adjacency matrix ...
Computing spectral embedding ...
Calculating approximation of CellTrails manifold for 2D visualization...
Used tSNE perplexity: 30
Initialized 20 clusters with a minimum size of 1 sample(s) each.
Performing post-hoc test ...
Found 5 states.
Calculating layout of state trajectory graph component 1...
Computing adjacency matrix ...
Computing spectral embedding ...
Calculating approximation of CellTrails manifold for 2D visualization...
Used tSNE perplexity: 30
Initialized 20 clusters with a minimum size of 1 sample(s) each.
Performing post-hoc test ...
Found 5 states.
Calculating layout of state trajectory graph component 1...
Calculating 2D approximation of CellTrails manifold...
Calculating layout of state trajectory graph component 1...
Calculating layout of state trajectory graph component 2...
Calculating layout of state trajectory graph ...
Computing adjacency matrix ...
Computing spectral embedding ...
Calculating approximation of CellTrails manifold for 2D visualization...
Used tSNE perplexity: 30
Initialized 20 clusters with a minimum size of 1 sample(s) each.
Performing post-hoc test ...
Found 5 states.
Calculating layout of state trajectory graph component 1...
RUNIT TEST PROTOCOL -- Sat Oct 17 02:34:05 2020
***********************************************
Number of test functions: 18
Number of errors: 0
Number of failures: 0
1 Test Suite :
CellTrails RUnit Tests - 18 test functions, 0 errors, 0 failures
Number of test functions: 18
Number of errors: 0
Number of failures: 0
>
> proc.time()
user system elapsed
48.35 1.62 50.28
|
CellTrails.Rcheck/tests_x64/runTests.Rout
R version 4.0.3 (2020-10-10) -- "Bunny-Wunnies Freak Out"
Copyright (C) 2020 The R Foundation for Statistical Computing
Platform: x86_64-w64-mingw32/x64 (64-bit)
R is free software and comes with ABSOLUTELY NO WARRANTY.
You are welcome to redistribute it under certain conditions.
Type 'license()' or 'licence()' for distribution details.
R is a collaborative project with many contributors.
Type 'contributors()' for more information and
'citation()' on how to cite R or R packages in publications.
Type 'demo()' for some demos, 'help()' for on-line help, or
'help.start()' for an HTML browser interface to help.
Type 'q()' to quit R.
> BiocGenerics:::testPackage("CellTrails")
Attaching package: 'BiocGenerics'
The following objects are masked from 'package:parallel':
clusterApply, clusterApplyLB, clusterCall, clusterEvalQ,
clusterExport, clusterMap, parApply, parCapply, parLapply,
parLapplyLB, parRapply, parSapply, parSapplyLB
The following objects are masked from 'package:stats':
IQR, mad, sd, var, xtabs
The following objects are masked from 'package:base':
Filter, Find, Map, Position, Reduce, anyDuplicated, append,
as.data.frame, basename, cbind, colnames, dirname, do.call,
duplicated, eval, evalq, get, grep, grepl, intersect, is.unsorted,
lapply, mapply, match, mget, order, paste, pmax, pmax.int, pmin,
pmin.int, rank, rbind, rownames, sapply, setdiff, sort, table,
tapply, union, unique, unsplit, which, which.max, which.min
Attaching package: 'S4Vectors'
The following object is masked from 'package:base':
expand.grid
Attaching package: 'IRanges'
The following object is masked from 'package:grDevices':
windows
Welcome to Bioconductor
Vignettes contain introductory material; view with
'browseVignettes()'. To cite Bioconductor, see
'citation("Biobase")', and for packages 'citation("pkgname")'.
Attaching package: 'matrixStats'
The following objects are masked from 'package:Biobase':
anyMissing, rowMedians
Attaching package: 'DelayedArray'
The following objects are masked from 'package:matrixStats':
colMaxs, colMins, colRanges, rowMaxs, rowMins, rowRanges
The following objects are masked from 'package:base':
aperm, apply, rowsum
Computing adjacency matrix ...
Computing spectral embedding ...
Calculating approximation of CellTrails manifold for 2D visualization...
Used tSNE perplexity: 30
Initialized 20 clusters with a minimum size of 1 sample(s) each.
Performing post-hoc test ...
Found 5 states.
Calculating layout of state trajectory graph component 1...
Computing adjacency matrix ...
Computing spectral embedding ...
Calculating approximation of CellTrails manifold for 2D visualization...
Used tSNE perplexity: 30
Initialized 20 clusters with a minimum size of 1 sample(s) each.
Performing post-hoc test ...
Found 5 states.
Calculating layout of state trajectory graph component 1...
Calculating layout of state trajectory graph component 2...
Calculating layout of state trajectory graph component 3...
Calculating layout of state trajectory graph component 4...
Calculating layout of state trajectory graph component 5...
Calculating layout of state trajectory graph component 1...
Computing adjacency matrix ...
Computing spectral embedding ...
Computing adjacency matrix ...
Computing spectral embedding ...
Calculating approximation of CellTrails manifold for 2D visualization...
Used tSNE perplexity: 30
Computing adjacency matrix ...
Computing spectral embedding ...
Calculating approximation of CellTrails manifold for 2D visualization...
Used tSNE perplexity: 30
Initialized 20 clusters with a minimum size of 1 sample(s) each.
Performing post-hoc test ...
Found 1 states.
Initialized 20 clusters with a minimum size of 1 sample(s) each.
Performing post-hoc test ...
Found 1 states.
Initialized 0 clusters with a minimum size of 1000 sample(s) each.
Initialized 20 clusters with a minimum size of 1 sample(s) each.
Performing post-hoc test ...
Found 20 states.
Initialized 20 clusters with a minimum size of 1 sample(s) each.
Performing post-hoc test ...
Found 1 states.
Initialized 20 clusters with a minimum size of 1 sample(s) each.
Performing post-hoc test ...
Found 19 states.
Initialized 20 clusters with a minimum size of 1 sample(s) each.
Performing post-hoc test ...
Found 5 states.
Initialized 20 clusters with a minimum size of 1 sample(s) each.
Performing post-hoc test ...
Found 5 states.
Computing adjacency matrix ...
Computing spectral embedding ...
Calculating approximation of CellTrails manifold for 2D visualization...
Used tSNE perplexity: 30
Initialized 20 clusters with a minimum size of 1 sample(s) each.
Performing post-hoc test ...
Found 5 states.
Calculating layout of state trajectory graph component 1...
Computing adjacency matrix ...
Computing spectral embedding ...
Calculating approximation of CellTrails manifold for 2D visualization...
Used tSNE perplexity: 30
Initialized 20 clusters with a minimum size of 1 sample(s) each.
Performing post-hoc test ...
Found 5 states.
Calculating layout of state trajectory graph component 1...
Computing adjacency matrix ...
Computing spectral embedding ...
Calculating approximation of CellTrails manifold for 2D visualization...
Used tSNE perplexity: 30
Initialized 20 clusters with a minimum size of 1 sample(s) each.
Performing post-hoc test ...
Found 5 states.
Calculating layout of state trajectory graph component 1...
Calculating 2D approximation of CellTrails manifold...
Calculating layout of state trajectory graph component 1...
Calculating layout of state trajectory graph component 2...
Calculating layout of state trajectory graph ...
Computing adjacency matrix ...
Computing spectral embedding ...
Calculating approximation of CellTrails manifold for 2D visualization...
Used tSNE perplexity: 30
Initialized 20 clusters with a minimum size of 1 sample(s) each.
Performing post-hoc test ...
Found 5 states.
Calculating layout of state trajectory graph component 1...
RUNIT TEST PROTOCOL -- Sat Oct 17 02:34:43 2020
***********************************************
Number of test functions: 18
Number of errors: 0
Number of failures: 0
1 Test Suite :
CellTrails RUnit Tests - 18 test functions, 0 errors, 0 failures
Number of test functions: 18
Number of errors: 0
Number of failures: 0
>
> proc.time()
user system elapsed
34.10 0.73 36.57
|
|
CellTrails.Rcheck/examples_i386/CellTrails-Ex.timings
|
CellTrails.Rcheck/examples_x64/CellTrails-Ex.timings
|