| Back to Multiple platform build/check report for BioC 3.11 |
|
This page was generated on 2020-10-17 11:56:21 -0400 (Sat, 17 Oct 2020).
| TO THE DEVELOPERS/MAINTAINERS OF THE CNVtools PACKAGE: Please make sure to use the following settings in order to reproduce any error or warning you see on this page. |
| Package 340/1905 | Hostname | OS / Arch | INSTALL | BUILD | CHECK | BUILD BIN | ||||||
| CNVtools 1.82.0 Chris Barnes
| malbec2 | Linux (Ubuntu 18.04.4 LTS) / x86_64 | OK | ERROR | skipped | |||||||
| tokay2 | Windows Server 2012 R2 Standard / x64 | [ OK ] | ERROR | skipped | skipped | |||||||
| machv2 | macOS 10.14.6 Mojave / x86_64 | OK | ERROR | skipped | skipped |
| Package: CNVtools |
| Version: 1.82.0 |
| Command: C:\cygwin\bin\curl.exe -O https://malbec2.bioconductor.org/BBS/3.11/bioc/src/contrib/CNVtools_1.82.0.tar.gz && rm -rf CNVtools.buildbin-libdir && mkdir CNVtools.buildbin-libdir && C:\Users\biocbuild\bbs-3.11-bioc\R\bin\R.exe CMD INSTALL --merge-multiarch --build --library=CNVtools.buildbin-libdir CNVtools_1.82.0.tar.gz && C:\Users\biocbuild\bbs-3.11-bioc\R\bin\R.exe CMD INSTALL CNVtools_1.82.0.zip && rm CNVtools_1.82.0.tar.gz CNVtools_1.82.0.zip |
| StartedAt: 2020-10-16 19:04:09 -0400 (Fri, 16 Oct 2020) |
| EndedAt: 2020-10-16 19:05:46 -0400 (Fri, 16 Oct 2020) |
| EllapsedTime: 97.0 seconds |
| RetCode: 0 |
| Status: OK |
##############################################################################
##############################################################################
###
### Running command:
###
### C:\cygwin\bin\curl.exe -O https://malbec2.bioconductor.org/BBS/3.11/bioc/src/contrib/CNVtools_1.82.0.tar.gz && rm -rf CNVtools.buildbin-libdir && mkdir CNVtools.buildbin-libdir && C:\Users\biocbuild\bbs-3.11-bioc\R\bin\R.exe CMD INSTALL --merge-multiarch --build --library=CNVtools.buildbin-libdir CNVtools_1.82.0.tar.gz && C:\Users\biocbuild\bbs-3.11-bioc\R\bin\R.exe CMD INSTALL CNVtools_1.82.0.zip && rm CNVtools_1.82.0.tar.gz CNVtools_1.82.0.zip
###
##############################################################################
##############################################################################
% Total % Received % Xferd Average Speed Time Time Time Current
Dload Upload Total Spent Left Speed
0 0 0 0 0 0 0 0 --:--:-- --:--:-- --:--:-- 0
100 468k 100 468k 0 0 6962k 0 --:--:-- --:--:-- --:--:-- 7673k
install for i386
* installing *source* package 'CNVtools' ...
** using staged installation
** libs
"C:/rtools40/mingw32/bin/"g++ -std=gnu++11 -I"C:/Users/BIOCBU~1/BBS-3~1.11-/R/include" -DNDEBUG -I"C:/extsoft/include" -O2 -Wall -mfpmath=sse -msse2 -mstackrealign -c fitmodel.cpp -o fitmodel.o
In file included from fitmodel.cpp:9:
gmath.h: In function 'double gmath::psi(double)':
gmath.h:204:5: warning: this 'if' clause does not guard... [-Wmisleading-indentation]
if (x < 0.0)
^~
gmath.h:206:9: note: ...this statement, but the latter is misleadingly indented as if it were guarded by the 'if'
return ps;
^~~~~~
"C:/rtools40/mingw32/bin/"g++ -std=gnu++11 -I"C:/Users/BIOCBU~1/BBS-3~1.11-/R/include" -DNDEBUG -I"C:/extsoft/include" -O2 -Wall -mfpmath=sse -msse2 -mstackrealign -c glm_test.cpp -o glm_test.o
"C:/rtools40/mingw32/bin/"g++ -std=gnu++11 -I"C:/Users/BIOCBU~1/BBS-3~1.11-/R/include" -DNDEBUG -I"C:/extsoft/include" -O2 -Wall -mfpmath=sse -msse2 -mstackrealign -c mla.cpp -o mla.o
"C:/rtools40/mingw32/bin/"g++ -std=gnu++11 -I"C:/Users/BIOCBU~1/BBS-3~1.11-/R/include" -DNDEBUG -I"C:/extsoft/include" -O2 -Wall -mfpmath=sse -msse2 -mstackrealign -c routine.cpp -o routine.o
"C:/rtools40/mingw32/bin/"gcc -I"C:/Users/BIOCBU~1/BBS-3~1.11-/R/include" -DNDEBUG -I"C:/extsoft/include" -O2 -Wall -std=gnu99 -mfpmath=sse -msse2 -mstackrealign -c zeroin.c -o zeroin.o
C:/rtools40/mingw32/bin/g++ -std=gnu++11 -shared -s -static-libgcc -o CNVtools.dll tmp.def fitmodel.o glm_test.o mla.o routine.o zeroin.o -LC:/extsoft/lib/i386 -LC:/extsoft/lib -LC:/Users/BIOCBU~1/BBS-3~1.11-/R/bin/i386 -lR
installing to C:/Users/biocbuild/bbs-3.11-bioc/meat/CNVtools.buildbin-libdir/00LOCK-CNVtools/00new/CNVtools/libs/i386
** R
** data
** byte-compile and prepare package for lazy loading
** help
*** installing help indices
converting help for package 'CNVtools'
finding HTML links ... done
A112 html
CNV.fitModel html
CNVtest.binary html
CNVtest.binary.T html
CNVtest.qt html
CNVtest.qt.T html
CNVtest.select.model html
CNVtools-package html
EM.starting.point html
ExpandData html
apply.ldf html
apply.pca html
cnv.plot html
compact.data.frame html
get.model.spec html
getQualityScore html
getparams html
qt.plot html
test.posterior html
** building package indices
** installing vignettes
** testing if installed package can be loaded from temporary location
** testing if installed package can be loaded from final location
** testing if installed package keeps a record of temporary installation path
install for x64
* installing *source* package 'CNVtools' ...
** libs
"C:/rtools40/mingw64/bin/"g++ -std=gnu++11 -I"C:/Users/BIOCBU~1/BBS-3~1.11-/R/include" -DNDEBUG -I"C:/extsoft/include" -O2 -Wall -mfpmath=sse -msse2 -mstackrealign -c fitmodel.cpp -o fitmodel.o
In file included from fitmodel.cpp:9:
gmath.h: In function 'double gmath::psi(double)':
gmath.h:204:5: warning: this 'if' clause does not guard... [-Wmisleading-indentation]
if (x < 0.0)
^~
gmath.h:206:9: note: ...this statement, but the latter is misleadingly indented as if it were guarded by the 'if'
return ps;
^~~~~~
"C:/rtools40/mingw64/bin/"g++ -std=gnu++11 -I"C:/Users/BIOCBU~1/BBS-3~1.11-/R/include" -DNDEBUG -I"C:/extsoft/include" -O2 -Wall -mfpmath=sse -msse2 -mstackrealign -c glm_test.cpp -o glm_test.o
"C:/rtools40/mingw64/bin/"g++ -std=gnu++11 -I"C:/Users/BIOCBU~1/BBS-3~1.11-/R/include" -DNDEBUG -I"C:/extsoft/include" -O2 -Wall -mfpmath=sse -msse2 -mstackrealign -c mla.cpp -o mla.o
"C:/rtools40/mingw64/bin/"g++ -std=gnu++11 -I"C:/Users/BIOCBU~1/BBS-3~1.11-/R/include" -DNDEBUG -I"C:/extsoft/include" -O2 -Wall -mfpmath=sse -msse2 -mstackrealign -c routine.cpp -o routine.o
"C:/rtools40/mingw64/bin/"gcc -I"C:/Users/BIOCBU~1/BBS-3~1.11-/R/include" -DNDEBUG -I"C:/extsoft/include" -O2 -Wall -std=gnu99 -mfpmath=sse -msse2 -mstackrealign -c zeroin.c -o zeroin.o
C:/rtools40/mingw64/bin/g++ -std=gnu++11 -shared -s -static-libgcc -o CNVtools.dll tmp.def fitmodel.o glm_test.o mla.o routine.o zeroin.o -LC:/extsoft/lib/x64 -LC:/extsoft/lib -LC:/Users/BIOCBU~1/BBS-3~1.11-/R/bin/x64 -lR
installing to C:/Users/biocbuild/bbs-3.11-bioc/meat/CNVtools.buildbin-libdir/CNVtools/libs/x64
** testing if installed package can be loaded
* MD5 sums
packaged installation of 'CNVtools' as CNVtools_1.82.0.zip
* DONE (CNVtools)
* installing to library 'C:/Users/biocbuild/bbs-3.11-bioc/R/library'
package 'CNVtools' successfully unpacked and MD5 sums checked