| Back to Multiple platform build/check report for BioC 3.11 |
|
This page was generated on 2020-10-17 11:56:21 -0400 (Sat, 17 Oct 2020).
| TO THE DEVELOPERS/MAINTAINERS OF THE CNTools PACKAGE: Please make sure to use the following settings in order to reproduce any error or warning you see on this page. |
| Package 334/1905 | Hostname | OS / Arch | INSTALL | BUILD | CHECK | BUILD BIN | ||||||
| CNTools 1.44.0 J. Zhang
| malbec2 | Linux (Ubuntu 18.04.4 LTS) / x86_64 | OK | OK | OK | |||||||
| tokay2 | Windows Server 2012 R2 Standard / x64 | OK | OK | OK | [ OK ] | |||||||
| machv2 | macOS 10.14.6 Mojave / x86_64 | OK | OK | OK | OK |
| Package: CNTools |
| Version: 1.44.0 |
| Command: rm -rf CNTools.buildbin-libdir && mkdir CNTools.buildbin-libdir && C:\Users\biocbuild\bbs-3.11-bioc\R\bin\R.exe CMD INSTALL --merge-multiarch --build --library=CNTools.buildbin-libdir CNTools_1.44.0.tar.gz |
| StartedAt: 2020-10-17 10:09:24 -0400 (Sat, 17 Oct 2020) |
| EndedAt: 2020-10-17 10:10:26 -0400 (Sat, 17 Oct 2020) |
| EllapsedTime: 61.7 seconds |
| RetCode: 0 |
| Status: OK |
| PackageFile: CNTools_1.44.0.zip |
| PackageFileSize: 1.118 MiB |
##############################################################################
##############################################################################
###
### Running command:
###
### rm -rf CNTools.buildbin-libdir && mkdir CNTools.buildbin-libdir && C:\Users\biocbuild\bbs-3.11-bioc\R\bin\R.exe CMD INSTALL --merge-multiarch --build --library=CNTools.buildbin-libdir CNTools_1.44.0.tar.gz
###
##############################################################################
##############################################################################
install for i386
* installing *source* package 'CNTools' ...
** using staged installation
** libs
"C:/rtools40/mingw32/bin/"gcc -I"C:/Users/BIOCBU~1/BBS-3~1.11-/R/include" -DNDEBUG -I"C:/extsoft/include" -O2 -Wall -std=gnu99 -mfpmath=sse -msse2 -mstackrealign -c getratios.c -o getratios.o
C:/rtools40/mingw32/bin/gcc -shared -s -static-libgcc -o CNTools.dll tmp.def getratios.o -LC:/extsoft/lib/i386 -LC:/extsoft/lib -LC:/Users/BIOCBU~1/BBS-3~1.11-/R/bin/i386 -lR
installing to C:/Users/biocbuild/bbs-3.11-bioc/meat/CNTools.buildbin-libdir/00LOCK-CNTools/00new/CNTools/libs/i386
** R
** data
** inst
** byte-compile and prepare package for lazy loading
Creating a new generic function for 'start' in package 'CNTools'
Creating a new generic function for 'end' in package 'CNTools'
Creating a generic function for 'genefilter' from package 'genefilter' in package 'CNTools'
** help
*** installing help indices
converting help for package 'CNTools'
finding HTML links ... done
CNSeg-class html
RS-class html
cor-methods html
diffBy-methods html
dist-methods html
genefilter-methods html
getRS-methods html
madFilter-methods html
** building package indices
** installing vignettes
** testing if installed package can be loaded from temporary location
** testing if installed package can be loaded from final location
** testing if installed package keeps a record of temporary installation path
install for x64
* installing *source* package 'CNTools' ...
** libs
"C:/rtools40/mingw64/bin/"gcc -I"C:/Users/BIOCBU~1/BBS-3~1.11-/R/include" -DNDEBUG -I"C:/extsoft/include" -O2 -Wall -std=gnu99 -mfpmath=sse -msse2 -mstackrealign -c getratios.c -o getratios.o
C:/rtools40/mingw64/bin/gcc -shared -s -static-libgcc -o CNTools.dll tmp.def getratios.o -LC:/extsoft/lib/x64 -LC:/extsoft/lib -LC:/Users/BIOCBU~1/BBS-3~1.11-/R/bin/x64 -lR
installing to C:/Users/biocbuild/bbs-3.11-bioc/meat/CNTools.buildbin-libdir/CNTools/libs/x64
** testing if installed package can be loaded
* MD5 sums
packaged installation of 'CNTools' as CNTools_1.44.0.zip
* DONE (CNTools)