| Back to Multiple platform build/check report for BioC 3.11 |
|
This page was generated on 2020-10-17 11:58:16 -0400 (Sat, 17 Oct 2020).
| TO THE DEVELOPERS/MAINTAINERS OF THE CNORfuzzy PACKAGE: Please make sure to use the following settings in order to reproduce any error or warning you see on this page. |
| Package 332/1905 | Hostname | OS / Arch | INSTALL | BUILD | CHECK | BUILD BIN | ||||||
| CNORfuzzy 1.30.0 T. Cokelaer
| malbec2 | Linux (Ubuntu 18.04.4 LTS) / x86_64 | OK | OK | OK | |||||||
| tokay2 | Windows Server 2012 R2 Standard / x64 | OK | OK | OK | OK | |||||||
| machv2 | macOS 10.14.6 Mojave / x86_64 | [ OK ] | OK | OK | OK |
| Package: CNORfuzzy |
| Version: 1.30.0 |
| Command: /Library/Frameworks/R.framework/Versions/Current/Resources/bin/R CMD INSTALL CNORfuzzy |
| StartedAt: 2020-10-16 16:45:49 -0400 (Fri, 16 Oct 2020) |
| EndedAt: 2020-10-16 16:46:19 -0400 (Fri, 16 Oct 2020) |
| EllapsedTime: 30.1 seconds |
| RetCode: 0 |
| Status: OK |
##############################################################################
##############################################################################
###
### Running command:
###
### /Library/Frameworks/R.framework/Versions/Current/Resources/bin/R CMD INSTALL CNORfuzzy
###
##############################################################################
##############################################################################
* installing to library ‘/Library/Frameworks/R.framework/Versions/4.0/Resources/library’
* installing *source* package ‘CNORfuzzy’ ...
** using staged installation
** libs
clang -mmacosx-version-min=10.13 -I"/Library/Frameworks/R.framework/Resources/include" -DNDEBUG -I/usr/local/include -fPIC -Wall -g -O2 -c simulatorT1.c -o simulatorT1.o
simulatorT1.c:320:28: warning: equality comparison with extraneous parentheses [-Wparentheses-equality]
if((track_cond == nCond)) {
~~~~~~~~~~~^~~~~~~~
simulatorT1.c:320:28: note: remove extraneous parentheses around the comparison to silence this warning
if((track_cond == nCond)) {
~ ^ ~
simulatorT1.c:320:28: note: use '=' to turn this equality comparison into an assignment
if((track_cond == nCond)) {
^~
=
1 warning generated.
clang -mmacosx-version-min=10.13 -dynamiclib -Wl,-headerpad_max_install_names -undefined dynamic_lookup -single_module -multiply_defined suppress -L/Library/Frameworks/R.framework/Resources/lib -L/usr/local/lib -o CNORfuzzy.so simulatorT1.o -F/Library/Frameworks/R.framework/.. -framework R -Wl,-framework -Wl,CoreFoundation
installing to /Library/Frameworks/R.framework/Versions/4.0/Resources/library/00LOCK-CNORfuzzy/00new/CNORfuzzy/libs
** R
** inst
** byte-compile and prepare package for lazy loading
** help
*** installing help indices
** building package indices
** installing vignettes
** testing if installed package can be loaded from temporary location
** checking absolute paths in shared objects and dynamic libraries
** testing if installed package can be loaded from final location
** testing if installed package keeps a record of temporary installation path
* DONE (CNORfuzzy)