| Back to Multiple platform build/check report for BioC 3.11 |
|
This page was generated on 2020-10-17 11:56:20 -0400 (Sat, 17 Oct 2020).
| TO THE DEVELOPERS/MAINTAINERS OF THE CNORfeeder PACKAGE: Please make sure to use the following settings in order to reproduce any error or warning you see on this page. |
| Package 331/1905 | Hostname | OS / Arch | INSTALL | BUILD | CHECK | BUILD BIN | ||||||
| CNORfeeder 1.28.0 E.Gjerga
| malbec2 | Linux (Ubuntu 18.04.4 LTS) / x86_64 | OK | OK | OK | |||||||
| tokay2 | Windows Server 2012 R2 Standard / x64 | OK | OK | OK | [ OK ] | |||||||
| machv2 | macOS 10.14.6 Mojave / x86_64 | OK | OK | OK | OK |
| Package: CNORfeeder |
| Version: 1.28.0 |
| Command: rm -rf CNORfeeder.buildbin-libdir && mkdir CNORfeeder.buildbin-libdir && C:\Users\biocbuild\bbs-3.11-bioc\R\bin\R.exe CMD INSTALL --merge-multiarch --build --library=CNORfeeder.buildbin-libdir CNORfeeder_1.28.0.tar.gz |
| StartedAt: 2020-10-17 10:09:12 -0400 (Sat, 17 Oct 2020) |
| EndedAt: 2020-10-17 10:10:09 -0400 (Sat, 17 Oct 2020) |
| EllapsedTime: 56.7 seconds |
| RetCode: 0 |
| Status: OK |
| PackageFile: CNORfeeder_1.28.0.zip |
| PackageFileSize: 2.058 MiB |
##############################################################################
##############################################################################
###
### Running command:
###
### rm -rf CNORfeeder.buildbin-libdir && mkdir CNORfeeder.buildbin-libdir && C:\Users\biocbuild\bbs-3.11-bioc\R\bin\R.exe CMD INSTALL --merge-multiarch --build --library=CNORfeeder.buildbin-libdir CNORfeeder_1.28.0.tar.gz
###
##############################################################################
##############################################################################
install for i386
* installing *source* package 'CNORfeeder' ...
** using staged installation
** R
** data
** inst
** byte-compile and prepare package for lazy loading
** help
*** installing help indices
converting help for package 'CNORfeeder'
finding HTML links ... done
Binference html
finding level-2 HTML links ... done
CNORfeeder-package html
MIinference html
PPINigraph html
UniprotIDdream html
buildFeederObjectDynamic html
cnolist html
database html
feederObject html
gaBinaryT1W html
identifyMisfitIndices html
indices html
integrateLinks html
integratedModel html
linksRanking html
makeBTables html
mapBTables2model html
mapDDN2model html
model html
runDynamicFeeder html
simData html
weighting html
** building package indices
** installing vignettes
** testing if installed package can be loaded from temporary location
** testing if installed package can be loaded from final location
** testing if installed package keeps a record of temporary installation path
install for x64
* installing *source* package 'CNORfeeder' ...
** testing if installed package can be loaded
* MD5 sums
packaged installation of 'CNORfeeder' as CNORfeeder_1.28.0.zip
* DONE (CNORfeeder)