| Back to Multiple platform build/check report for BioC 3.11 |
|
This page was generated on 2020-10-17 11:58:16 -0400 (Sat, 17 Oct 2020).
| TO THE DEVELOPERS/MAINTAINERS OF THE CNORdt PACKAGE: Please make sure to use the following settings in order to reproduce any error or warning you see on this page. |
| Package 330/1905 | Hostname | OS / Arch | INSTALL | BUILD | CHECK | BUILD BIN | ||||||
| CNORdt 1.30.0 A. MacNamara
| malbec2 | Linux (Ubuntu 18.04.4 LTS) / x86_64 | OK | OK | OK | |||||||
| tokay2 | Windows Server 2012 R2 Standard / x64 | OK | OK | OK | OK | |||||||
| machv2 | macOS 10.14.6 Mojave / x86_64 | OK | OK | OK | [ OK ] |
| Package: CNORdt |
| Version: 1.30.0 |
| Command: rm -rf CNORdt.buildbin-libdir && mkdir CNORdt.buildbin-libdir && /Users/biocbuild/BBS/utils/build-universal.sh CNORdt_1.30.0.tar.gz /Library/Frameworks/R.framework/Versions/Current/Resources/bin/R CNORdt.buildbin-libdir |
| StartedAt: 2020-10-17 06:49:27 -0400 (Sat, 17 Oct 2020) |
| EndedAt: 2020-10-17 06:50:01 -0400 (Sat, 17 Oct 2020) |
| EllapsedTime: 34.0 seconds |
| RetCode: 0 |
| Status: OK |
| PackageFile: CNORdt_1.30.0.tgz |
| PackageFileSize: 246.2 KiB |
##############################################################################
##############################################################################
###
### Running command:
###
### rm -rf CNORdt.buildbin-libdir && mkdir CNORdt.buildbin-libdir && /Users/biocbuild/BBS/utils/build-universal.sh CNORdt_1.30.0.tar.gz /Library/Frameworks/R.framework/Versions/Current/Resources/bin/R CNORdt.buildbin-libdir
###
##############################################################################
##############################################################################
>>>>>>>
>>>>>>> INSTALLATION WITH 'R CMD INSTALL --preclean --no-multiarch --library=CNORdt.buildbin-libdir CNORdt_1.30.0.tar.gz'
>>>>>>>
* installing *source* package ‘CNORdt’ ...
** using staged installation
** libs
clang -mmacosx-version-min=10.13 -I"/Library/Frameworks/R.framework/Resources/include" -DNDEBUG -I/usr/local/include -fPIC -Wall -g -O2 -c simulatorDT.c -o simulatorDT.o
simulatorDT.c:243:19: warning: equality comparison with extraneous parentheses [-Wparentheses-equality]
if((track_cond == nCond)) {
~~~~~~~~~~~^~~~~~~~
simulatorDT.c:243:19: note: remove extraneous parentheses around the comparison to silence this warning
if((track_cond == nCond)) {
~ ^ ~
simulatorDT.c:243:19: note: use '=' to turn this equality comparison into an assignment
if((track_cond == nCond)) {
^~
=
simulatorDT.c:53:6: warning: unused variable 'nSignals' [-Wunused-variable]
int nSignals = INTEGER(nSignals_in)[0];
^
simulatorDT.c:55:6: warning: unused variable 'nTimes' [-Wunused-variable]
int nTimes = INTEGER(nTimes_in)[0];
^
3 warnings generated.
clang -mmacosx-version-min=10.13 -dynamiclib -Wl,-headerpad_max_install_names -undefined dynamic_lookup -single_module -multiply_defined suppress -L/Library/Frameworks/R.framework/Resources/lib -L/usr/local/lib -o CNORdt.so simulatorDT.o -F/Library/Frameworks/R.framework/.. -framework R -Wl,-framework -Wl,CoreFoundation
installing to /Users/biocbuild/bbs-3.11-bioc/meat/CNORdt.buildbin-libdir/00LOCK-CNORdt/00new/CNORdt/libs
** R
** data
** inst
** byte-compile and prepare package for lazy loading
** help
*** installing help indices
** building package indices
** installing vignettes
** testing if installed package can be loaded from temporary location
** checking absolute paths in shared objects and dynamic libraries
** testing if installed package can be loaded from final location
** testing if installed package keeps a record of temporary installation path
* DONE (CNORdt)
>>>>>>>
>>>>>>> FIXING LINKS FOR CNORdt.buildbin-libdir/CNORdt/libs/CNORdt.so
>>>>>>>
install_name_tool -change "/usr/local/lib/libgcc_s.1.dylib" "/Library/Frameworks/R.framework/Versions/4.0/Resources/lib/libgcc_s.1.dylib" "CNORdt.buildbin-libdir/CNORdt/libs/CNORdt.so"
install_name_tool -change "/usr/local/lib/libgfortran.5.dylib" "/Library/Frameworks/R.framework/Versions/4.0/Resources/lib/libgfortran.5.dylib" "CNORdt.buildbin-libdir/CNORdt/libs/CNORdt.so"
install_name_tool -change "/usr/local/lib/libquadmath.0.dylib" "/Library/Frameworks/R.framework/Versions/4.0/Resources/lib/libquadmath.0.dylib" "CNORdt.buildbin-libdir/CNORdt/libs/CNORdt.so"