| Back to Multiple platform build/check report for BioC 3.11 |
|
This page was generated on 2020-10-17 11:58:11 -0400 (Sat, 17 Oct 2020).
| TO THE DEVELOPERS/MAINTAINERS OF THE CHARGE PACKAGE: Please make sure to use the following settings in order to reproduce any error or warning you see on this page. |
| Package 270/1905 | Hostname | OS / Arch | INSTALL | BUILD | CHECK | BUILD BIN | ||||||
| CHARGE 1.8.0 Benjamin Mayne
| malbec2 | Linux (Ubuntu 18.04.4 LTS) / x86_64 | ERROR | ERROR | skipped | |||||||
| tokay2 | Windows Server 2012 R2 Standard / x64 | ERROR | ERROR | skipped | skipped | |||||||
| machv2 | macOS 10.14.6 Mojave / x86_64 | ERROR | [ ERROR ] | skipped | skipped |
| Package: CHARGE |
| Version: 1.8.0 |
| Command: /Library/Frameworks/R.framework/Versions/Current/Resources/bin/R CMD build --keep-empty-dirs --no-resave-data CHARGE |
| StartedAt: 2020-10-16 18:13:17 -0400 (Fri, 16 Oct 2020) |
| EndedAt: 2020-10-16 18:13:25 -0400 (Fri, 16 Oct 2020) |
| EllapsedTime: 7.2 seconds |
| RetCode: 1 |
| Status: ERROR |
| PackageFile: None |
| PackageFileSize: NA |
##############################################################################
##############################################################################
###
### Running command:
###
### /Library/Frameworks/R.framework/Versions/Current/Resources/bin/R CMD build --keep-empty-dirs --no-resave-data CHARGE
###
##############################################################################
##############################################################################
* checking for file ‘CHARGE/DESCRIPTION’ ... OK
* preparing ‘CHARGE’:
* checking DESCRIPTION meta-information ... OK
* installing the package to build vignettes
-----------------------------------
ERROR: dependency ‘modes’ is not available for package ‘CHARGE’
* removing ‘/private/tmp/Rtmp121PKE/Rinst15aaa305991fa/CHARGE’
-----------------------------------
ERROR: package installation failed