| Back to Multiple platform build/check report for BioC 3.11 |
|
This page was generated on 2020-10-17 11:58:09 -0400 (Sat, 17 Oct 2020).
| TO THE DEVELOPERS/MAINTAINERS OF THE CAGEfightR PACKAGE: Please make sure to use the following settings in order to reproduce any error or warning you see on this page. |
| Package 218/1905 | Hostname | OS / Arch | INSTALL | BUILD | CHECK | BUILD BIN | ||||||
| CAGEfightR 1.8.0 Malte Thodberg
| malbec2 | Linux (Ubuntu 18.04.4 LTS) / x86_64 | OK | OK | OK | |||||||
| tokay2 | Windows Server 2012 R2 Standard / x64 | OK | OK | OK | OK | |||||||
| machv2 | macOS 10.14.6 Mojave / x86_64 | OK | OK | [ OK ] | OK |
| Package: CAGEfightR |
| Version: 1.8.0 |
| Command: /Library/Frameworks/R.framework/Versions/Current/Resources/bin/R CMD check --install=check:CAGEfightR.install-out.txt --library=/Library/Frameworks/R.framework/Versions/Current/Resources/library --no-vignettes --timings CAGEfightR_1.8.0.tar.gz |
| StartedAt: 2020-10-16 23:18:14 -0400 (Fri, 16 Oct 2020) |
| EndedAt: 2020-10-16 23:27:02 -0400 (Fri, 16 Oct 2020) |
| EllapsedTime: 528.4 seconds |
| RetCode: 0 |
| Status: OK |
| CheckDir: CAGEfightR.Rcheck |
| Warnings: 0 |
##############################################################################
##############################################################################
###
### Running command:
###
### /Library/Frameworks/R.framework/Versions/Current/Resources/bin/R CMD check --install=check:CAGEfightR.install-out.txt --library=/Library/Frameworks/R.framework/Versions/Current/Resources/library --no-vignettes --timings CAGEfightR_1.8.0.tar.gz
###
##############################################################################
##############################################################################
* using log directory ‘/Users/biocbuild/bbs-3.11-bioc/meat/CAGEfightR.Rcheck’
* using R version 4.0.3 (2020-10-10)
* using platform: x86_64-apple-darwin17.0 (64-bit)
* using session charset: UTF-8
* using option ‘--no-vignettes’
* checking for file ‘CAGEfightR/DESCRIPTION’ ... OK
* checking extension type ... Package
* this is package ‘CAGEfightR’ version ‘1.8.0’
* package encoding: UTF-8
* checking package namespace information ... OK
* checking package dependencies ... OK
* checking if this is a source package ... OK
* checking if there is a namespace ... OK
* checking for hidden files and directories ... OK
* checking for portable file names ... OK
* checking for sufficient/correct file permissions ... OK
* checking whether package ‘CAGEfightR’ can be installed ... OK
* checking installed package size ... OK
* checking package directory ... OK
* checking ‘build’ directory ... OK
* checking DESCRIPTION meta-information ... OK
* checking top-level files ... OK
* checking for left-over files ... OK
* checking index information ... OK
* checking package subdirectories ... OK
* checking R files for non-ASCII characters ... OK
* checking R files for syntax errors ... OK
* checking whether the package can be loaded ... OK
* checking whether the package can be loaded with stated dependencies ... OK
* checking whether the package can be unloaded cleanly ... OK
* checking whether the namespace can be loaded with stated dependencies ... OK
* checking whether the namespace can be unloaded cleanly ... OK
* checking dependencies in R code ... OK
* checking S3 generic/method consistency ... OK
* checking replacement functions ... OK
* checking foreign function calls ... OK
* checking R code for possible problems ... OK
* checking Rd files ... OK
* checking Rd metadata ... OK
* checking Rd cross-references ... OK
* checking for missing documentation entries ... OK
* checking for code/documentation mismatches ... OK
* checking Rd \usage sections ... OK
* checking Rd contents ... OK
* checking for unstated dependencies in examples ... OK
* checking contents of ‘data’ directory ... OK
* checking data for non-ASCII characters ... OK
* checking data for ASCII and uncompressed saves ... OK
* checking files in ‘vignettes’ ... OK
* checking examples ... OK
Examples with CPU (user + system) or elapsed time > 5s
user system elapsed
assignGeneID 5.483 0.141 5.704
findLinks 4.751 0.661 4.893
calcShape 5.035 0.241 5.283
* checking for unstated dependencies in vignettes ... OK
* checking package vignettes in ‘inst/doc’ ... OK
* checking running R code from vignettes ... SKIPPED
* checking re-building of vignette outputs ... SKIPPED
* checking PDF version of manual ... OK
* DONE
Status: OK
CAGEfightR.Rcheck/00install.out
############################################################################## ############################################################################## ### ### Running command: ### ### /Library/Frameworks/R.framework/Versions/Current/Resources/bin/R CMD INSTALL CAGEfightR ### ############################################################################## ############################################################################## * installing to library ‘/Library/Frameworks/R.framework/Versions/4.0/Resources/library’ * installing *source* package ‘CAGEfightR’ ... ** using staged installation ** R ** data *** moving datasets to lazyload DB ** inst ** byte-compile and prepare package for lazy loading ** help *** installing help indices ** building package indices ** installing vignettes ** testing if installed package can be loaded from temporary location ** testing if installed package can be loaded from final location ** testing if installed package keeps a record of temporary installation path * DONE (CAGEfightR)
CAGEfightR.Rcheck/CAGEfightR-Ex.timings
| name | user | system | elapsed | |
| assignGeneID | 5.483 | 0.141 | 5.704 | |
| assignMissingID | 1.949 | 0.031 | 1.986 | |
| assignTxID | 1.589 | 0.028 | 1.659 | |
| assignTxType | 0.000 | 0.001 | 0.002 | |
| balanceBC | 0.001 | 0.000 | 0.002 | |
| balanceD | 0.001 | 0.000 | 0.001 | |
| bwCommonGenome | 0.056 | 0.005 | 0.062 | |
| bwGenomeCompatibility | 0.025 | 0.003 | 0.029 | |
| bwValid | 0.009 | 0.003 | 0.013 | |
| calcBidirectionality | 0.777 | 0.037 | 0.815 | |
| calcComposition | 3.257 | 0.041 | 3.299 | |
| calcPooled | 0.214 | 0.006 | 0.220 | |
| calcShape | 5.035 | 0.241 | 5.283 | |
| calcSupport | 0.227 | 0.015 | 0.292 | |
| calcTPM | 0.249 | 0.006 | 0.262 | |
| calcTotalTags | 0.126 | 0.003 | 0.130 | |
| checkCTSSs | 0.447 | 0.007 | 0.456 | |
| checkPeaked | 0.128 | 0.003 | 0.131 | |
| checkPooled | 0.197 | 0.057 | 0.253 | |
| clusterBidirectionally | 0.000 | 0.001 | 0.001 | |
| clusterUnidirectionally | 2.484 | 0.049 | 2.534 | |
| combineClusters | 1.291 | 0.016 | 1.308 | |
| convertBAM2BigWig | 0.000 | 0.000 | 0.001 | |
| convertBED2BigWig | 0.001 | 0.000 | 0.001 | |
| convertGRanges2GPos | 0.128 | 0.001 | 0.128 | |
| exampleDesign | 0.008 | 0.012 | 0.020 | |
| findLinks | 4.751 | 0.661 | 4.893 | |
| findStretches | 0.652 | 0.072 | 0.725 | |
| quantifyCTSSs | 0.001 | 0.001 | 0.002 | |
| quantifyCTSSs2 | 0.001 | 0.001 | 0.001 | |
| quantifyClusters | 0.796 | 0.083 | 0.879 | |
| quantifyGenes | 1.949 | 0.095 | 2.046 | |
| quickEnhancers | 0 | 0 | 0 | |
| quickGenes | 0 | 0 | 0 | |
| quickTSSs | 0 | 0 | 0 | |
| shapeEntropy | 0.000 | 0.000 | 0.001 | |
| shapeIQR | 0.000 | 0.000 | 0.001 | |
| shapeMean | 0.001 | 0.001 | 0.001 | |
| shapeMultimodality | 0 | 0 | 0 | |
| subsetByBidirectionality | 0.673 | 0.039 | 0.714 | |
| subsetByComposition | 1.964 | 0.038 | 2.008 | |
| subsetBySupport | 0.176 | 0.004 | 0.181 | |
| swapRanges | 0.335 | 0.012 | 0.347 | |
| swapScores | 0.204 | 0.013 | 0.217 | |
| trackBalance | 0 | 0 | 0 | |
| trackCTSS | 4.262 | 0.216 | 4.484 | |
| trackClusters | 2.807 | 0.028 | 2.836 | |
| trackLinks | 1.506 | 0.326 | 1.654 | |
| trimToPeak | 1.545 | 0.146 | 1.695 | |
| trimToPercentiles | 3.678 | 0.045 | 3.764 | |
| tuneTagClustering | 0.000 | 0.001 | 0.001 | |
| utilsAggregateRows | 0.904 | 0.734 | 1.638 | |
| utilsDeStrand | 0.216 | 0.005 | 0.221 | |
| utilsScoreOverlaps | 0.119 | 0.001 | 0.120 | |
| utilsSimplifyTxDb | 0.000 | 0.000 | 0.002 | |