| Back to Multiple platform build/check report for BioC 3.11 |
|
This page was generated on 2020-10-17 11:56:11 -0400 (Sat, 17 Oct 2020).
| TO THE DEVELOPERS/MAINTAINERS OF THE BubbleTree PACKAGE: Please make sure to use the following settings in order to reproduce any error or warning you see on this page. |
| Package 209/1905 | Hostname | OS / Arch | INSTALL | BUILD | CHECK | BUILD BIN | ||||||
| BubbleTree 2.18.0 Todd Creasy
| malbec2 | Linux (Ubuntu 18.04.4 LTS) / x86_64 | OK | OK | OK | |||||||
| tokay2 | Windows Server 2012 R2 Standard / x64 | OK | OK | OK | [ OK ] | |||||||
| machv2 | macOS 10.14.6 Mojave / x86_64 | OK | OK | OK | OK |
| Package: BubbleTree |
| Version: 2.18.0 |
| Command: rm -rf BubbleTree.buildbin-libdir && mkdir BubbleTree.buildbin-libdir && C:\Users\biocbuild\bbs-3.11-bioc\R\bin\R.exe CMD INSTALL --merge-multiarch --build --library=BubbleTree.buildbin-libdir BubbleTree_2.18.0.tar.gz |
| StartedAt: 2020-10-17 09:59:36 -0400 (Sat, 17 Oct 2020) |
| EndedAt: 2020-10-17 10:01:45 -0400 (Sat, 17 Oct 2020) |
| EllapsedTime: 128.5 seconds |
| RetCode: 0 |
| Status: OK |
| PackageFile: BubbleTree_2.18.0.zip |
| PackageFileSize: 25.85 MiB |
##############################################################################
##############################################################################
###
### Running command:
###
### rm -rf BubbleTree.buildbin-libdir && mkdir BubbleTree.buildbin-libdir && C:\Users\biocbuild\bbs-3.11-bioc\R\bin\R.exe CMD INSTALL --merge-multiarch --build --library=BubbleTree.buildbin-libdir BubbleTree_2.18.0.tar.gz
###
##############################################################################
##############################################################################
install for i386
* installing *source* package 'BubbleTree' ...
** using staged installation
It is recommended to use 'given' instead of 'middle'.
** R
** data
** inst
** byte-compile and prepare package for lazy loading
** help
*** installing help indices
converting help for package 'BubbleTree'
finding HTML links ... done
Annotate html
BTreePlotter html
BTreePredictor html
RBD html
RscoreTrack html
TrackPlotter html
all.somatic.lst html
allCNV.lst html
allCall.lst html
allHetero.lst html
allRBD.lst html
annoByGenesAndCyto html
bafTrack html
btcompare html
btpredict html
cancer.genes.minus2 html
centromere.dat html
cnv.gr html
cyto.gr html
drawBTree html
drawBubbles html
drawFeatures html
gene.uni.clean.gr html
getTracks html
heteroLociTrack html
hg19.seqinfo html
info html
loadRBD html
makeRBD html
mergeSnpCnv html
saveXLS html
snp.gr html
trackBTree html
vol.genes html
xyTrack html
** building package indices
** installing vignettes
** testing if installed package can be loaded from temporary location
** testing if installed package can be loaded from final location
** testing if installed package keeps a record of temporary installation path
install for x64
* installing *source* package 'BubbleTree' ...
** testing if installed package can be loaded
* MD5 sums
packaged installation of 'BubbleTree' as BubbleTree_2.18.0.zip
* DONE (BubbleTree)