| Back to Multiple platform build/check report for BioC 3.11 |
|
This page was generated on 2020-10-17 11:54:29 -0400 (Sat, 17 Oct 2020).
| TO THE DEVELOPERS/MAINTAINERS OF THE BrowserViz PACKAGE: Please make sure to use the following settings in order to reproduce any error or warning you see on this page. |
| Package 206/1905 | Hostname | OS / Arch | INSTALL | BUILD | CHECK | BUILD BIN | ||||||
| BrowserViz 2.10.0 Paul Shannon
| malbec2 | Linux (Ubuntu 18.04.4 LTS) / x86_64 | OK | [ OK ] | OK | |||||||
| tokay2 | Windows Server 2012 R2 Standard / x64 | OK | OK | OK | OK | |||||||
| machv2 | macOS 10.14.6 Mojave / x86_64 | OK | OK | OK | OK |
| Package: BrowserViz |
| Version: 2.10.0 |
| Command: /home/biocbuild/bbs-3.11-bioc/R/bin/R CMD build --keep-empty-dirs --no-resave-data BrowserViz |
| StartedAt: 2020-10-16 18:05:00 -0400 (Fri, 16 Oct 2020) |
| EndedAt: 2020-10-16 18:05:07 -0400 (Fri, 16 Oct 2020) |
| EllapsedTime: 7.2 seconds |
| RetCode: 0 |
| Status: OK |
| PackageFile: BrowserViz_2.10.0.tar.gz |
| PackageFileSize: 242.8 KiB |
############################################################################## ############################################################################## ### ### Running command: ### ### /home/biocbuild/bbs-3.11-bioc/R/bin/R CMD build --keep-empty-dirs --no-resave-data BrowserViz ### ############################################################################## ############################################################################## * checking for file ‘BrowserViz/DESCRIPTION’ ... OK * preparing ‘BrowserViz’: * checking DESCRIPTION meta-information ... OK * installing the package to build vignettes * creating vignettes ... OK * checking for LF line-endings in source and make files and shell scripts * checking for empty or unneeded directories WARNING: directory ‘BrowserViz/docs’ is empty * building ‘BrowserViz_2.10.0.tar.gz’