| Back to Multiple platform build/check report for BioC 3.11 |
|
This page was generated on 2020-10-17 11:56:09 -0400 (Sat, 17 Oct 2020).
| TO THE DEVELOPERS/MAINTAINERS OF THE BiocSklearn PACKAGE: Please make sure to use the following settings in order to reproduce any error or warning you see on this page. |
| Package 166/1905 | Hostname | OS / Arch | INSTALL | BUILD | CHECK | BUILD BIN | ||||||
| BiocSklearn 1.10.3 VJ Carey
| malbec2 | Linux (Ubuntu 18.04.4 LTS) / x86_64 | OK | OK | OK | |||||||
| tokay2 | Windows Server 2012 R2 Standard / x64 | [ OK ] | OK | OK | OK | |||||||
| machv2 | macOS 10.14.6 Mojave / x86_64 | OK | OK | OK | OK |
| Package: BiocSklearn |
| Version: 1.10.3 |
| Command: C:\Users\biocbuild\bbs-3.11-bioc\R\bin\R.exe --arch x64 CMD INSTALL --no-multiarch BiocSklearn |
| StartedAt: 2020-10-16 18:04:56 -0400 (Fri, 16 Oct 2020) |
| EndedAt: 2020-10-16 18:06:02 -0400 (Fri, 16 Oct 2020) |
| EllapsedTime: 65.7 seconds |
| RetCode: 0 |
| Status: OK |
##############################################################################
##############################################################################
###
### Running command:
###
### C:\Users\biocbuild\bbs-3.11-bioc\R\bin\R.exe --arch x64 CMD INSTALL --no-multiarch BiocSklearn
###
##############################################################################
##############################################################################
* installing to library 'C:/Users/biocbuild/bbs-3.11-bioc/R/library'
* installing *source* package 'BiocSklearn' ...
** using non-staged installation via StagedInstall field
**********************************************
WARNING: this package has a configure script
It probably needs manual configuration
**********************************************
** R
** inst
** byte-compile and prepare package for lazy loading
** help
*** installing help indices
converting help for package 'BiocSklearn'
finding HTML links ... done
H5matref html
SkDecomp-class html
SkDecomp html
SklearnEls html
h5mat html
skIncrPCA html
skIncrPCA_h5 html
skIncrPPCA html
skIncrPartialPCA html
skKMeans html
skPCA html
skPartialPCA_step html
** building package indices
** installing vignettes
** testing if installed package can be loaded
* DONE (BiocSklearn)
Making 'packages.html' ... done