| Back to Multiple platform build/check report for BioC 3.11 |
|
This page was generated on 2020-10-17 11:56:09 -0400 (Sat, 17 Oct 2020).
| TO THE DEVELOPERS/MAINTAINERS OF THE BiocPkgTools PACKAGE: Please make sure to use the following settings in order to reproduce any error or warning you see on this page. |
| Package 163/1905 | Hostname | OS / Arch | INSTALL | BUILD | CHECK | BUILD BIN | ||||||
| BiocPkgTools 1.6.0 Sean Davis
| malbec2 | Linux (Ubuntu 18.04.4 LTS) / x86_64 | OK | OK | OK | |||||||
| tokay2 | Windows Server 2012 R2 Standard / x64 | [ OK ] | OK | OK | OK | |||||||
| machv2 | macOS 10.14.6 Mojave / x86_64 | OK | OK | OK | OK |
| Package: BiocPkgTools |
| Version: 1.6.0 |
| Command: C:\cygwin\bin\curl.exe -O https://malbec2.bioconductor.org/BBS/3.11/bioc/src/contrib/BiocPkgTools_1.6.0.tar.gz && rm -rf BiocPkgTools.buildbin-libdir && mkdir BiocPkgTools.buildbin-libdir && C:\Users\biocbuild\bbs-3.11-bioc\R\bin\R.exe CMD INSTALL --merge-multiarch --build --library=BiocPkgTools.buildbin-libdir BiocPkgTools_1.6.0.tar.gz && C:\Users\biocbuild\bbs-3.11-bioc\R\bin\R.exe CMD INSTALL BiocPkgTools_1.6.0.zip && rm BiocPkgTools_1.6.0.tar.gz BiocPkgTools_1.6.0.zip |
| StartedAt: 2020-10-16 18:11:13 -0400 (Fri, 16 Oct 2020) |
| EndedAt: 2020-10-16 18:12:29 -0400 (Fri, 16 Oct 2020) |
| EllapsedTime: 76.4 seconds |
| RetCode: 0 |
| Status: OK |
##############################################################################
##############################################################################
###
### Running command:
###
### C:\cygwin\bin\curl.exe -O https://malbec2.bioconductor.org/BBS/3.11/bioc/src/contrib/BiocPkgTools_1.6.0.tar.gz && rm -rf BiocPkgTools.buildbin-libdir && mkdir BiocPkgTools.buildbin-libdir && C:\Users\biocbuild\bbs-3.11-bioc\R\bin\R.exe CMD INSTALL --merge-multiarch --build --library=BiocPkgTools.buildbin-libdir BiocPkgTools_1.6.0.tar.gz && C:\Users\biocbuild\bbs-3.11-bioc\R\bin\R.exe CMD INSTALL BiocPkgTools_1.6.0.zip && rm BiocPkgTools_1.6.0.tar.gz BiocPkgTools_1.6.0.zip
###
##############################################################################
##############################################################################
% Total % Received % Xferd Average Speed Time Time Time Current
Dload Upload Total Spent Left Speed
0 0 0 0 0 0 0 0 --:--:-- --:--:-- --:--:-- 0
100 272k 100 272k 0 0 4031k 0 --:--:-- --:--:-- --:--:-- 4402k
install for i386
* installing *source* package 'BiocPkgTools' ...
** using staged installation
** R
** inst
** byte-compile and prepare package for lazy loading
** help
*** installing help indices
converting help for package 'BiocPkgTools'
finding HTML links ... done
BiocPkgTools-cache html
BiocPkgTools html
CRANstatus html
biocBuildEmail html
biocBuildReport html
biocDownloadStats html
biocExplore html
biocPkgList html
buildPkgDependencyDataFrame html
buildPkgDependencyIgraph html
dataciteXMLGenerate html
dot-getDepGain html
firstInBioc html
generateBiocPkgDOI html
getBiocVignette html
getPackageInfo html
get_bioc_data html
githubDetails html
githubURLParts html
inducedSubgraphByPkgs html
pkgCombDependencyGain html
pkgDepImports html
pkgDepMetrics html
problemPage html
subgraphByDegree html
** building package indices
** installing vignettes
** testing if installed package can be loaded from temporary location
** testing if installed package can be loaded from final location
** testing if installed package keeps a record of temporary installation path
install for x64
* installing *source* package 'BiocPkgTools' ...
** testing if installed package can be loaded
* MD5 sums
packaged installation of 'BiocPkgTools' as BiocPkgTools_1.6.0.zip
* DONE (BiocPkgTools)
* installing to library 'C:/Users/biocbuild/bbs-3.11-bioc/R/library'
package 'BiocPkgTools' successfully unpacked and MD5 sums checked