| Back to Multiple platform build/check report for BioC 3.11 |
|
This page was generated on 2019-12-18 12:10:33 -0500 (Wed, 18 Dec 2019).
| Package 171/1808 | Hostname | OS / Arch | INSTALL | BUILD | CHECK | BUILD BIN | ||||||
| BioNet 1.47.0 Marcus Dittrich
| malbec2 | Linux (Ubuntu 18.04.3 LTS) / x86_64 | OK | OK | OK | |||||||
| tokay2 | Windows Server 2012 R2 Standard / x64 | OK | OK | OK | [ OK ] | |||||||
| celaya2 | OS X 10.11.6 El Capitan / x86_64 | OK | ERROR | skipped | skipped |
| Package: BioNet |
| Version: 1.47.0 |
| Command: rm -rf BioNet.buildbin-libdir && mkdir BioNet.buildbin-libdir && C:\Users\biocbuild\bbs-3.11-bioc\R\bin\R.exe CMD INSTALL --merge-multiarch --build --library=BioNet.buildbin-libdir BioNet_1.47.0.tar.gz |
| StartedAt: 2019-12-18 09:40:35 -0500 (Wed, 18 Dec 2019) |
| EndedAt: 2019-12-18 09:41:21 -0500 (Wed, 18 Dec 2019) |
| EllapsedTime: 46.0 seconds |
| RetCode: 0 |
| Status: OK |
| PackageFile: BioNet_1.47.0.zip |
| PackageFileSize: 1.462 MiB |
##############################################################################
##############################################################################
###
### Running command:
###
### rm -rf BioNet.buildbin-libdir && mkdir BioNet.buildbin-libdir && C:\Users\biocbuild\bbs-3.11-bioc\R\bin\R.exe CMD INSTALL --merge-multiarch --build --library=BioNet.buildbin-libdir BioNet_1.47.0.tar.gz
###
##############################################################################
##############################################################################
install for i386
* installing *source* package 'BioNet' ...
** using staged installation
** R
** data
** inst
** byte-compile and prepare package for lazy loading
** help
*** installing help indices
converting help for package 'BioNet'
finding HTML links ... done
BioNet-package html
aggrPvals html
bumOptim html
compareNetworks html
consensusScores html
fbum html
fbumLL html
fdrThreshold html
fitBumModel html
getCompScores html
getEdgeList html
hist.bum html
largestComp html
largestScoreComp html
loadNetwork.sif html
loadNetwork.tab html
makeNetwork html
mapByVar html
permutateNodes html
piUpper html
plot.bum html
plot3dModule html
plotLLSurface html
plotModule html
print.bum html
pvaluesExample html
readHeinzGraph html
readHeinzTree html
resamplingPvalues html
rmSelfLoops html
runFastHeinz html
runHeinz html
save3dModule html
saveNetwork html
scanFDR html
scoreFunction html
scoreNodes html
scoreOffset html
sortedEdgeList html
subNetwork html
summary.bum html
writeHeinz html
writeHeinzEdges html
writeHeinzNodes html
** building package indices
** installing vignettes
** testing if installed package can be loaded from temporary location
** testing if installed package can be loaded from final location
** testing if installed package keeps a record of temporary installation path
install for x64
* installing *source* package 'BioNet' ...
** testing if installed package can be loaded
* MD5 sums
packaged installation of 'BioNet' as BioNet_1.47.0.zip
* DONE (BioNet)