| Back to Multiple platform build/check report for BioC 3.11 | 
 | 
This page was generated on 2020-10-17 11:56:10 -0400 (Sat, 17 Oct 2020).
| TO THE DEVELOPERS/MAINTAINERS OF THE BioMM PACKAGE: Please make sure to use the following settings in order to reproduce any error or warning you see on this page. | 
| Package 174/1905 | Hostname | OS / Arch | INSTALL | BUILD | CHECK | BUILD BIN | ||||||
| BioMM 1.4.0 Junfang Chen 
 | malbec2 | Linux (Ubuntu 18.04.4 LTS) / x86_64 | OK | OK | OK |  | ||||||
| tokay2 | Windows Server 2012 R2 Standard / x64 | [ OK ] | OK | OK | OK |  | ||||||
| machv2 | macOS 10.14.6 Mojave / x86_64 | OK | OK | OK | OK |  | 
| Package: BioMM | 
| Version: 1.4.0 | 
| Command: C:\cygwin\bin\curl.exe -O https://malbec2.bioconductor.org/BBS/3.11/bioc/src/contrib/BioMM_1.4.0.tar.gz && rm -rf BioMM.buildbin-libdir && mkdir BioMM.buildbin-libdir && C:\Users\biocbuild\bbs-3.11-bioc\R\bin\R.exe CMD INSTALL --merge-multiarch --build --library=BioMM.buildbin-libdir BioMM_1.4.0.tar.gz && C:\Users\biocbuild\bbs-3.11-bioc\R\bin\R.exe CMD INSTALL BioMM_1.4.0.zip && rm BioMM_1.4.0.tar.gz BioMM_1.4.0.zip | 
| StartedAt: 2020-10-16 18:38:28 -0400 (Fri, 16 Oct 2020) | 
| EndedAt: 2020-10-16 18:39:13 -0400 (Fri, 16 Oct 2020) | 
| EllapsedTime: 45.7 seconds | 
| RetCode: 0 | 
| Status: OK | 
##############################################################################
##############################################################################
###
### Running command:
###
###   C:\cygwin\bin\curl.exe -O https://malbec2.bioconductor.org/BBS/3.11/bioc/src/contrib/BioMM_1.4.0.tar.gz && rm -rf BioMM.buildbin-libdir && mkdir BioMM.buildbin-libdir && C:\Users\biocbuild\bbs-3.11-bioc\R\bin\R.exe CMD INSTALL --merge-multiarch --build --library=BioMM.buildbin-libdir BioMM_1.4.0.tar.gz && C:\Users\biocbuild\bbs-3.11-bioc\R\bin\R.exe CMD INSTALL BioMM_1.4.0.zip && rm BioMM_1.4.0.tar.gz BioMM_1.4.0.zip
###
##############################################################################
##############################################################################
  % Total    % Received % Xferd  Average Speed   Time    Time     Time  Current
                                 Dload  Upload   Total   Spent    Left  Speed
  0     0    0     0    0     0      0      0 --:--:-- --:--:-- --:--:--     0
100 4064k  100 4064k    0     0  25.5M      0 --:--:-- --:--:-- --:--:-- 26.8M
install for i386
* installing *source* package 'BioMM' ...
** using staged installation
** R
** inst
** byte-compile and prepare package for lazy loading
** help
*** installing help indices
  converting help for package 'BioMM'
    finding HTML links ... done
    BioMM                                   html  
    BioMMstage2pred                         html  
    baseGLMnet                              html  
    baseModel                               html  
    baseRandForest                          html  
    baseSVM                                 html  
    cirPlot4pathway                         html  
    classifiACC                             html  
    getDataByFilter                         html  
    getMetrics                              html  
    omics2pathlist                          html  
    plotRankedFeature                       html  
    plotVarExplained                        html  
    predByBS                                html  
    predByCV                                html  
    predByFS                                html  
    reconBySupervised                       html  
    reconByUnsupervised                     html  
** building package indices
** installing vignettes
** testing if installed package can be loaded from temporary location
** testing if installed package can be loaded from final location
** testing if installed package keeps a record of temporary installation path
install for x64
* installing *source* package 'BioMM' ...
** testing if installed package can be loaded
* MD5 sums
packaged installation of 'BioMM' as BioMM_1.4.0.zip
* DONE (BioMM)
* installing to library 'C:/Users/biocbuild/bbs-3.11-bioc/R/library'
package 'BioMM' successfully unpacked and MD5 sums checked