| Back to Multiple platform build/check report for BioC 3.11 |
|
This page was generated on 2020-10-17 11:56:08 -0400 (Sat, 17 Oct 2020).
| TO THE DEVELOPERS/MAINTAINERS OF THE BgeeDB PACKAGE: Please make sure to use the following settings in order to reproduce any error or warning you see on this page. |
| Package 138/1905 | Hostname | OS / Arch | INSTALL | BUILD | CHECK | BUILD BIN | ||||||
| BgeeDB 2.14.5 Julien Wollbrett
| malbec2 | Linux (Ubuntu 18.04.4 LTS) / x86_64 | OK | OK | OK | |||||||
| tokay2 | Windows Server 2012 R2 Standard / x64 | OK | OK | OK | [ OK ] | |||||||
| machv2 | macOS 10.14.6 Mojave / x86_64 | OK | OK | OK | OK |
| Package: BgeeDB |
| Version: 2.14.5 |
| Command: rm -rf BgeeDB.buildbin-libdir && mkdir BgeeDB.buildbin-libdir && C:\Users\biocbuild\bbs-3.11-bioc\R\bin\R.exe CMD INSTALL --merge-multiarch --build --library=BgeeDB.buildbin-libdir BgeeDB_2.14.5.tar.gz |
| StartedAt: 2020-10-17 09:54:28 -0400 (Sat, 17 Oct 2020) |
| EndedAt: 2020-10-17 09:55:00 -0400 (Sat, 17 Oct 2020) |
| EllapsedTime: 32.0 seconds |
| RetCode: 0 |
| Status: OK |
| PackageFile: BgeeDB_2.14.5.zip |
| PackageFileSize: 322.5 KiB |
##############################################################################
##############################################################################
###
### Running command:
###
### rm -rf BgeeDB.buildbin-libdir && mkdir BgeeDB.buildbin-libdir && C:\Users\biocbuild\bbs-3.11-bioc\R\bin\R.exe CMD INSTALL --merge-multiarch --build --library=BgeeDB.buildbin-libdir BgeeDB_2.14.5.tar.gz
###
##############################################################################
##############################################################################
install for i386
* installing *source* package 'BgeeDB' ...
** using staged installation
** R
** data
** inst
** byte-compile and prepare package for lazy loading
groupGOTerms: GOBPTerm, GOMFTerm, GOCCTerm environments built.
** help
*** installing help indices
converting help for package 'BgeeDB'
finding HTML links ... done
Bgee-class html
deleteLocalData html
deleteOldData html
formatData html
geneList html
getAnnotation html
getData html
listBgeeRelease html
listBgeeSpecies html
loadTopAnatData html
makeTable html
topAnat html
** building package indices
** installing vignettes
** testing if installed package can be loaded from temporary location
groupGOTerms: GOBPTerm, GOMFTerm, GOCCTerm environments built.
** testing if installed package can be loaded from final location
groupGOTerms: GOBPTerm, GOMFTerm, GOCCTerm environments built.
** testing if installed package keeps a record of temporary installation path
install for x64
* installing *source* package 'BgeeDB' ...
** testing if installed package can be loaded
groupGOTerms: GOBPTerm, GOMFTerm, GOCCTerm environments built.
* MD5 sums
packaged installation of 'BgeeDB' as BgeeDB_2.14.5.zip
* DONE (BgeeDB)