| Back to Multiple platform build/check report for BioC 3.11 |
|
This page was generated on 2020-10-17 11:56:07 -0400 (Sat, 17 Oct 2020).
| TO THE DEVELOPERS/MAINTAINERS OF THE BaalChIP PACKAGE: Please make sure to use the following settings in order to reproduce any error or warning you see on this page. |
| Package 102/1905 | Hostname | OS / Arch | INSTALL | BUILD | CHECK | BUILD BIN | ||||||
| BaalChIP 1.14.0 Ines de Santiago
| malbec2 | Linux (Ubuntu 18.04.4 LTS) / x86_64 | OK | OK | WARNINGS | |||||||
| tokay2 | Windows Server 2012 R2 Standard / x64 | OK | OK | WARNINGS | [ OK ] | |||||||
| machv2 | macOS 10.14.6 Mojave / x86_64 | OK | OK | WARNINGS | OK |
| Package: BaalChIP |
| Version: 1.14.0 |
| Command: rm -rf BaalChIP.buildbin-libdir && mkdir BaalChIP.buildbin-libdir && C:\Users\biocbuild\bbs-3.11-bioc\R\bin\R.exe CMD INSTALL --merge-multiarch --build --library=BaalChIP.buildbin-libdir BaalChIP_1.14.0.tar.gz |
| StartedAt: 2020-10-17 09:52:00 -0400 (Sat, 17 Oct 2020) |
| EndedAt: 2020-10-17 09:54:36 -0400 (Sat, 17 Oct 2020) |
| EllapsedTime: 156.3 seconds |
| RetCode: 0 |
| Status: OK |
| PackageFile: BaalChIP_1.14.0.zip |
| PackageFileSize: 106.5 MiB |
##############################################################################
##############################################################################
###
### Running command:
###
### rm -rf BaalChIP.buildbin-libdir && mkdir BaalChIP.buildbin-libdir && C:\Users\biocbuild\bbs-3.11-bioc\R\bin\R.exe CMD INSTALL --merge-multiarch --build --library=BaalChIP.buildbin-libdir BaalChIP_1.14.0.tar.gz
###
##############################################################################
##############################################################################
install for i386
* installing *source* package 'BaalChIP' ...
** using staged installation
** R
** data
*** moving datasets to lazyload DB
** inst
** byte-compile and prepare package for lazy loading
** help
*** installing help indices
converting help for package 'BaalChIP'
finding HTML links ... done
BaalChIP html
BaalChIP.get html
BaalChIP.report html
BaalChIP.run html
BaalObject html
ENCODEexample html
FAIREexample html
QCfilter html
UniqueMappability50bp_hg19 html
adjustmentBaalPlot html
alleleCounts html
blacklist_hg19 html
filter1allele html
filterIntbias html
getASB html
mergePerGroup html
pickrell2011cov1_hg19 html
plotQC html
plotSimul html
summaryASB html
summaryQC html
** building package indices
** installing vignettes
** testing if installed package can be loaded from temporary location
** testing if installed package can be loaded from final location
** testing if installed package keeps a record of temporary installation path
install for x64
* installing *source* package 'BaalChIP' ...
** testing if installed package can be loaded
* MD5 sums
packaged installation of 'BaalChIP' as BaalChIP_1.14.0.zip
* DONE (BaalChIP)