| Back to Multiple platform build/check report for BioC 3.11 |
|
This page was generated on 2020-10-17 11:58:08 -0400 (Sat, 17 Oct 2020).
| TO THE DEVELOPERS/MAINTAINERS OF THE BLMA PACKAGE: Please make sure to use the following settings in order to reproduce any error or warning you see on this page. |
| Package 194/1905 | Hostname | OS / Arch | INSTALL | BUILD | CHECK | BUILD BIN | ||||||
| BLMA 1.12.0 Tin Nguyen
| malbec2 | Linux (Ubuntu 18.04.4 LTS) / x86_64 | OK | OK | OK | |||||||
| tokay2 | Windows Server 2012 R2 Standard / x64 | OK | OK | OK | OK | |||||||
| machv2 | macOS 10.14.6 Mojave / x86_64 | OK | OK | [ OK ] | OK |
| Package: BLMA |
| Version: 1.12.0 |
| Command: /Library/Frameworks/R.framework/Versions/Current/Resources/bin/R CMD check --install=check:BLMA.install-out.txt --library=/Library/Frameworks/R.framework/Versions/Current/Resources/library --no-vignettes --timings BLMA_1.12.0.tar.gz |
| StartedAt: 2020-10-16 23:11:49 -0400 (Fri, 16 Oct 2020) |
| EndedAt: 2020-10-16 23:19:26 -0400 (Fri, 16 Oct 2020) |
| EllapsedTime: 457.1 seconds |
| RetCode: 0 |
| Status: OK |
| CheckDir: BLMA.Rcheck |
| Warnings: 0 |
##############################################################################
##############################################################################
###
### Running command:
###
### /Library/Frameworks/R.framework/Versions/Current/Resources/bin/R CMD check --install=check:BLMA.install-out.txt --library=/Library/Frameworks/R.framework/Versions/Current/Resources/library --no-vignettes --timings BLMA_1.12.0.tar.gz
###
##############################################################################
##############################################################################
* using log directory ‘/Users/biocbuild/bbs-3.11-bioc/meat/BLMA.Rcheck’
* using R version 4.0.3 (2020-10-10)
* using platform: x86_64-apple-darwin17.0 (64-bit)
* using session charset: UTF-8
* using option ‘--no-vignettes’
* checking for file ‘BLMA/DESCRIPTION’ ... OK
* checking extension type ... Package
* this is package ‘BLMA’ version ‘1.12.0’
* checking package namespace information ... OK
* checking package dependencies ... NOTE
Depends: includes the non-default packages:
'ROntoTools', 'GSA', 'PADOG', 'limma', 'graph', 'parallel', 'Biobase'
Adding so many packages to the search path is excessive and importing
selectively is preferable.
* checking if this is a source package ... OK
* checking if there is a namespace ... OK
* checking for hidden files and directories ... OK
* checking for portable file names ... OK
* checking for sufficient/correct file permissions ... OK
* checking whether package ‘BLMA’ can be installed ... OK
* checking installed package size ... OK
* checking package directory ... OK
* checking ‘build’ directory ... OK
* checking DESCRIPTION meta-information ... OK
* checking top-level files ... OK
* checking for left-over files ... OK
* checking index information ... OK
* checking package subdirectories ... OK
* checking R files for non-ASCII characters ... OK
* checking R files for syntax errors ... OK
* checking whether the package can be loaded ... OK
* checking whether the package can be loaded with stated dependencies ... OK
* checking whether the package can be unloaded cleanly ... OK
* checking whether the namespace can be loaded with stated dependencies ... OK
* checking whether the namespace can be unloaded cleanly ... OK
* checking dependencies in R code ... OK
* checking S3 generic/method consistency ... OK
* checking replacement functions ... OK
* checking foreign function calls ... OK
* checking R code for possible problems ... NOTE
addCLT: warning in pnorm(mean(x), 1/2, sqrt(1/(12 * n)), lower = TRUE):
partial argument match of 'lower' to 'lower.tail'
additiveMethod: warning in pnorm(sum(x), n/2, sqrt(n/12), lower =
TRUE): partial argument match of 'lower' to 'lower.tail'
bilevelAnalysisGeneset : <anonymous>: warning in topTable(fit2, adjust
= "none", sort.by = "logFC", number = nrow(d) * percent, p.value =
pCutoff): partial argument match of 'adjust' to 'adjust.method'
bilevelAnalysisPathway : <anonymous>: warning in topTable(fit2, adjust
= "none", sort.by = "logFC", number = nrow(d) * percent, p.value =
pCutoff): partial argument match of 'adjust' to 'adjust.method'
fisherMethod: warning in pchisq(-2 * sum(log(x)), df = 2 * length(x),
lower = FALSE): partial argument match of 'lower' to 'lower.tail'
intraAnalysisGene : <anonymous>: warning in topTable(fit2, adjust =
"none", sort.by = "none", number = Inf): partial argument match of
'adjust' to 'adjust.method'
intraAnalysisGene: warning in topTable(fit2, adjust = "none", sort.by =
"none", number = Inf): partial argument match of 'adjust' to
'adjust.method'
bilevelAnalysisPathway : <anonymous>: no visible global function
definition for ‘Summary’
intraAnalysisGene: no visible binding for global variable ‘d’
Undefined global functions or variables:
Summary d
Consider adding
importFrom("methods", "Summary")
to your NAMESPACE file (and ensure that your DESCRIPTION Imports field
contains 'methods').
* checking Rd files ... OK
* checking Rd metadata ... OK
* checking Rd cross-references ... OK
* checking for missing documentation entries ... OK
* checking for code/documentation mismatches ... OK
* checking Rd \usage sections ... OK
* checking Rd contents ... OK
* checking for unstated dependencies in examples ... OK
* checking contents of ‘data’ directory ... OK
* checking data for non-ASCII characters ... OK
* checking data for ASCII and uncompressed saves ... OK
* checking sizes of PDF files under ‘inst/doc’ ... OK
* checking files in ‘vignettes’ ... OK
* checking examples ... OK
Examples with CPU (user + system) or elapsed time > 5s
user system elapsed
bilevelAnalysisGeneset 119.428 6.958 126.960
bilevelAnalysisPathway 107.792 1.119 109.041
bilevelAnalysisGene 5.655 0.129 5.795
* checking for unstated dependencies in ‘tests’ ... OK
* checking tests ...
Running ‘runTests.R’
OK
* checking for unstated dependencies in vignettes ... OK
* checking package vignettes in ‘inst/doc’ ... OK
* checking running R code from vignettes ... SKIPPED
* checking re-building of vignette outputs ... SKIPPED
* checking PDF version of manual ... OK
* DONE
Status: 2 NOTEs
See
‘/Users/biocbuild/bbs-3.11-bioc/meat/BLMA.Rcheck/00check.log’
for details.
BLMA.Rcheck/00install.out
############################################################################## ############################################################################## ### ### Running command: ### ### /Library/Frameworks/R.framework/Versions/Current/Resources/bin/R CMD INSTALL BLMA ### ############################################################################## ############################################################################## * installing to library ‘/Library/Frameworks/R.framework/Versions/4.0/Resources/library’ * installing *source* package ‘BLMA’ ... ** using staged installation ** R ** data ** inst ** byte-compile and prepare package for lazy loading ** help *** installing help indices ** building package indices ** installing vignettes ** testing if installed package can be loaded from temporary location ** testing if installed package can be loaded from final location ** testing if installed package keeps a record of temporary installation path * DONE (BLMA)
BLMA.Rcheck/tests/runTests.Rout
R version 4.0.3 (2020-10-10) -- "Bunny-Wunnies Freak Out"
Copyright (C) 2020 The R Foundation for Statistical Computing
Platform: x86_64-apple-darwin17.0 (64-bit)
R is free software and comes with ABSOLUTELY NO WARRANTY.
You are welcome to redistribute it under certain conditions.
Type 'license()' or 'licence()' for distribution details.
R is a collaborative project with many contributors.
Type 'contributors()' for more information and
'citation()' on how to cite R or R packages in publications.
Type 'demo()' for some demos, 'help()' for on-line help, or
'help.start()' for an HTML browser interface to help.
Type 'q()' to quit R.
> BiocGenerics:::testPackage("BLMA")
Attaching package: 'BiocGenerics'
The following objects are masked from 'package:parallel':
clusterApply, clusterApplyLB, clusterCall, clusterEvalQ,
clusterExport, clusterMap, parApply, parCapply, parLapply,
parLapplyLB, parRapply, parSapply, parSapplyLB
The following objects are masked from 'package:stats':
IQR, mad, sd, var, xtabs
The following objects are masked from 'package:base':
Filter, Find, Map, Position, Reduce, anyDuplicated, append,
as.data.frame, basename, cbind, colnames, dirname, do.call,
duplicated, eval, evalq, get, grep, grepl, intersect, is.unsorted,
lapply, mapply, match, mget, order, paste, pmax, pmax.int, pmin,
pmin.int, rank, rbind, rownames, sapply, setdiff, sort, table,
tapply, union, unique, unsplit, which, which.max, which.min
Attaching package: 'KEGGgraph'
The following object is masked from 'package:graphics':
plot
The following object is masked from 'package:base':
plot
Welcome to Bioconductor
Vignettes contain introductory material; view with
'browseVignettes()'. To cite Bioconductor, see
'citation("Biobase")', and for packages 'citation("pkgname")'.
Attaching package: 'limma'
The following object is masked from 'package:BiocGenerics':
plotMA
Working on dataset GSE17054, 9 samples
Using cached pathway data. Database info:
pathway KEGG Pathway Database
path Release 73.0+/01-03, Jan 15
Kanehisa Laboratories
343,170 entries
Default parameters detected. Using pre-parsed data.
Working on dataset GSE17054, 9 samples
GSM426404, GSM426405, GSM426406, GSM426407, GSM426412
Working on dataset GSE17054, 9 samples
GSM426404, GSM426405, GSM426406, GSM426407, GSM426412
Working on dataset GSE17054, 9 samples
GSM426404, GSM426405, GSM426406, GSM426407, GSM426412
Using cached pathway data. Database info:
pathway KEGG Pathway Database
path Release 73.0+/01-03, Jan 15
Kanehisa Laboratories
343,170 entries
Default parameters detected. Using pre-parsed data.
Working on dataset GSE17054, 9 samples
GSM426404, GSM426405, GSM426406, GSM426407, GSM426412
Using cached pathway data. Database info:
pathway KEGG Pathway Database
path Release 73.0+/01-03, Jan 15
Kanehisa Laboratories
343,170 entries
Default parameters detected. Using pre-parsed data.
RUNIT TEST PROTOCOL -- Fri Oct 16 23:19:19 2020
***********************************************
Number of test functions: 10
Number of errors: 0
Number of failures: 0
1 Test Suite :
BLMA RUnit Tests - 10 test functions, 0 errors, 0 failures
Number of test functions: 10
Number of errors: 0
Number of failures: 0
>
> proc.time()
user system elapsed
40.435 1.332 41.774
BLMA.Rcheck/BLMA-Ex.timings
| name | user | system | elapsed | |
| addCLT | 0.001 | 0.000 | 0.001 | |
| bilevelAnalysisClassic | 0.019 | 0.001 | 0.020 | |
| bilevelAnalysisGene | 5.655 | 0.129 | 5.795 | |
| bilevelAnalysisGeneset | 119.428 | 6.958 | 126.960 | |
| bilevelAnalysisPathway | 107.792 | 1.119 | 109.041 | |
| fisherMethod | 0.001 | 0.000 | 0.001 | |
| intraAnalysisClassic | 0.008 | 0.001 | 0.009 | |
| intraAnalysisGene | 1.303 | 0.013 | 1.316 | |
| loadKEGGPathways | 4.073 | 0.017 | 4.094 | |
| stoufferMethod | 0.001 | 0.000 | 0.001 | |