| Back to Multiple platform build/check report for BioC 3.11 |
|
This page was generated on 2020-10-17 11:56:07 -0400 (Sat, 17 Oct 2020).
| TO THE DEVELOPERS/MAINTAINERS OF THE BASiCS PACKAGE: Please make sure to use the following settings in order to reproduce any error or warning you see on this page. |
| Package 115/1905 | Hostname | OS / Arch | INSTALL | BUILD | CHECK | BUILD BIN | ||||||
| BASiCS 2.0.0 Catalina Vallejos
| malbec2 | Linux (Ubuntu 18.04.4 LTS) / x86_64 | OK | OK | OK | |||||||
| tokay2 | Windows Server 2012 R2 Standard / x64 | OK | OK | OK | [ OK ] | |||||||
| machv2 | macOS 10.14.6 Mojave / x86_64 | OK | OK | OK | OK |
| Package: BASiCS |
| Version: 2.0.0 |
| Command: rm -rf BASiCS.buildbin-libdir && mkdir BASiCS.buildbin-libdir && C:\Users\biocbuild\bbs-3.11-bioc\R\bin\R.exe CMD INSTALL --merge-multiarch --build --library=BASiCS.buildbin-libdir BASiCS_2.0.0.tar.gz |
| StartedAt: 2020-10-17 09:52:56 -0400 (Sat, 17 Oct 2020) |
| EndedAt: 2020-10-17 09:57:54 -0400 (Sat, 17 Oct 2020) |
| EllapsedTime: 297.7 seconds |
| RetCode: 0 |
| Status: OK |
| PackageFile: BASiCS_2.0.0.zip |
| PackageFileSize: 4.379 MiB |
##############################################################################
##############################################################################
###
### Running command:
###
### rm -rf BASiCS.buildbin-libdir && mkdir BASiCS.buildbin-libdir && C:\Users\biocbuild\bbs-3.11-bioc\R\bin\R.exe CMD INSTALL --merge-multiarch --build --library=BASiCS.buildbin-libdir BASiCS_2.0.0.tar.gz
###
##############################################################################
##############################################################################
install for i386
* installing *source* package 'BASiCS' ...
** using staged installation
** libs
"C:/rtools40/mingw32/bin/"g++ -std=gnu++11 -I"C:/Users/BIOCBU~1/BBS-3~1.11-/R/include" -DNDEBUG -I'C:/Users/biocbuild/bbs-3.11-bioc/R/library/Rcpp/include' -I'C:/Users/biocbuild/bbs-3.11-bioc/R/library/RcppArmadillo/include' -I"C:/extsoft/include" -O2 -Wall -mfpmath=sse -msse2 -mstackrealign -c BASiCS_DenoisedRates.cpp -o BASiCS_DenoisedRates.o
"C:/rtools40/mingw32/bin/"g++ -std=gnu++11 -I"C:/Users/BIOCBU~1/BBS-3~1.11-/R/include" -DNDEBUG -I'C:/Users/biocbuild/bbs-3.11-bioc/R/library/Rcpp/include' -I'C:/Users/biocbuild/bbs-3.11-bioc/R/library/RcppArmadillo/include' -I"C:/extsoft/include" -O2 -Wall -mfpmath=sse -msse2 -mstackrealign -c BASiCS_MCMCcpp.cpp -o BASiCS_MCMCcpp.o
"C:/rtools40/mingw32/bin/"g++ -std=gnu++11 -I"C:/Users/BIOCBU~1/BBS-3~1.11-/R/include" -DNDEBUG -I'C:/Users/biocbuild/bbs-3.11-bioc/R/library/Rcpp/include' -I'C:/Users/biocbuild/bbs-3.11-bioc/R/library/RcppArmadillo/include' -I"C:/extsoft/include" -O2 -Wall -mfpmath=sse -msse2 -mstackrealign -c BASiCS_MCMCcppNoSpikes.cpp -o BASiCS_MCMCcppNoSpikes.o
"C:/rtools40/mingw32/bin/"g++ -std=gnu++11 -I"C:/Users/BIOCBU~1/BBS-3~1.11-/R/include" -DNDEBUG -I'C:/Users/biocbuild/bbs-3.11-bioc/R/library/Rcpp/include' -I'C:/Users/biocbuild/bbs-3.11-bioc/R/library/RcppArmadillo/include' -I"C:/extsoft/include" -O2 -Wall -mfpmath=sse -msse2 -mstackrealign -c BASiCS_MCMCcppReg.cpp -o BASiCS_MCMCcppReg.o
"C:/rtools40/mingw32/bin/"g++ -std=gnu++11 -I"C:/Users/BIOCBU~1/BBS-3~1.11-/R/include" -DNDEBUG -I'C:/Users/biocbuild/bbs-3.11-bioc/R/library/Rcpp/include' -I'C:/Users/biocbuild/bbs-3.11-bioc/R/library/RcppArmadillo/include' -I"C:/extsoft/include" -O2 -Wall -mfpmath=sse -msse2 -mstackrealign -c BASiCS_MCMCcppRegNoSpikes.cpp -o BASiCS_MCMCcppRegNoSpikes.o
"C:/rtools40/mingw32/bin/"g++ -std=gnu++11 -I"C:/Users/BIOCBU~1/BBS-3~1.11-/R/include" -DNDEBUG -I'C:/Users/biocbuild/bbs-3.11-bioc/R/library/Rcpp/include' -I'C:/Users/biocbuild/bbs-3.11-bioc/R/library/RcppArmadillo/include' -I"C:/extsoft/include" -O2 -Wall -mfpmath=sse -msse2 -mstackrealign -c RcppExports.cpp -o RcppExports.o
"C:/rtools40/mingw32/bin/"g++ -std=gnu++11 -I"C:/Users/BIOCBU~1/BBS-3~1.11-/R/include" -DNDEBUG -I'C:/Users/biocbuild/bbs-3.11-bioc/R/library/Rcpp/include' -I'C:/Users/biocbuild/bbs-3.11-bioc/R/library/RcppArmadillo/include' -I"C:/extsoft/include" -O2 -Wall -mfpmath=sse -msse2 -mstackrealign -c general_utils.cpp -o general_utils.o
"C:/rtools40/mingw32/bin/"g++ -std=gnu++11 -I"C:/Users/BIOCBU~1/BBS-3~1.11-/R/include" -DNDEBUG -I'C:/Users/biocbuild/bbs-3.11-bioc/R/library/Rcpp/include' -I'C:/Users/biocbuild/bbs-3.11-bioc/R/library/RcppArmadillo/include' -I"C:/extsoft/include" -O2 -Wall -mfpmath=sse -msse2 -mstackrealign -c utils_MCMCcpp.cpp -o utils_MCMCcpp.o
"C:/rtools40/mingw32/bin/"g++ -std=gnu++11 -I"C:/Users/BIOCBU~1/BBS-3~1.11-/R/include" -DNDEBUG -I'C:/Users/biocbuild/bbs-3.11-bioc/R/library/Rcpp/include' -I'C:/Users/biocbuild/bbs-3.11-bioc/R/library/RcppArmadillo/include' -I"C:/extsoft/include" -O2 -Wall -mfpmath=sse -msse2 -mstackrealign -c utils_MCMCcppNoSpikes.cpp -o utils_MCMCcppNoSpikes.o
"C:/rtools40/mingw32/bin/"g++ -std=gnu++11 -I"C:/Users/BIOCBU~1/BBS-3~1.11-/R/include" -DNDEBUG -I'C:/Users/biocbuild/bbs-3.11-bioc/R/library/Rcpp/include' -I'C:/Users/biocbuild/bbs-3.11-bioc/R/library/RcppArmadillo/include' -I"C:/extsoft/include" -O2 -Wall -mfpmath=sse -msse2 -mstackrealign -c utils_MCMCcppReg.cpp -o utils_MCMCcppReg.o
"C:/rtools40/mingw32/bin/"g++ -std=gnu++11 -I"C:/Users/BIOCBU~1/BBS-3~1.11-/R/include" -DNDEBUG -I'C:/Users/biocbuild/bbs-3.11-bioc/R/library/Rcpp/include' -I'C:/Users/biocbuild/bbs-3.11-bioc/R/library/RcppArmadillo/include' -I"C:/extsoft/include" -O2 -Wall -mfpmath=sse -msse2 -mstackrealign -c utils_MCMCcppRegNoSpikes.cpp -o utils_MCMCcppRegNoSpikes.o
C:/rtools40/mingw32/bin/g++ -shared -s -static-libgcc -o BASiCS.dll tmp.def BASiCS_DenoisedRates.o BASiCS_MCMCcpp.o BASiCS_MCMCcppNoSpikes.o BASiCS_MCMCcppReg.o BASiCS_MCMCcppRegNoSpikes.o RcppExports.o general_utils.o utils_MCMCcpp.o utils_MCMCcppNoSpikes.o utils_MCMCcppReg.o utils_MCMCcppRegNoSpikes.o -LC:/Users/BIOCBU~1/BBS-3~1.11-/R/bin/i386 -lRlapack -LC:/Users/BIOCBU~1/BBS-3~1.11-/R/bin/i386 -lRblas -lgfortran -lm -lquadmath -LC:/extsoft/lib/i386 -LC:/extsoft/lib -LC:/Users/BIOCBU~1/BBS-3~1.11-/R/bin/i386 -lR
installing to C:/Users/biocbuild/bbs-3.11-bioc/meat/BASiCS.buildbin-libdir/00LOCK-BASiCS/00new/BASiCS/libs/i386
** R
** data
*** moving datasets to lazyload DB
** inst
** byte-compile and prepare package for lazy loading
** help
*** installing help indices
converting help for package 'BASiCS'
finding HTML links ... done
BASiCS-defunct html
BASiCS_Chain-methods html
BASiCS_Chain html
BASiCS_CorrectOffset html
BASiCS_DenoisedCounts html
finding level-2 HTML links ... done
BASiCS_DenoisedRates html
BASiCS_DetectVG html
BASiCS_DiagHist html
BASiCS_DiagPlot html
BASiCS_Draw html
BASiCS_EffectiveSize html
BASiCS_Filter html
BASiCS_LoadChain html
BASiCS_MCMC html
BASiCS_PlotDE html
BASiCS_PlotOffset html
BASiCS_PlotVG html
BASiCS_PriorParam html
BASiCS_Result html
BASiCS_ResultDE html
BASiCS_ResultVG html
BASiCS_ResultsDE html
BASiCS_ShowFit html
BASiCS_Sim html
BASiCS_Summary-methods html
BASiCS_Summary html
BASiCS_TestDE html
BASiCS_VarThresholdSearchHVG_LVG html
BASiCS_VarianceDecomp html
ChainRNA html
ChainRNAReg html
ChainSC html
ChainSCReg html
Summary-BASiCS_Chain-method html
dim-BASiCS_Chain-method html
dimnames-BASiCS_Chain-method html
displayChainBASiCS-BASiCS_Chain-method
html
displaySummaryBASiCS-BASiCS_Summary-method
html
format-methods html
makeExampleBASiCS_Data html
newBASiCS_Chain html
newBASiCS_Data html
plot-BASiCS_Chain-method html
plot-BASiCS_Summary-method html
rowData html
show-BASiCS_ResultDE-method html
show-BASiCS_ResultVG-method html
show-BASiCS_ResultsDE-method html
subset-BASiCS_Chain-method html
subset-methods html
** building package indices
** installing vignettes
** testing if installed package can be loaded from temporary location
** testing if installed package can be loaded from final location
** testing if installed package keeps a record of temporary installation path
install for x64
* installing *source* package 'BASiCS' ...
** libs
"C:/rtools40/mingw64/bin/"g++ -std=gnu++11 -I"C:/Users/BIOCBU~1/BBS-3~1.11-/R/include" -DNDEBUG -I'C:/Users/biocbuild/bbs-3.11-bioc/R/library/Rcpp/include' -I'C:/Users/biocbuild/bbs-3.11-bioc/R/library/RcppArmadillo/include' -I"C:/extsoft/include" -O2 -Wall -mfpmath=sse -msse2 -mstackrealign -c BASiCS_DenoisedRates.cpp -o BASiCS_DenoisedRates.o
"C:/rtools40/mingw64/bin/"g++ -std=gnu++11 -I"C:/Users/BIOCBU~1/BBS-3~1.11-/R/include" -DNDEBUG -I'C:/Users/biocbuild/bbs-3.11-bioc/R/library/Rcpp/include' -I'C:/Users/biocbuild/bbs-3.11-bioc/R/library/RcppArmadillo/include' -I"C:/extsoft/include" -O2 -Wall -mfpmath=sse -msse2 -mstackrealign -c BASiCS_MCMCcpp.cpp -o BASiCS_MCMCcpp.o
"C:/rtools40/mingw64/bin/"g++ -std=gnu++11 -I"C:/Users/BIOCBU~1/BBS-3~1.11-/R/include" -DNDEBUG -I'C:/Users/biocbuild/bbs-3.11-bioc/R/library/Rcpp/include' -I'C:/Users/biocbuild/bbs-3.11-bioc/R/library/RcppArmadillo/include' -I"C:/extsoft/include" -O2 -Wall -mfpmath=sse -msse2 -mstackrealign -c BASiCS_MCMCcppNoSpikes.cpp -o BASiCS_MCMCcppNoSpikes.o
"C:/rtools40/mingw64/bin/"g++ -std=gnu++11 -I"C:/Users/BIOCBU~1/BBS-3~1.11-/R/include" -DNDEBUG -I'C:/Users/biocbuild/bbs-3.11-bioc/R/library/Rcpp/include' -I'C:/Users/biocbuild/bbs-3.11-bioc/R/library/RcppArmadillo/include' -I"C:/extsoft/include" -O2 -Wall -mfpmath=sse -msse2 -mstackrealign -c BASiCS_MCMCcppReg.cpp -o BASiCS_MCMCcppReg.o
"C:/rtools40/mingw64/bin/"g++ -std=gnu++11 -I"C:/Users/BIOCBU~1/BBS-3~1.11-/R/include" -DNDEBUG -I'C:/Users/biocbuild/bbs-3.11-bioc/R/library/Rcpp/include' -I'C:/Users/biocbuild/bbs-3.11-bioc/R/library/RcppArmadillo/include' -I"C:/extsoft/include" -O2 -Wall -mfpmath=sse -msse2 -mstackrealign -c BASiCS_MCMCcppRegNoSpikes.cpp -o BASiCS_MCMCcppRegNoSpikes.o
"C:/rtools40/mingw64/bin/"g++ -std=gnu++11 -I"C:/Users/BIOCBU~1/BBS-3~1.11-/R/include" -DNDEBUG -I'C:/Users/biocbuild/bbs-3.11-bioc/R/library/Rcpp/include' -I'C:/Users/biocbuild/bbs-3.11-bioc/R/library/RcppArmadillo/include' -I"C:/extsoft/include" -O2 -Wall -mfpmath=sse -msse2 -mstackrealign -c RcppExports.cpp -o RcppExports.o
"C:/rtools40/mingw64/bin/"g++ -std=gnu++11 -I"C:/Users/BIOCBU~1/BBS-3~1.11-/R/include" -DNDEBUG -I'C:/Users/biocbuild/bbs-3.11-bioc/R/library/Rcpp/include' -I'C:/Users/biocbuild/bbs-3.11-bioc/R/library/RcppArmadillo/include' -I"C:/extsoft/include" -O2 -Wall -mfpmath=sse -msse2 -mstackrealign -c general_utils.cpp -o general_utils.o
"C:/rtools40/mingw64/bin/"g++ -std=gnu++11 -I"C:/Users/BIOCBU~1/BBS-3~1.11-/R/include" -DNDEBUG -I'C:/Users/biocbuild/bbs-3.11-bioc/R/library/Rcpp/include' -I'C:/Users/biocbuild/bbs-3.11-bioc/R/library/RcppArmadillo/include' -I"C:/extsoft/include" -O2 -Wall -mfpmath=sse -msse2 -mstackrealign -c utils_MCMCcpp.cpp -o utils_MCMCcpp.o
"C:/rtools40/mingw64/bin/"g++ -std=gnu++11 -I"C:/Users/BIOCBU~1/BBS-3~1.11-/R/include" -DNDEBUG -I'C:/Users/biocbuild/bbs-3.11-bioc/R/library/Rcpp/include' -I'C:/Users/biocbuild/bbs-3.11-bioc/R/library/RcppArmadillo/include' -I"C:/extsoft/include" -O2 -Wall -mfpmath=sse -msse2 -mstackrealign -c utils_MCMCcppNoSpikes.cpp -o utils_MCMCcppNoSpikes.o
"C:/rtools40/mingw64/bin/"g++ -std=gnu++11 -I"C:/Users/BIOCBU~1/BBS-3~1.11-/R/include" -DNDEBUG -I'C:/Users/biocbuild/bbs-3.11-bioc/R/library/Rcpp/include' -I'C:/Users/biocbuild/bbs-3.11-bioc/R/library/RcppArmadillo/include' -I"C:/extsoft/include" -O2 -Wall -mfpmath=sse -msse2 -mstackrealign -c utils_MCMCcppReg.cpp -o utils_MCMCcppReg.o
"C:/rtools40/mingw64/bin/"g++ -std=gnu++11 -I"C:/Users/BIOCBU~1/BBS-3~1.11-/R/include" -DNDEBUG -I'C:/Users/biocbuild/bbs-3.11-bioc/R/library/Rcpp/include' -I'C:/Users/biocbuild/bbs-3.11-bioc/R/library/RcppArmadillo/include' -I"C:/extsoft/include" -O2 -Wall -mfpmath=sse -msse2 -mstackrealign -c utils_MCMCcppRegNoSpikes.cpp -o utils_MCMCcppRegNoSpikes.o
C:/rtools40/mingw64/bin/g++ -shared -s -static-libgcc -o BASiCS.dll tmp.def BASiCS_DenoisedRates.o BASiCS_MCMCcpp.o BASiCS_MCMCcppNoSpikes.o BASiCS_MCMCcppReg.o BASiCS_MCMCcppRegNoSpikes.o RcppExports.o general_utils.o utils_MCMCcpp.o utils_MCMCcppNoSpikes.o utils_MCMCcppReg.o utils_MCMCcppRegNoSpikes.o -LC:/Users/BIOCBU~1/BBS-3~1.11-/R/bin/x64 -lRlapack -LC:/Users/BIOCBU~1/BBS-3~1.11-/R/bin/x64 -lRblas -lgfortran -lm -lquadmath -LC:/extsoft/lib/x64 -LC:/extsoft/lib -LC:/Users/BIOCBU~1/BBS-3~1.11-/R/bin/x64 -lR
installing to C:/Users/biocbuild/bbs-3.11-bioc/meat/BASiCS.buildbin-libdir/BASiCS/libs/x64
** testing if installed package can be loaded
* MD5 sums
packaged installation of 'BASiCS' as BASiCS_2.0.0.zip
* DONE (BASiCS)