| Back to Multiple platform build/check report for BioC 3.11 |
|
This page was generated on 2020-10-17 11:58:04 -0400 (Sat, 17 Oct 2020).
| TO THE DEVELOPERS/MAINTAINERS OF THE BAC PACKAGE: Please make sure to use the following settings in order to reproduce any error or warning you see on this page. |
| Package 103/1905 | Hostname | OS / Arch | INSTALL | BUILD | CHECK | BUILD BIN | ||||||
| BAC 1.48.0 Raphael Gottardo
| malbec2 | Linux (Ubuntu 18.04.4 LTS) / x86_64 | OK | OK | OK | |||||||
| tokay2 | Windows Server 2012 R2 Standard / x64 | OK | OK | OK | OK | |||||||
| machv2 | macOS 10.14.6 Mojave / x86_64 | OK | OK | OK | [ OK ] |
| Package: BAC |
| Version: 1.48.0 |
| Command: rm -rf BAC.buildbin-libdir && mkdir BAC.buildbin-libdir && /Users/biocbuild/BBS/utils/build-universal.sh BAC_1.48.0.tar.gz /Library/Frameworks/R.framework/Versions/Current/Resources/bin/R BAC.buildbin-libdir |
| StartedAt: 2020-10-17 06:37:33 -0400 (Sat, 17 Oct 2020) |
| EndedAt: 2020-10-17 06:37:49 -0400 (Sat, 17 Oct 2020) |
| EllapsedTime: 16.3 seconds |
| RetCode: 0 |
| Status: OK |
| PackageFile: BAC_1.48.0.tgz |
| PackageFileSize: 980.8 KiB |
##############################################################################
##############################################################################
###
### Running command:
###
### rm -rf BAC.buildbin-libdir && mkdir BAC.buildbin-libdir && /Users/biocbuild/BBS/utils/build-universal.sh BAC_1.48.0.tar.gz /Library/Frameworks/R.framework/Versions/Current/Resources/bin/R BAC.buildbin-libdir
###
##############################################################################
##############################################################################
>>>>>>>
>>>>>>> INSTALLATION WITH 'R CMD INSTALL --preclean --no-multiarch --library=BAC.buildbin-libdir BAC_1.48.0.tar.gz'
>>>>>>>
* installing *source* package ‘BAC’ ...
** using staged installation
** libs
clang -mmacosx-version-min=10.13 -I"/Library/Frameworks/R.framework/Resources/include" -DNDEBUG -I/usr/local/include -fPIC -Wall -g -O2 -c BAC.c -o BAC.o
BAC.c:65:15: warning: implicit conversion from 'double' to 'int' changes value from 0.01 to 0 [-Wliteral-conversion]
w=dvector(*G,0.01);
~~~~~~~ ^~~~
1 warning generated.
clang -mmacosx-version-min=10.13 -I"/Library/Frameworks/R.framework/Resources/include" -DNDEBUG -I/usr/local/include -fPIC -Wall -g -O2 -c util.c -o util.o
clang -mmacosx-version-min=10.13 -dynamiclib -Wl,-headerpad_max_install_names -undefined dynamic_lookup -single_module -multiply_defined suppress -L/Library/Frameworks/R.framework/Resources/lib -L/usr/local/lib -o BAC.so BAC.o util.o -F/Library/Frameworks/R.framework/.. -framework R -Wl,-framework -Wl,CoreFoundation
installing to /Users/biocbuild/bbs-3.11-bioc/meat/BAC.buildbin-libdir/00LOCK-BAC/00new/BAC/libs
** R
** data
** inst
** byte-compile and prepare package for lazy loading
** help
*** installing help indices
** building package indices
** installing vignettes
** testing if installed package can be loaded from temporary location
** checking absolute paths in shared objects and dynamic libraries
** testing if installed package can be loaded from final location
** testing if installed package keeps a record of temporary installation path
* DONE (BAC)
>>>>>>>
>>>>>>> FIXING LINKS FOR BAC.buildbin-libdir/BAC/libs/BAC.so
>>>>>>>
install_name_tool -change "/usr/local/lib/libgcc_s.1.dylib" "/Library/Frameworks/R.framework/Versions/4.0/Resources/lib/libgcc_s.1.dylib" "BAC.buildbin-libdir/BAC/libs/BAC.so"
install_name_tool -change "/usr/local/lib/libgfortran.5.dylib" "/Library/Frameworks/R.framework/Versions/4.0/Resources/lib/libgfortran.5.dylib" "BAC.buildbin-libdir/BAC/libs/BAC.so"
install_name_tool -change "/usr/local/lib/libquadmath.0.dylib" "/Library/Frameworks/R.framework/Versions/4.0/Resources/lib/libquadmath.0.dylib" "BAC.buildbin-libdir/BAC/libs/BAC.so"