| Back to Multiple platform build/check report for BioC 3.11 |
|
This page was generated on 2020-10-17 11:56:06 -0400 (Sat, 17 Oct 2020).
| TO THE DEVELOPERS/MAINTAINERS OF THE AssessORF PACKAGE: Please make sure to use the following settings in order to reproduce any error or warning you see on this page. |
| Package 93/1905 | Hostname | OS / Arch | INSTALL | BUILD | CHECK | BUILD BIN | ||||||
| AssessORF 1.6.0 Deepank Korandla
| malbec2 | Linux (Ubuntu 18.04.4 LTS) / x86_64 | OK | OK | OK | |||||||
| tokay2 | Windows Server 2012 R2 Standard / x64 | [ OK ] | OK | OK | OK | |||||||
| machv2 | macOS 10.14.6 Mojave / x86_64 | OK | OK | OK | OK |
| Package: AssessORF |
| Version: 1.6.0 |
| Command: C:\cygwin\bin\curl.exe -O https://malbec2.bioconductor.org/BBS/3.11/bioc/src/contrib/AssessORF_1.6.0.tar.gz && rm -rf AssessORF.buildbin-libdir && mkdir AssessORF.buildbin-libdir && C:\Users\biocbuild\bbs-3.11-bioc\R\bin\R.exe CMD INSTALL --merge-multiarch --build --library=AssessORF.buildbin-libdir AssessORF_1.6.0.tar.gz && C:\Users\biocbuild\bbs-3.11-bioc\R\bin\R.exe CMD INSTALL AssessORF_1.6.0.zip && rm AssessORF_1.6.0.tar.gz AssessORF_1.6.0.zip |
| StartedAt: 2020-10-16 18:09:40 -0400 (Fri, 16 Oct 2020) |
| EndedAt: 2020-10-16 18:10:23 -0400 (Fri, 16 Oct 2020) |
| EllapsedTime: 42.6 seconds |
| RetCode: 0 |
| Status: OK |
##############################################################################
##############################################################################
###
### Running command:
###
### C:\cygwin\bin\curl.exe -O https://malbec2.bioconductor.org/BBS/3.11/bioc/src/contrib/AssessORF_1.6.0.tar.gz && rm -rf AssessORF.buildbin-libdir && mkdir AssessORF.buildbin-libdir && C:\Users\biocbuild\bbs-3.11-bioc\R\bin\R.exe CMD INSTALL --merge-multiarch --build --library=AssessORF.buildbin-libdir AssessORF_1.6.0.tar.gz && C:\Users\biocbuild\bbs-3.11-bioc\R\bin\R.exe CMD INSTALL AssessORF_1.6.0.zip && rm AssessORF_1.6.0.tar.gz AssessORF_1.6.0.zip
###
##############################################################################
##############################################################################
% Total % Received % Xferd Average Speed Time Time Time Current
Dload Upload Total Spent Left Speed
0 0 0 0 0 0 0 0 --:--:-- --:--:-- --:--:-- 0
100 4551k 100 4551k 0 0 13.7M 0 --:--:-- --:--:-- --:--:-- 13.9M
install for i386
* installing *source* package 'AssessORF' ...
** using staged installation
** R
** inst
** byte-compile and prepare package for lazy loading
** help
*** installing help indices
converting help for package 'AssessORF'
finding HTML links ... done
AssessGenes html
Assessment-class html
CompareAssessmentResults html
MapAssessmentData html
ScoreAssessmentResults html
as.matrix.Assessment html
mosaicplot.Assessment html
plot.Assessment html
print.Assessment html
** building package indices
** installing vignettes
** testing if installed package can be loaded from temporary location
** testing if installed package can be loaded from final location
** testing if installed package keeps a record of temporary installation path
install for x64
* installing *source* package 'AssessORF' ...
** testing if installed package can be loaded
* MD5 sums
packaged installation of 'AssessORF' as AssessORF_1.6.0.zip
* DONE (AssessORF)
* installing to library 'C:/Users/biocbuild/bbs-3.11-bioc/R/library'
package 'AssessORF' successfully unpacked and MD5 sums checked