| Back to Multiple platform build/check report for BioC 3.11 |
|
This page was generated on 2020-10-17 11:58:02 -0400 (Sat, 17 Oct 2020).
| TO THE DEVELOPERS/MAINTAINERS OF THE AneuFinder PACKAGE: Please make sure to use the following settings in order to reproduce any error or warning you see on this page. |
| Package 55/1905 | Hostname | OS / Arch | INSTALL | BUILD | CHECK | BUILD BIN | ||||||
| AneuFinder 1.16.0 Aaron Taudt
| malbec2 | Linux (Ubuntu 18.04.4 LTS) / x86_64 | OK | OK | OK | |||||||
| tokay2 | Windows Server 2012 R2 Standard / x64 | OK | OK | OK | OK | |||||||
| machv2 | macOS 10.14.6 Mojave / x86_64 | OK | [ OK ] | OK | OK |
| Package: AneuFinder |
| Version: 1.16.0 |
| Command: /Library/Frameworks/R.framework/Versions/Current/Resources/bin/R CMD build --keep-empty-dirs --no-resave-data AneuFinder |
| StartedAt: 2020-10-16 17:43:35 -0400 (Fri, 16 Oct 2020) |
| EndedAt: 2020-10-16 17:47:26 -0400 (Fri, 16 Oct 2020) |
| EllapsedTime: 230.4 seconds |
| RetCode: 0 |
| Status: OK |
| PackageFile: AneuFinder_1.16.0.tar.gz |
| PackageFileSize: 2.02 MiB |
############################################################################## ############################################################################## ### ### Running command: ### ### /Library/Frameworks/R.framework/Versions/Current/Resources/bin/R CMD build --keep-empty-dirs --no-resave-data AneuFinder ### ############################################################################## ############################################################################## * checking for file ‘AneuFinder/DESCRIPTION’ ... OK * preparing ‘AneuFinder’: * checking DESCRIPTION meta-information ... OK * cleaning src * installing the package to build vignettes * creating vignettes ... OK * cleaning src * checking for LF line-endings in source and make files and shell scripts * checking for empty or unneeded directories * building ‘AneuFinder_1.16.0.tar.gz’