| Back to Multiple platform build/check report for BioC 3.11 |
|
This page was generated on 2020-10-17 11:56:05 -0400 (Sat, 17 Oct 2020).
| TO THE DEVELOPERS/MAINTAINERS OF THE Anaquin PACKAGE: Please make sure to use the following settings in order to reproduce any error or warning you see on this page. |
| Package 54/1905 | Hostname | OS / Arch | INSTALL | BUILD | CHECK | BUILD BIN | ||||||
| Anaquin 2.12.0 Ted Wong
| malbec2 | Linux (Ubuntu 18.04.4 LTS) / x86_64 | OK | OK | OK | |||||||
| tokay2 | Windows Server 2012 R2 Standard / x64 | OK | OK | OK | [ OK ] | |||||||
| machv2 | macOS 10.14.6 Mojave / x86_64 | OK | OK | OK | OK |
| Package: Anaquin |
| Version: 2.12.0 |
| Command: rm -rf Anaquin.buildbin-libdir && mkdir Anaquin.buildbin-libdir && C:\Users\biocbuild\bbs-3.11-bioc\R\bin\R.exe CMD INSTALL --merge-multiarch --build --library=Anaquin.buildbin-libdir Anaquin_2.12.0.tar.gz |
| StartedAt: 2020-10-17 09:48:26 -0400 (Sat, 17 Oct 2020) |
| EndedAt: 2020-10-17 09:49:00 -0400 (Sat, 17 Oct 2020) |
| EllapsedTime: 34.1 seconds |
| RetCode: 0 |
| Status: OK |
| PackageFile: Anaquin_2.12.0.zip |
| PackageFileSize: 462.6 KiB |
##############################################################################
##############################################################################
###
### Running command:
###
### rm -rf Anaquin.buildbin-libdir && mkdir Anaquin.buildbin-libdir && C:\Users\biocbuild\bbs-3.11-bioc\R\bin\R.exe CMD INSTALL --merge-multiarch --build --library=Anaquin.buildbin-libdir Anaquin_2.12.0.tar.gz
###
##############################################################################
##############################################################################
install for i386
* installing *source* package 'Anaquin' ...
** using staged installation
** R
** data
*** moving datasets to lazyload DB
** inst
** byte-compile and prepare package for lazy loading
** help
*** installing help indices
converting help for package 'Anaquin'
finding HTML links ... done
RnaQuinGeneMixture html
RnaQuinIsoformMixture html
UserGuideData_5.4.5.1 html
UserGuideData_5.4.6.3 html
UserGuideData_5.6.3 html
plotConjoint html
plotLOD html
plotLinear html
plotLogistic html
plotROC html
** building package indices
** installing vignettes
** testing if installed package can be loaded from temporary location
** testing if installed package can be loaded from final location
** testing if installed package keeps a record of temporary installation path
install for x64
* installing *source* package 'Anaquin' ...
** testing if installed package can be loaded
* MD5 sums
packaged installation of 'Anaquin' as Anaquin_2.12.0.zip
* DONE (Anaquin)