| Back to Multiple platform build/check report for BioC 3.11 |
|
This page was generated on 2020-10-17 11:56:04 -0400 (Sat, 17 Oct 2020).
| TO THE DEVELOPERS/MAINTAINERS OF THE ALPS PACKAGE: Please make sure to use the following settings in order to reproduce any error or warning you see on this page. |
| Package 46/1905 | Hostname | OS / Arch | INSTALL | BUILD | CHECK | BUILD BIN | ||||||
| ALPS 1.2.0 Venu Thatikonda
| malbec2 | Linux (Ubuntu 18.04.4 LTS) / x86_64 | OK | OK | OK | |||||||
| tokay2 | Windows Server 2012 R2 Standard / x64 | OK | OK | OK | [ OK ] | |||||||
| machv2 | macOS 10.14.6 Mojave / x86_64 | OK | OK | OK | OK |
| Package: ALPS |
| Version: 1.2.0 |
| Command: rm -rf ALPS.buildbin-libdir && mkdir ALPS.buildbin-libdir && C:\Users\biocbuild\bbs-3.11-bioc\R\bin\R.exe --arch x64 CMD INSTALL --no-multiarch --build --library=ALPS.buildbin-libdir ALPS_1.2.0.tar.gz |
| StartedAt: 2020-10-17 09:47:57 -0400 (Sat, 17 Oct 2020) |
| EndedAt: 2020-10-17 09:49:16 -0400 (Sat, 17 Oct 2020) |
| EllapsedTime: 79.3 seconds |
| RetCode: 0 |
| Status: OK |
| PackageFile: ALPS_1.2.0.zip |
| PackageFileSize: 2.095 MiB |
##############################################################################
##############################################################################
###
### Running command:
###
### rm -rf ALPS.buildbin-libdir && mkdir ALPS.buildbin-libdir && C:\Users\biocbuild\bbs-3.11-bioc\R\bin\R.exe --arch x64 CMD INSTALL --no-multiarch --build --library=ALPS.buildbin-libdir ALPS_1.2.0.tar.gz
###
##############################################################################
##############################################################################
* installing *source* package 'ALPS' ...
** using staged installation
** R
** inst
** byte-compile and prepare package for lazy loading
** help
*** installing help indices
converting help for package 'ALPS'
finding HTML links ... done
ALPS-package html
get_genomic_annotations html
get_variable_regions html
merge_GR html
multiBigwig_summary html
pipe html
plot_browser_tracks html
plot_correlation html
plot_enrichments html
plot_genomic_annotations html
plot_motif_logo html
process_homer html
process_jaspar html
process_meme html
process_pfm html
process_transfac html
** building package indices
** installing vignettes
** testing if installed package can be loaded from temporary location
** testing if installed package can be loaded from final location
** testing if installed package keeps a record of temporary installation path
* MD5 sums
packaged installation of 'ALPS' as ALPS_1.2.0.zip
* DONE (ALPS)