| Back to Multiple platform build/check report for BioC 3.11 |
|
This page was generated on 2020-10-17 11:58:02 -0400 (Sat, 17 Oct 2020).
| TO THE DEVELOPERS/MAINTAINERS OF THE ALDEx2 PACKAGE: Please make sure to use the following settings in order to reproduce any error or warning you see on this page. |
| Package 41/1905 | Hostname | OS / Arch | INSTALL | BUILD | CHECK | BUILD BIN | ||||||
| ALDEx2 1.20.0 Greg Gloor
| malbec2 | Linux (Ubuntu 18.04.4 LTS) / x86_64 | OK | OK | OK | |||||||
| tokay2 | Windows Server 2012 R2 Standard / x64 | OK | OK | OK | OK | |||||||
| machv2 | macOS 10.14.6 Mojave / x86_64 | OK | OK | [ OK ] | OK |
| Package: ALDEx2 |
| Version: 1.20.0 |
| Command: /Library/Frameworks/R.framework/Versions/Current/Resources/bin/R CMD check --install=check:ALDEx2.install-out.txt --library=/Library/Frameworks/R.framework/Versions/Current/Resources/library --no-vignettes --timings ALDEx2_1.20.0.tar.gz |
| StartedAt: 2020-10-16 22:33:34 -0400 (Fri, 16 Oct 2020) |
| EndedAt: 2020-10-16 22:38:38 -0400 (Fri, 16 Oct 2020) |
| EllapsedTime: 304.2 seconds |
| RetCode: 0 |
| Status: OK |
| CheckDir: ALDEx2.Rcheck |
| Warnings: 0 |
##############################################################################
##############################################################################
###
### Running command:
###
### /Library/Frameworks/R.framework/Versions/Current/Resources/bin/R CMD check --install=check:ALDEx2.install-out.txt --library=/Library/Frameworks/R.framework/Versions/Current/Resources/library --no-vignettes --timings ALDEx2_1.20.0.tar.gz
###
##############################################################################
##############################################################################
* using log directory ‘/Users/biocbuild/bbs-3.11-bioc/meat/ALDEx2.Rcheck’
* using R version 4.0.3 (2020-10-10)
* using platform: x86_64-apple-darwin17.0 (64-bit)
* using session charset: UTF-8
* using option ‘--no-vignettes’
* checking for file ‘ALDEx2/DESCRIPTION’ ... OK
* checking extension type ... Package
* this is package ‘ALDEx2’ version ‘1.20.0’
* checking package namespace information ... OK
* checking package dependencies ... OK
* checking if this is a source package ... OK
* checking if there is a namespace ... OK
* checking for hidden files and directories ... OK
* checking for portable file names ... OK
* checking for sufficient/correct file permissions ... OK
* checking whether package ‘ALDEx2’ can be installed ... OK
* checking installed package size ... OK
* checking package directory ... OK
* checking ‘build’ directory ... OK
* checking DESCRIPTION meta-information ... OK
* checking top-level files ... OK
* checking for left-over files ... OK
* checking index information ... OK
* checking package subdirectories ... OK
* checking R files for non-ASCII characters ... OK
* checking R files for syntax errors ... OK
* checking whether the package can be loaded ... OK
* checking whether the package can be loaded with stated dependencies ... OK
* checking whether the package can be unloaded cleanly ... OK
* checking whether the namespace can be loaded with stated dependencies ... OK
* checking whether the namespace can be unloaded cleanly ... OK
* checking dependencies in R code ... OK
* checking S3 generic/method consistency ... OK
* checking replacement functions ... OK
* checking foreign function calls ... OK
* checking R code for possible problems ... OK
* checking Rd files ... OK
* checking Rd metadata ... OK
* checking Rd cross-references ... OK
* checking for missing documentation entries ... OK
* checking for code/documentation mismatches ... OK
* checking Rd \usage sections ... OK
* checking Rd contents ... OK
* checking for unstated dependencies in examples ... OK
* checking contents of ‘data’ directory ... OK
* checking data for non-ASCII characters ... OK
* checking data for ASCII and uncompressed saves ... OK
* checking sizes of PDF files under ‘inst/doc’ ... OK
* checking files in ‘vignettes’ ... OK
* checking examples ... OK
Examples with CPU (user + system) or elapsed time > 5s
user system elapsed
aldex.corr 17.009 0.128 17.153
aldex.glm.effect 7.650 0.027 7.682
* checking for unstated dependencies in ‘tests’ ... OK
* checking tests ...
Running ‘testthat.R’
OK
* checking for unstated dependencies in vignettes ... OK
* checking package vignettes in ‘inst/doc’ ... OK
* checking running R code from vignettes ... SKIPPED
* checking re-building of vignette outputs ... SKIPPED
* checking PDF version of manual ... OK
* DONE
Status: OK
ALDEx2.Rcheck/00install.out
############################################################################## ############################################################################## ### ### Running command: ### ### /Library/Frameworks/R.framework/Versions/Current/Resources/bin/R CMD INSTALL ALDEx2 ### ############################################################################## ############################################################################## * installing to library ‘/Library/Frameworks/R.framework/Versions/4.0/Resources/library’ * installing *source* package ‘ALDEx2’ ... ** using staged installation ** R ** data ** inst ** byte-compile and prepare package for lazy loading ** help *** installing help indices ** building package indices ** installing vignettes ** testing if installed package can be loaded from temporary location ** testing if installed package can be loaded from final location ** testing if installed package keeps a record of temporary installation path * DONE (ALDEx2)
ALDEx2.Rcheck/tests/testthat.Rout
R version 4.0.3 (2020-10-10) -- "Bunny-Wunnies Freak Out"
Copyright (C) 2020 The R Foundation for Statistical Computing
Platform: x86_64-apple-darwin17.0 (64-bit)
R is free software and comes with ABSOLUTELY NO WARRANTY.
You are welcome to redistribute it under certain conditions.
Type 'license()' or 'licence()' for distribution details.
R is a collaborative project with many contributors.
Type 'contributors()' for more information and
'citation()' on how to cite R or R packages in publications.
Type 'demo()' for some demos, 'help()' for on-line help, or
'help.start()' for an HTML browser interface to help.
Type 'q()' to quit R.
> library(testthat)
> library(ALDEx2)
Loading required package: zCompositions
Loading required package: MASS
Loading required package: NADA
Loading required package: survival
Attaching package: 'NADA'
The following object is masked from 'package:stats':
cor
Loading required package: truncnorm
>
> test_check("ALDEx2")
══ testthat results ═══════════════════════════════════════════════════════════
[ OK: 22 | SKIPPED: 0 | WARNINGS: 4 | FAILED: 0 ]
>
> proc.time()
user system elapsed
65.282 1.458 66.765
ALDEx2.Rcheck/ALDEx2-Ex.timings
| name | user | system | elapsed | |
| ALDEx2m-package | 0.001 | 0.001 | 0.000 | |
| aldex | 2.450 | 0.472 | 2.925 | |
| aldex.clr-class | 0.081 | 0.007 | 0.089 | |
| aldex.clr.function-methods | 0.097 | 0.007 | 0.104 | |
| aldex.corr | 17.009 | 0.128 | 17.153 | |
| aldex.effect | 3.953 | 0.022 | 3.980 | |
| aldex.glm | 1.692 | 0.019 | 1.712 | |
| aldex.glm.effect | 7.650 | 0.027 | 7.682 | |
| aldex.kw | 3.427 | 0.029 | 3.457 | |
| aldex.plotFeature | 0.171 | 0.004 | 0.175 | |
| aldex.set.mode | 0.092 | 0.005 | 0.098 | |
| aldex.ttest | 0.252 | 0.006 | 0.259 | |
| expectedDistance | 0.573 | 0.044 | 0.618 | |
| getDenom-method | 0.142 | 0.004 | 0.145 | |
| getFeatureNames-method | 0.099 | 0.005 | 0.104 | |
| getFeatures-method | 0.086 | 0.002 | 0.088 | |
| getMonteCarloInstances-method | 0.085 | 0.003 | 0.087 | |
| getMonteCarloReplicate-method | 0.075 | 0.003 | 0.078 | |
| getMonteCarloSample-method | 0.084 | 0.005 | 0.088 | |
| getReads-method | 0.083 | 0.004 | 0.087 | |
| getSampleIDs-method | 0.083 | 0.002 | 0.087 | |
| numConditions-method | 0.078 | 0.003 | 0.081 | |
| numFeatures-method | 0.097 | 0.003 | 0.100 | |
| numMCInstances-method | 0.082 | 0.002 | 0.083 | |
| plot.aldex | 0.000 | 0.001 | 0.000 | |