| Back to Multiple platform build/check report for BioC 3.11 |
|
This page was generated on 2020-10-17 11:54:20 -0400 (Sat, 17 Oct 2020).
| TO THE DEVELOPERS/MAINTAINERS OF THE ACE PACKAGE: Please make sure to use the following settings in order to reproduce any error or warning you see on this page. |
| Package 12/1905 | Hostname | OS / Arch | INSTALL | BUILD | CHECK | BUILD BIN | ||||||
| ACE 1.6.0 Jos B Poell
| malbec2 | Linux (Ubuntu 18.04.4 LTS) / x86_64 | OK | OK | [ OK ] | |||||||
| tokay2 | Windows Server 2012 R2 Standard / x64 | OK | OK | OK | OK | |||||||
| machv2 | macOS 10.14.6 Mojave / x86_64 | OK | OK | OK | OK |
| Package: ACE |
| Version: 1.6.0 |
| Command: /home/biocbuild/bbs-3.11-bioc/R/bin/R CMD check --install=check:ACE.install-out.txt --library=/home/biocbuild/bbs-3.11-bioc/R/library --no-vignettes --timings ACE_1.6.0.tar.gz |
| StartedAt: 2020-10-16 22:38:39 -0400 (Fri, 16 Oct 2020) |
| EndedAt: 2020-10-16 22:41:48 -0400 (Fri, 16 Oct 2020) |
| EllapsedTime: 189.1 seconds |
| RetCode: 0 |
| Status: OK |
| CheckDir: ACE.Rcheck |
| Warnings: 0 |
##############################################################################
##############################################################################
###
### Running command:
###
### /home/biocbuild/bbs-3.11-bioc/R/bin/R CMD check --install=check:ACE.install-out.txt --library=/home/biocbuild/bbs-3.11-bioc/R/library --no-vignettes --timings ACE_1.6.0.tar.gz
###
##############################################################################
##############################################################################
* using log directory ‘/home/biocbuild/bbs-3.11-bioc/meat/ACE.Rcheck’
* using R version 4.0.3 (2020-10-10)
* using platform: x86_64-pc-linux-gnu (64-bit)
* using session charset: UTF-8
* using option ‘--no-vignettes’
* checking for file ‘ACE/DESCRIPTION’ ... OK
* this is package ‘ACE’ version ‘1.6.0’
* package encoding: UTF-8
* checking package namespace information ... OK
* checking package dependencies ... OK
* checking if this is a source package ... OK
* checking if there is a namespace ... OK
* checking for hidden files and directories ... OK
* checking for portable file names ... OK
* checking for sufficient/correct file permissions ... OK
* checking whether package ‘ACE’ can be installed ... OK
* checking installed package size ... OK
* checking package directory ... OK
* checking ‘build’ directory ... OK
* checking DESCRIPTION meta-information ... OK
* checking top-level files ... OK
* checking for left-over files ... OK
* checking index information ... OK
* checking package subdirectories ... OK
* checking R files for non-ASCII characters ... OK
* checking R files for syntax errors ... OK
* checking whether the package can be loaded ... OK
* checking whether the package can be loaded with stated dependencies ... OK
* checking whether the package can be unloaded cleanly ... OK
* checking whether the namespace can be loaded with stated dependencies ... OK
* checking whether the namespace can be unloaded cleanly ... OK
* checking dependencies in R code ... NOTE
Unexported object imported by a ':::' call: ‘QDNAseq:::sdDiffTrim’
See the note in ?`:::` about the use of this operator.
* checking S3 generic/method consistency ... OK
* checking replacement functions ... OK
* checking foreign function calls ... OK
* checking R code for possible problems ... OK
* checking Rd files ... OK
* checking Rd metadata ... OK
* checking Rd cross-references ... OK
* checking for missing documentation entries ... OK
* checking for code/documentation mismatches ... OK
* checking Rd \usage sections ... OK
* checking Rd contents ... OK
* checking for unstated dependencies in examples ... OK
* checking contents of ‘data’ directory ... OK
* checking data for non-ASCII characters ... OK
* checking data for ASCII and uncompressed saves ... OK
* checking files in ‘vignettes’ ... OK
* checking examples ... OK
Examples with CPU (user + system) or elapsed time > 5s
user system elapsed
squaremodelsummary 11.432 0.024 11.456
squaremodel 8.037 0.012 8.049
twosamplecompare 5.540 0.008 5.547
* checking for unstated dependencies in vignettes ... OK
* checking package vignettes in ‘inst/doc’ ... OK
* checking running R code from vignettes ... SKIPPED
* checking re-building of vignette outputs ... SKIPPED
* checking PDF version of manual ... OK
* DONE
Status: 1 NOTE
See
‘/home/biocbuild/bbs-3.11-bioc/meat/ACE.Rcheck/00check.log’
for details.
ACE.Rcheck/00install.out
############################################################################## ############################################################################## ### ### Running command: ### ### /home/biocbuild/bbs-3.11-bioc/R/bin/R CMD INSTALL ACE ### ############################################################################## ############################################################################## * installing to library ‘/home/biocbuild/bbs-3.11-bioc/R/library’ * installing *source* package ‘ACE’ ... ** using staged installation ** R ** data *** moving datasets to lazyload DB ** inst ** byte-compile and prepare package for lazy loading ** help *** installing help indices ** building package indices ** installing vignettes ** testing if installed package can be loaded from temporary location ** testing if installed package can be loaded from final location ** testing if installed package keeps a record of temporary installation path * DONE (ACE)
ACE.Rcheck/ACE-Ex.timings
| name | user | system | elapsed | |
| ACEcall | 1.894 | 0.204 | 2.098 | |
| analyzegenomiclocations | 0.026 | 0.000 | 0.026 | |
| compresstemplate | 0.071 | 0.000 | 0.071 | |
| copyNumbersSegmented | 1.356 | 0.024 | 1.381 | |
| correlationmatrix | 0.107 | 0.004 | 0.111 | |
| forcesegmentsontemplate | 0.368 | 0.000 | 0.368 | |
| getadjustedsegments | 0.189 | 0.000 | 0.188 | |
| linkvariants | 0.024 | 0.000 | 0.024 | |
| loopsquaremodel | 3.841 | 0.012 | 3.854 | |
| objectsampletotemplate | 0.006 | 0.000 | 0.006 | |
| postanalysisloop | 0 | 0 | 0 | |
| runACE | 0 | 0 | 0 | |
| singlemodel | 0.728 | 0.008 | 0.736 | |
| singleplot | 1.407 | 0.012 | 1.419 | |
| squaremodel | 8.037 | 0.012 | 8.049 | |
| squaremodelsummary | 11.432 | 0.024 | 11.456 | |
| templatefromequalsegments | 0.029 | 0.000 | 0.029 | |
| twosamplecompare | 5.540 | 0.008 | 5.547 | |