| Back to Multiple platform build/check report for BioC 3.11 |
|
This page was generated on 2020-10-17 11:56:02 -0400 (Sat, 17 Oct 2020).
| TO THE DEVELOPERS/MAINTAINERS OF THE ABarray PACKAGE: Please make sure to use the following settings in order to reproduce any error or warning you see on this page. |
| Package 8/1905 | Hostname | OS / Arch | INSTALL | BUILD | CHECK | BUILD BIN | ||||||
| ABarray 1.56.0 Yongming Andrew Sun
| malbec2 | Linux (Ubuntu 18.04.4 LTS) / x86_64 | OK | OK | OK | |||||||
| tokay2 | Windows Server 2012 R2 Standard / x64 | OK | OK | OK | [ OK ] | |||||||
| machv2 | macOS 10.14.6 Mojave / x86_64 | OK | OK | OK | OK |
| Package: ABarray |
| Version: 1.56.0 |
| Command: rm -rf ABarray.buildbin-libdir && mkdir ABarray.buildbin-libdir && C:\Users\biocbuild\bbs-3.11-bioc\R\bin\R.exe CMD INSTALL --merge-multiarch --build --library=ABarray.buildbin-libdir ABarray_1.56.0.tar.gz |
| StartedAt: 2020-10-17 09:44:40 -0400 (Sat, 17 Oct 2020) |
| EndedAt: 2020-10-17 09:45:12 -0400 (Sat, 17 Oct 2020) |
| EllapsedTime: 32.5 seconds |
| RetCode: 0 |
| Status: OK |
| PackageFile: ABarray_1.56.0.zip |
| PackageFileSize: 649.9 KiB |
##############################################################################
##############################################################################
###
### Running command:
###
### rm -rf ABarray.buildbin-libdir && mkdir ABarray.buildbin-libdir && C:\Users\biocbuild\bbs-3.11-bioc\R\bin\R.exe CMD INSTALL --merge-multiarch --build --library=ABarray.buildbin-libdir ABarray_1.56.0.tar.gz
###
##############################################################################
##############################################################################
install for i386
* installing *source* package 'ABarray' ...
** using staged installation
** R
** inst
** byte-compile and prepare package for lazy loading
** help
*** installing help indices
converting help for package 'ABarray'
finding HTML links ... done
ABarray html
ABarrayGUI html
calcsn html
concord html
cvv html
cvvPlot html
doANOVA html
doLPE html
doPlotEset html
doPlotFCT html
doVennDiagram html
drawVennDiagram html
getMemberEset html
getPantherMap html
hclusterPlot html
icpPlot html
imputeFlag html
lpe.fdr.BH html
mamaplot html
matrixPlot html
mvaPair2 html
panel.cor html
panel.scatter html
qnNormalize html
rgcolorsfunc html
savejpg html
scaleColorBar html
snSummary html
** building package indices
** installing vignettes
** testing if installed package can be loaded from temporary location
** testing if installed package can be loaded from final location
** testing if installed package keeps a record of temporary installation path
install for x64
* installing *source* package 'ABarray' ...
** testing if installed package can be loaded
* MD5 sums
packaged installation of 'ABarray' as ABarray_1.56.0.zip
* DONE (ABarray)