Back to Multiple platform build/check report for BioC 3.11
ABCDEFGHIJKLMNOPQRS[T]UVWXYZ

BUILD BIN report for tximeta on tokay2

This page was generated on 2020-10-16 11:59:07 -0400 (Fri, 16 Oct 2020).

TO THE DEVELOPERS/MAINTAINERS OF THE tximeta PACKAGE: Please make sure to use the following settings in order to reproduce any error or warning you see on this page.
Package 1851/1905HostnameOS / ArchINSTALLBUILDCHECKBUILD BIN
tximeta 1.6.3
Michael Love
Snapshot Date: 2020-10-15 14:40:03 -0400 (Thu, 15 Oct 2020)
URL: https://git.bioconductor.org/packages/tximeta
Branch: RELEASE_3_11
Last Commit: 65c2753
Last Changed Date: 2020-08-20 08:14:52 -0400 (Thu, 20 Aug 2020)
malbec2 Linux (Ubuntu 18.04.4 LTS) / x86_64  OK  OK  OK UNNEEDED, same version exists in internal repository
tokay2 Windows Server 2012 R2 Standard / x64  OK  OK  OK [ OK ]UNNEEDED, same version exists in internal repository
machv2 macOS 10.14.6 Mojave / x86_64  OK  OK  OK  OK UNNEEDED, same version exists in internal repository

Summary

Package: tximeta
Version: 1.6.3
Command: rm -rf tximeta.buildbin-libdir && mkdir tximeta.buildbin-libdir && C:\Users\biocbuild\bbs-3.11-bioc\R\bin\R.exe CMD INSTALL --merge-multiarch --build --library=tximeta.buildbin-libdir tximeta_1.6.3.tar.gz
StartedAt: 2020-10-16 11:32:18 -0400 (Fri, 16 Oct 2020)
EndedAt: 2020-10-16 11:33:56 -0400 (Fri, 16 Oct 2020)
EllapsedTime: 97.5 seconds
RetCode: 0
Status:  OK  
PackageFile: tximeta_1.6.3.zip
PackageFileSize: 731.9 KiB

Command output

##############################################################################
##############################################################################
###
### Running command:
###
###   rm -rf tximeta.buildbin-libdir && mkdir tximeta.buildbin-libdir && C:\Users\biocbuild\bbs-3.11-bioc\R\bin\R.exe CMD INSTALL --merge-multiarch --build --library=tximeta.buildbin-libdir tximeta_1.6.3.tar.gz
###
##############################################################################
##############################################################################



install for i386

* installing *source* package 'tximeta' ...
** using staged installation
** R
** inst
** byte-compile and prepare package for lazy loading
** help
*** installing help indices
  converting help for package 'tximeta'
    finding HTML links ... done
    addExons                                html  
    addIds                                  html  
    getTximetaBFC                           html  
    linkedTxome                             html  
    makeDGEList                             html  
    retrieveDb                              html  
    splitSE                                 html  
    summarizeToGene                         html  
    tximeta-package                         html  
    finding level-2 HTML links ... done

    tximeta                                 html  
** building package indices
** installing vignettes
** testing if installed package can be loaded from temporary location
** testing if installed package can be loaded from final location
** testing if installed package keeps a record of temporary installation path

install for x64

* installing *source* package 'tximeta' ...
** testing if installed package can be loaded
* MD5 sums
packaged installation of 'tximeta' as tximeta_1.6.3.zip
* DONE (tximeta)