| Back to Multiple platform build/check report for BioC 3.11 | 
 | 
This page was generated on 2020-10-17 11:57:56 -0400 (Sat, 17 Oct 2020).
| TO THE DEVELOPERS/MAINTAINERS OF THE timecourse PACKAGE: Please make sure to use the following settings in order to reproduce any error or warning you see on this page. | 
| Package 1800/1905 | Hostname | OS / Arch | INSTALL | BUILD | CHECK | BUILD BIN | ||||||
| timecourse 1.60.0 Yu Chuan Tai 
 | malbec2 | Linux (Ubuntu 18.04.4 LTS) / x86_64 | OK | OK | OK | |||||||
| tokay2 | Windows Server 2012 R2 Standard / x64 | OK | OK | [ OK ] | NA | |||||||
| machv2 | macOS 10.14.6 Mojave / x86_64 | OK | OK | OK | OK | 
| Package: timecourse | 
| Version: 1.60.0 | 
| Command: C:\Users\biocbuild\bbs-3.11-bioc\R\bin\R.exe CMD check --force-multiarch --install=check:timecourse.install-out.txt --library=C:\Users\biocbuild\bbs-3.11-bioc\R\library --no-vignettes --timings timecourse_1.60.0.tar.gz | 
| StartedAt: 2020-10-17 08:51:47 -0400 (Sat, 17 Oct 2020) | 
| EndedAt: 2020-10-17 08:53:03 -0400 (Sat, 17 Oct 2020) | 
| EllapsedTime: 76.0 seconds | 
| RetCode: 0 | 
| Status: OK | 
| CheckDir: timecourse.Rcheck | 
| Warnings: 0 | 
############################################################################## ############################################################################## ### ### Running command: ### ### C:\Users\biocbuild\bbs-3.11-bioc\R\bin\R.exe CMD check --force-multiarch --install=check:timecourse.install-out.txt --library=C:\Users\biocbuild\bbs-3.11-bioc\R\library --no-vignettes --timings timecourse_1.60.0.tar.gz ### ############################################################################## ############################################################################## * using log directory 'C:/Users/biocbuild/bbs-3.11-bioc/meat/timecourse.Rcheck' * using R version 4.0.3 (2020-10-10) * using platform: x86_64-w64-mingw32 (64-bit) * using session charset: ISO8859-1 * using option '--no-vignettes' * checking for file 'timecourse/DESCRIPTION' ... OK * this is package 'timecourse' version '1.60.0' * checking package namespace information ... OK * checking package dependencies ... OK * checking if this is a source package ... OK * checking if there is a namespace ... OK * checking for hidden files and directories ... OK * checking for portable file names ... OK * checking whether package 'timecourse' can be installed ... OK * checking installed package size ... OK * checking package directory ... OK * checking 'build' directory ... OK * checking DESCRIPTION meta-information ... NOTE Packages listed in more than one of Depends, Imports, Suggests, Enhances: 'MASS' 'methods' A package should be listed in only one of these fields. * checking top-level files ... OK * checking for left-over files ... OK * checking index information ... OK * checking package subdirectories ... OK * checking R files for non-ASCII characters ... OK * checking R files for syntax errors ... OK * loading checks for arch 'i386' ** checking whether the package can be loaded ... OK ** checking whether the package can be loaded with stated dependencies ... OK ** checking whether the package can be unloaded cleanly ... OK ** checking whether the namespace can be loaded with stated dependencies ... OK ** checking whether the namespace can be unloaded cleanly ... OK * loading checks for arch 'x64' ** checking whether the package can be loaded ... OK ** checking whether the package can be loaded with stated dependencies ... OK ** checking whether the package can be unloaded cleanly ... OK ** checking whether the namespace can be loaded with stated dependencies ... OK ** checking whether the namespace can be unloaded cleanly ... OK * checking dependencies in R code ... OK * checking S3 generic/method consistency ... OK * checking replacement functions ... OK * checking foreign function calls ... OK * checking R code for possible problems ... NOTE NB: .First.lib is obsolete and will not be used in R >= 3.0.0 File 'timecourse/R/zzz.R': .First.lib has wrong argument list 'libname, pkgname, where' Package startup functions should have two arguments with names starting with 'lib' and 'pkg', respectively. See section 'Good practice' in '?.onAttach'. mb.2D : <anonymous>: no visible binding for global variable 'n' mb.2D : <anonymous>: no visible binding for global variable 'T1' mb.2D : <anonymous>: no visible binding for global variable 'xbar' mb.2D : <anonymous>: no visible binding for global variable 'modS1' Undefined global functions or variables: T1 modS1 n xbar * checking Rd files ... OK * checking Rd metadata ... OK * checking Rd cross-references ... OK * checking for missing documentation entries ... OK * checking for code/documentation mismatches ... OK * checking Rd \usage sections ... OK * checking Rd contents ... OK * checking for unstated dependencies in examples ... OK * checking contents of 'data' directory ... OK * checking data for non-ASCII characters ... OK * checking data for ASCII and uncompressed saves ... OK * checking files in 'vignettes' ... OK * checking examples ... ** running examples for arch 'i386' ... OK ** running examples for arch 'x64' ... OK * checking for unstated dependencies in vignettes ... OK * checking package vignettes in 'inst/doc' ... OK * checking running R code from vignettes ... SKIPPED * checking re-building of vignette outputs ... SKIPPED * checking PDF version of manual ... OK * DONE Status: 2 NOTEs See 'C:/Users/biocbuild/bbs-3.11-bioc/meat/timecourse.Rcheck/00check.log' for details.
timecourse.Rcheck/00install.out
##############################################################################
##############################################################################
###
### Running command:
###
###   C:\cygwin\bin\curl.exe -O https://malbec2.bioconductor.org/BBS/3.11/bioc/src/contrib/timecourse_1.60.0.tar.gz && rm -rf timecourse.buildbin-libdir && mkdir timecourse.buildbin-libdir && C:\Users\biocbuild\bbs-3.11-bioc\R\bin\R.exe CMD INSTALL --merge-multiarch --build --library=timecourse.buildbin-libdir timecourse_1.60.0.tar.gz && C:\Users\biocbuild\bbs-3.11-bioc\R\bin\R.exe CMD INSTALL timecourse_1.60.0.zip && rm timecourse_1.60.0.tar.gz timecourse_1.60.0.zip
###
##############################################################################
##############################################################################
  % Total    % Received % Xferd  Average Speed   Time    Time     Time  Current
                                 Dload  Upload   Total   Spent    Left  Speed
  0     0    0     0    0     0      0      0 --:--:-- --:--:-- --:--:--     0
 26  552k   26  144k    0     0   605k      0 --:--:-- --:--:-- --:--:--  620k
100  552k  100  552k    0     0  1637k      0 --:--:-- --:--:-- --:--:-- 1665k
install for i386
* installing *source* package 'timecourse' ...
** using staged installation
** R
** data
** byte-compile and prepare package for lazy loading
** help
*** installing help indices
  converting help for package 'timecourse'
    finding HTML links ... done
    abs2ratio                               html  
    fruitfly                                html  
    marrayTC-class                          html  
    matrix.cov                              html  
    mb.MANOVA                               html  
    mb.long                                 html  
    ot.helmert                              html  
    plotProfile                             html  
    univ.func                               html  
** building package indices
** installing vignettes
** testing if installed package can be loaded from temporary location
** testing if installed package can be loaded from final location
** testing if installed package keeps a record of temporary installation path
install for x64
* installing *source* package 'timecourse' ...
** testing if installed package can be loaded
* MD5 sums
packaged installation of 'timecourse' as timecourse_1.60.0.zip
* DONE (timecourse)
* installing to library 'C:/Users/biocbuild/bbs-3.11-bioc/R/library'
package 'timecourse' successfully unpacked and MD5 sums checked
| timecourse.Rcheck/examples_i386/timecourse-Ex.timings 
 | timecourse.Rcheck/examples_x64/timecourse-Ex.timings 
 |