| Back to Multiple platform build/check report for BioC 3.11 |
|
This page was generated on 2020-10-17 11:57:56 -0400 (Sat, 17 Oct 2020).
| TO THE DEVELOPERS/MAINTAINERS OF THE timeOmics PACKAGE: Please make sure to use the following settings in order to reproduce any error or warning you see on this page. |
| Package 1801/1905 | Hostname | OS / Arch | INSTALL | BUILD | CHECK | BUILD BIN | ||||||
| timeOmics 1.0.1 Antoine Bodein
| malbec2 | Linux (Ubuntu 18.04.4 LTS) / x86_64 | ERROR | ERROR | skipped | |||||||
| tokay2 | Windows Server 2012 R2 Standard / x64 | ERROR | [ ERROR ] | skipped | skipped | |||||||
| machv2 | macOS 10.14.6 Mojave / x86_64 | ERROR | ERROR | skipped | skipped |
| Package: timeOmics |
| Version: 1.0.1 |
| Command: chmod a+r timeOmics -R && C:\Users\biocbuild\bbs-3.11-bioc\R\bin\R.exe CMD build --keep-empty-dirs --no-resave-data timeOmics |
| StartedAt: 2020-10-17 00:59:31 -0400 (Sat, 17 Oct 2020) |
| EndedAt: 2020-10-17 00:59:37 -0400 (Sat, 17 Oct 2020) |
| EllapsedTime: 6.7 seconds |
| RetCode: 1 |
| Status: ERROR |
| PackageFile: timeOmics_1.0.1.tar.gz |
| PackageFileSize: 614.2 KiB |
##############################################################################
##############################################################################
###
### Running command:
###
### chmod a+r timeOmics -R && C:\Users\biocbuild\bbs-3.11-bioc\R\bin\R.exe CMD build --keep-empty-dirs --no-resave-data timeOmics
###
##############################################################################
##############################################################################
* checking for file 'timeOmics/DESCRIPTION' ... OK
* preparing 'timeOmics':
* checking DESCRIPTION meta-information ... OK
* installing the package to build vignettes
-----------------------------------
ERROR: dependency 'lmms' is not available for package 'timeOmics'
* removing 'C:/Users/biocbuild/bbs-3.11-bioc/tmpdir/Rtmp02g0KX/Rinst24603aa77cba/timeOmics'
-----------------------------------
ERROR: package installation failed