| Back to Multiple platform build/check report for BioC 3.11 | 
 | 
This page was generated on 2020-10-17 11:59:46 -0400 (Sat, 17 Oct 2020).
| TO THE DEVELOPERS/MAINTAINERS OF THE ternarynet PACKAGE: Please make sure to use the following settings in order to reproduce any error or warning you see on this page. | 
| Package 1791/1905 | Hostname | OS / Arch | INSTALL | BUILD | CHECK | BUILD BIN | ||||||
| ternarynet 1.32.0 Matthew N. McCall 
 | malbec2 | Linux (Ubuntu 18.04.4 LTS) / x86_64 | OK | OK | OK |  | ||||||
| tokay2 | Windows Server 2012 R2 Standard / x64 | OK | OK | OK | NA | |||||||
| machv2 | macOS 10.14.6 Mojave / x86_64 | OK | OK | OK | [ OK ] |  | 
| Package: ternarynet | 
| Version: 1.32.0 | 
| Command: rm -rf ternarynet.buildbin-libdir && mkdir ternarynet.buildbin-libdir && /Users/biocbuild/BBS/utils/build-universal.sh ternarynet_1.32.0.tar.gz /Library/Frameworks/R.framework/Versions/Current/Resources/bin/R ternarynet.buildbin-libdir | 
| StartedAt: 2020-10-17 08:06:29 -0400 (Sat, 17 Oct 2020) | 
| EndedAt: 2020-10-17 08:06:45 -0400 (Sat, 17 Oct 2020) | 
| EllapsedTime: 16.1 seconds | 
| RetCode: 0 | 
| Status: OK | 
| PackageFile: ternarynet_1.32.0.tgz | 
| PackageFileSize: 409.3 KiB | 
##############################################################################
##############################################################################
###
### Running command:
###
###   rm -rf ternarynet.buildbin-libdir && mkdir ternarynet.buildbin-libdir && /Users/biocbuild/BBS/utils/build-universal.sh ternarynet_1.32.0.tar.gz /Library/Frameworks/R.framework/Versions/Current/Resources/bin/R ternarynet.buildbin-libdir
###
##############################################################################
##############################################################################
>>>>>>> 
>>>>>>> INSTALLATION WITH 'R CMD INSTALL --preclean --no-multiarch --library=ternarynet.buildbin-libdir ternarynet_1.32.0.tar.gz'
>>>>>>> 
* installing *source* package ‘ternarynet’ ...
** using staged installation
** libs
clang++ -mmacosx-version-min=10.13 -std=gnu++11 -I"/Library/Frameworks/R.framework/Resources/include" -DNDEBUG   -I/usr/local/include   -fPIC  -Wall -g -O2  -c tnetfit.cc -o tnetfit.o
tnetfit.cc:73:39: warning: unused variable 'tempi' [-Wunused-variable]
    int nOutcomes=3, l0, stage_count, tempi, jtrans, nTransition;
                                      ^
1 warning generated.
clang++ -mmacosx-version-min=10.13 -std=gnu++11 -I"/Library/Frameworks/R.framework/Resources/include" -DNDEBUG   -I/usr/local/include   -fPIC  -Wall -g -O2  -c tnetfuncs.cc -o tnetfuncs.o
tnetfuncs.cc:435:5: warning: unused variable 'ipause' [-Wunused-variable]
int ipause;
    ^
tnetfuncs.cc:427:5: warning: unused variable 'tableWidth' [-Wunused-variable]
int tableWidth = powi(nOutcomes,maxDegree);
    ^
tnetfuncs.cc:521:16: warning: unused variable 'i' [-Wunused-variable]
        int m1, m2, i;
                    ^
tnetfuncs.cc:517:6: warning: unused variable 'ipause' [-Wunused-variable]
        int ipause; 
            ^
4 warnings generated.
clang++ -mmacosx-version-min=10.13 -std=gnu++11 -I"/Library/Frameworks/R.framework/Resources/include" -DNDEBUG   -I/usr/local/include   -fPIC  -Wall -g -O2  -c tnetpost.cc -o tnetpost.o
tnetpost.cc:27:9: warning: unused variable 'm0fit' [-Wunused-variable]
    int m0fit;
        ^
tnetpost.cc:28:42: warning: unused variable 'finalScore' [-Wunused-variable]
    double newScore, oldScore, minScore, finalScore;
                                         ^
tnetpost.cc:30:9: warning: unused variable 'l0' [-Wunused-variable]
    int l0, stage_count, tempi, jtrans, nTransition;
        ^
tnetpost.cc:25:9: warning: unused variable 'ipause' [-Wunused-variable]
    int ipause;
        ^
tnetpost.cc:30:13: warning: unused variable 'stage_count' [-Wunused-variable]
    int l0, stage_count, tempi, jtrans, nTransition;
            ^
tnetpost.cc:30:26: warning: unused variable 'tempi' [-Wunused-variable]
    int l0, stage_count, tempi, jtrans, nTransition;
                         ^
tnetpost.cc:30:33: warning: unused variable 'jtrans' [-Wunused-variable]
    int l0, stage_count, tempi, jtrans, nTransition;
                                ^
tnetpost.cc:30:41: warning: unused variable 'nTransition' [-Wunused-variable]
    int l0, stage_count, tempi, jtrans, nTransition;
                                        ^
8 warnings generated.
clang++ -mmacosx-version-min=10.13 -std=gnu++11 -dynamiclib -Wl,-headerpad_max_install_names -undefined dynamic_lookup -single_module -multiply_defined suppress -L/Library/Frameworks/R.framework/Resources/lib -L/usr/local/lib -o ternarynet.so tnetfit.o tnetfuncs.o tnetpost.o -F/Library/Frameworks/R.framework/.. -framework R -Wl,-framework -Wl,CoreFoundation
installing to /Users/biocbuild/bbs-3.11-bioc/meat/ternarynet.buildbin-libdir/00LOCK-ternarynet/00new/ternarynet/libs
** R
** inst
** byte-compile and prepare package for lazy loading
** help
*** installing help indices
** building package indices
** installing vignettes
** testing if installed package can be loaded from temporary location
** checking absolute paths in shared objects and dynamic libraries
** testing if installed package can be loaded from final location
** testing if installed package keeps a record of temporary installation path
* DONE (ternarynet)
>>>>>>> 
>>>>>>> FIXING LINKS FOR ternarynet.buildbin-libdir/ternarynet/libs/ternarynet.so
>>>>>>> 
install_name_tool -change "/usr/local/lib/libgcc_s.1.dylib" "/Library/Frameworks/R.framework/Versions/4.0/Resources/lib/libgcc_s.1.dylib" "ternarynet.buildbin-libdir/ternarynet/libs/ternarynet.so"
install_name_tool -change "/usr/local/lib/libgfortran.5.dylib" "/Library/Frameworks/R.framework/Versions/4.0/Resources/lib/libgfortran.5.dylib" "ternarynet.buildbin-libdir/ternarynet/libs/ternarynet.so"
install_name_tool -change "/usr/local/lib/libquadmath.0.dylib" "/Library/Frameworks/R.framework/Versions/4.0/Resources/lib/libquadmath.0.dylib" "ternarynet.buildbin-libdir/ternarynet/libs/ternarynet.so"