| Back to Multiple platform build/check report for BioC 3.11 | 
 | 
This page was generated on 2020-10-17 11:55:58 -0400 (Sat, 17 Oct 2020).
| TO THE DEVELOPERS/MAINTAINERS OF THE tRNAdbImport PACKAGE: Please make sure to use the following settings in order to reproduce any error or warning you see on this page. | 
| Package 1838/1905 | Hostname | OS / Arch | INSTALL | BUILD | CHECK | BUILD BIN | ||||||
| tRNAdbImport 1.6.1 Felix G.M. Ernst 
 | malbec2 | Linux (Ubuntu 18.04.4 LTS) / x86_64 | OK | [ OK ] | OK |  | ||||||
| tokay2 | Windows Server 2012 R2 Standard / x64 | OK | OK | OK | NA | |||||||
| machv2 | macOS 10.14.6 Mojave / x86_64 | OK | OK | OK | OK |  | 
| Package: tRNAdbImport | 
| Version: 1.6.1 | 
| Command: /home/biocbuild/bbs-3.11-bioc/R/bin/R CMD build --keep-empty-dirs --no-resave-data tRNAdbImport | 
| StartedAt: 2020-10-16 22:18:59 -0400 (Fri, 16 Oct 2020) | 
| EndedAt: 2020-10-16 22:19:50 -0400 (Fri, 16 Oct 2020) | 
| EllapsedTime: 51.5 seconds | 
| RetCode: 0 | 
| Status: OK | 
| PackageFile: tRNAdbImport_1.6.1.tar.gz | 
| PackageFileSize: 310.4 KiB | 
############################################################################## ############################################################################## ### ### Running command: ### ### /home/biocbuild/bbs-3.11-bioc/R/bin/R CMD build --keep-empty-dirs --no-resave-data tRNAdbImport ### ############################################################################## ############################################################################## * checking for file ‘tRNAdbImport/DESCRIPTION’ ... OK * preparing ‘tRNAdbImport’: * checking DESCRIPTION meta-information ... OK * installing the package to build vignettes * creating vignettes ... OK * checking for LF line-endings in source and make files and shell scripts * checking for empty or unneeded directories * building ‘tRNAdbImport_1.6.1.tar.gz’