| Back to Multiple platform build/check report for BioC 3.11 |
|
This page was generated on 2020-10-17 11:57:52 -0400 (Sat, 17 Oct 2020).
| TO THE DEVELOPERS/MAINTAINERS OF THE sscu PACKAGE: Please make sure to use the following settings in order to reproduce any error or warning you see on this page. |
| Package 1732/1905 | Hostname | OS / Arch | INSTALL | BUILD | CHECK | BUILD BIN | ||||||
| sscu 2.18.0 Yu Sun
| malbec2 | Linux (Ubuntu 18.04.4 LTS) / x86_64 | OK | OK | WARNINGS | |||||||
| tokay2 | Windows Server 2012 R2 Standard / x64 | OK | [ OK ] | WARNINGS | NA | |||||||
| machv2 | macOS 10.14.6 Mojave / x86_64 | OK | OK | WARNINGS | OK |
| Package: sscu |
| Version: 2.18.0 |
| Command: chmod a+r sscu -R && C:\Users\biocbuild\bbs-3.11-bioc\R\bin\R.exe CMD build --keep-empty-dirs --no-resave-data sscu |
| StartedAt: 2020-10-17 00:49:35 -0400 (Sat, 17 Oct 2020) |
| EndedAt: 2020-10-17 00:50:02 -0400 (Sat, 17 Oct 2020) |
| EllapsedTime: 26.8 seconds |
| RetCode: 0 |
| Status: OK |
| PackageFile: sscu_2.18.0.tar.gz |
| PackageFileSize: 1.286 MiB |
############################################################################## ############################################################################## ### ### Running command: ### ### chmod a+r sscu -R && C:\Users\biocbuild\bbs-3.11-bioc\R\bin\R.exe CMD build --keep-empty-dirs --no-resave-data sscu ### ############################################################################## ############################################################################## * checking for file 'sscu/DESCRIPTION' ... OK * preparing 'sscu': * checking DESCRIPTION meta-information ... OK * installing the package to process help pages * saving partial Rd database * checking for LF line-endings in source and make files and shell scripts * checking for empty or unneeded directories * building 'sscu_2.18.0.tar.gz'