| Back to Multiple platform build/check report for BioC 3.11 |
|
This page was generated on 2020-10-17 11:59:41 -0400 (Sat, 17 Oct 2020).
| TO THE DEVELOPERS/MAINTAINERS OF THE sparsenetgls PACKAGE: Please make sure to use the following settings in order to reproduce any error or warning you see on this page. |
| Package 1703/1905 | Hostname | OS / Arch | INSTALL | BUILD | CHECK | BUILD BIN | ||||||
| sparsenetgls 1.6.1 Irene SL Zeng
| malbec2 | Linux (Ubuntu 18.04.4 LTS) / x86_64 | OK | OK | OK | |||||||
| tokay2 | Windows Server 2012 R2 Standard / x64 | OK | OK | OK | NA | |||||||
| machv2 | macOS 10.14.6 Mojave / x86_64 | OK | OK | [ OK ] | OK |
| Package: sparsenetgls |
| Version: 1.6.1 |
| Command: /Library/Frameworks/R.framework/Versions/Current/Resources/bin/R CMD check --install=check:sparsenetgls.install-out.txt --library=/Library/Frameworks/R.framework/Versions/Current/Resources/library --no-vignettes --timings sparsenetgls_1.6.1.tar.gz |
| StartedAt: 2020-10-17 05:32:39 -0400 (Sat, 17 Oct 2020) |
| EndedAt: 2020-10-17 05:34:29 -0400 (Sat, 17 Oct 2020) |
| EllapsedTime: 110.1 seconds |
| RetCode: 0 |
| Status: OK |
| CheckDir: sparsenetgls.Rcheck |
| Warnings: 0 |
##############################################################################
##############################################################################
###
### Running command:
###
### /Library/Frameworks/R.framework/Versions/Current/Resources/bin/R CMD check --install=check:sparsenetgls.install-out.txt --library=/Library/Frameworks/R.framework/Versions/Current/Resources/library --no-vignettes --timings sparsenetgls_1.6.1.tar.gz
###
##############################################################################
##############################################################################
* using log directory ‘/Users/biocbuild/bbs-3.11-bioc/meat/sparsenetgls.Rcheck’
* using R version 4.0.3 (2020-10-10)
* using platform: x86_64-apple-darwin17.0 (64-bit)
* using session charset: UTF-8
* using option ‘--no-vignettes’
* checking for file ‘sparsenetgls/DESCRIPTION’ ... OK
* checking extension type ... Package
* this is package ‘sparsenetgls’ version ‘1.6.1’
* package encoding: UTF-8
* checking package namespace information ... OK
* checking package dependencies ... OK
* checking if this is a source package ... OK
* checking if there is a namespace ... OK
* checking for hidden files and directories ... OK
* checking for portable file names ... OK
* checking for sufficient/correct file permissions ... OK
* checking whether package ‘sparsenetgls’ can be installed ... OK
* checking installed package size ... OK
* checking package directory ... OK
* checking ‘build’ directory ... OK
* checking DESCRIPTION meta-information ... OK
* checking top-level files ... OK
* checking for left-over files ... OK
* checking index information ... OK
* checking package subdirectories ... OK
* checking R files for non-ASCII characters ... OK
* checking R files for syntax errors ... OK
* checking whether the package can be loaded ... OK
* checking whether the package can be loaded with stated dependencies ... OK
* checking whether the package can be unloaded cleanly ... OK
* checking whether the namespace can be loaded with stated dependencies ... OK
* checking whether the namespace can be unloaded cleanly ... OK
* checking dependencies in R code ... OK
* checking S3 generic/method consistency ... OK
* checking replacement functions ... OK
* checking foreign function calls ... OK
* checking R code for possible problems ... OK
* checking Rd files ... OK
* checking Rd metadata ... OK
* checking Rd cross-references ... OK
* checking for missing documentation entries ... OK
* checking for code/documentation mismatches ... OK
* checking Rd \usage sections ... OK
* checking Rd contents ... OK
* checking for unstated dependencies in examples ... OK
* checking contents of ‘data’ directory ... OK
* checking data for non-ASCII characters ... OK
* checking data for ASCII and uncompressed saves ... OK
* checking files in ‘vignettes’ ... OK
* checking examples ... OK
Examples with CPU (user + system) or elapsed time > 5s
user system elapsed
sparsenetgls 17.358 0.662 18.046
* checking for unstated dependencies in ‘tests’ ... OK
* checking tests ...
Running ‘testthat.R’
OK
* checking for unstated dependencies in vignettes ... OK
* checking package vignettes in ‘inst/doc’ ... OK
* checking running R code from vignettes ... SKIPPED
* checking re-building of vignette outputs ... SKIPPED
* checking PDF version of manual ... OK
* DONE
Status: OK
sparsenetgls.Rcheck/00install.out
############################################################################## ############################################################################## ### ### Running command: ### ### /Library/Frameworks/R.framework/Versions/Current/Resources/bin/R CMD INSTALL sparsenetgls ### ############################################################################## ############################################################################## * installing to library ‘/Library/Frameworks/R.framework/Versions/4.0/Resources/library’ * installing *source* package ‘sparsenetgls’ ... ** using staged installation ** R ** data *** moving datasets to lazyload DB ** byte-compile and prepare package for lazy loading ** help *** installing help indices ** building package indices ** installing vignettes ** testing if installed package can be loaded from temporary location ** testing if installed package can be loaded from final location ** testing if installed package keeps a record of temporary installation path * DONE (sparsenetgls)
sparsenetgls.Rcheck/tests/testthat.Rout
R version 4.0.3 (2020-10-10) -- "Bunny-Wunnies Freak Out"
Copyright (C) 2020 The R Foundation for Statistical Computing
Platform: x86_64-apple-darwin17.0 (64-bit)
R is free software and comes with ABSOLUTELY NO WARRANTY.
You are welcome to redistribute it under certain conditions.
Type 'license()' or 'licence()' for distribution details.
R is a collaborative project with many contributors.
Type 'contributors()' for more information and
'citation()' on how to cite R or R packages in publications.
Type 'demo()' for some demos, 'help()' for on-line help, or
'help.start()' for an HTML browser interface to help.
Type 'q()' to quit R.
> library(testthat)
> library(lme4)
Loading required package: Matrix
> library(Matrix)
> library(MASS)
> library(sparsenetgls)
>
> test_check("sparsenetgls")
The input is identified as the covariance matrix.
Conducting the graphical lasso (glasso) wtih lossless screening....in progress: 19%
Conducting the graphical lasso (glasso) wtih lossless screening....in progress: 40%
Conducting the graphical lasso (glasso) wtih lossless screening....in progress: 60%
Conducting the graphical lasso (glasso)....done.
The input is identified as the covariance matrix.
Conducting the graphical lasso (glasso) wtih lossy screening....in progress: 9%
Conducting the graphical lasso (glasso) wtih lossy screening....in progress: 19%
Conducting the graphical lasso (glasso) wtih lossy screening....in progress: 30%
Conducting the graphical lasso (glasso) wtih lossy screening....in progress: 40%
Conducting the graphical lasso (glasso) wtih lossy screening....in progress: 50%
Conducting the graphical lasso (glasso) wtih lossy screening....in progress: 60%
Conducting the graphical lasso (glasso) wtih lossy screening....in progress: 70%
Conducting the graphical lasso (glasso) wtih lossy screening....in progress: 80%
Conducting the graphical lasso (glasso) wtih lossy screening....in progress: 90%
Conducting the graphical lasso (glasso)....done.
══ testthat results ═══════════════════════════════════════════════════════════
[ OK: 2 | SKIPPED: 0 | WARNINGS: 0 | FAILED: 0 ]
>
> proc.time()
user system elapsed
17.167 1.384 18.556
sparsenetgls.Rcheck/sparsenetgls-Ex.timings
| name | user | system | elapsed | |
| assess_direct | 0.001 | 0.001 | 0.001 | |
| bandprec | 0.022 | 0.004 | 0.026 | |
| convertbeta | 0.452 | 0.008 | 0.460 | |
| glassonet2 | 0.645 | 0.006 | 0.652 | |
| lassoglmnet | 0.023 | 0.001 | 0.023 | |
| path_result_for_roc | 0.003 | 0.001 | 0.003 | |
| plot_roc | 0.009 | 0.001 | 0.010 | |
| plotsngls | 2.219 | 0.084 | 2.305 | |
| sparsenetgls | 17.358 | 0.662 | 18.046 | |