| Back to Multiple platform build/check report for BioC 3.11 |
|
This page was generated on 2020-10-17 11:57:48 -0400 (Sat, 17 Oct 2020).
| TO THE DEVELOPERS/MAINTAINERS OF THE seqPattern PACKAGE: Please make sure to use the following settings in order to reproduce any error or warning you see on this page. |
| Package 1632/1905 | Hostname | OS / Arch | INSTALL | BUILD | CHECK | BUILD BIN | ||||||
| seqPattern 1.20.0 Vanja Haberle
| malbec2 | Linux (Ubuntu 18.04.4 LTS) / x86_64 | OK | OK | OK | |||||||
| tokay2 | Windows Server 2012 R2 Standard / x64 | OK | OK | OK | [ OK ] | |||||||
| machv2 | macOS 10.14.6 Mojave / x86_64 | OK | OK | OK | OK |
| Package: seqPattern |
| Version: 1.20.0 |
| Command: rm -rf seqPattern.buildbin-libdir && mkdir seqPattern.buildbin-libdir && C:\Users\biocbuild\bbs-3.11-bioc\R\bin\R.exe CMD INSTALL --merge-multiarch --build --library=seqPattern.buildbin-libdir seqPattern_1.20.0.tar.gz |
| StartedAt: 2020-10-17 11:38:50 -0400 (Sat, 17 Oct 2020) |
| EndedAt: 2020-10-17 11:39:22 -0400 (Sat, 17 Oct 2020) |
| EllapsedTime: 32.1 seconds |
| RetCode: 0 |
| Status: OK |
| PackageFile: seqPattern_1.20.0.zip |
| PackageFileSize: 3.539 MiB |
##############################################################################
##############################################################################
###
### Running command:
###
### rm -rf seqPattern.buildbin-libdir && mkdir seqPattern.buildbin-libdir && C:\Users\biocbuild\bbs-3.11-bioc\R\bin\R.exe CMD INSTALL --merge-multiarch --build --library=seqPattern.buildbin-libdir seqPattern_1.20.0.tar.gz
###
##############################################################################
##############################################################################
install for i386
* installing *source* package 'seqPattern' ...
** using staged installation
** R
** data
** inst
** byte-compile and prepare package for lazy loading
** help
*** installing help indices
converting help for package 'seqPattern'
finding HTML links ... done
TBPpwm html
getPatternOccurrenceList html
finding level-2 HTML links ... done
motifScanHits html
motifScanScores html
plotMotifDensityMap html
plotMotifOccurrenceAverage html
plotMotifScanScores html
plotPatternDensityMap html
plotPatternOccurrenceAverage html
seqPattern-package html
zebrafisPromoters html
zebrafisPromoters24h html
** building package indices
** installing vignettes
** testing if installed package can be loaded from temporary location
** testing if installed package can be loaded from final location
** testing if installed package keeps a record of temporary installation path
install for x64
* installing *source* package 'seqPattern' ...
** testing if installed package can be loaded
* MD5 sums
packaged installation of 'seqPattern' as seqPattern_1.20.0.zip
* DONE (seqPattern)