| Back to Multiple platform build/check report for BioC 3.11 |
|
This page was generated on 2020-10-17 11:57:45 -0400 (Sat, 17 Oct 2020).
| TO THE DEVELOPERS/MAINTAINERS OF THE schex PACKAGE: Please make sure to use the following settings in order to reproduce any error or warning you see on this page. |
| Package 1595/1905 | Hostname | OS / Arch | INSTALL | BUILD | CHECK | BUILD BIN | ||||||
| schex 1.2.0 Saskia Freytag
| malbec2 | Linux (Ubuntu 18.04.4 LTS) / x86_64 | OK | OK | OK | |||||||
| tokay2 | Windows Server 2012 R2 Standard / x64 | [ OK ] | OK | OK | OK | |||||||
| machv2 | macOS 10.14.6 Mojave / x86_64 | OK | OK | OK | OK |
| Package: schex |
| Version: 1.2.0 |
| Command: C:\cygwin\bin\curl.exe -O https://malbec2.bioconductor.org/BBS/3.11/bioc/src/contrib/schex_1.2.0.tar.gz && rm -rf schex.buildbin-libdir && mkdir schex.buildbin-libdir && C:\Users\biocbuild\bbs-3.11-bioc\R\bin\R.exe CMD INSTALL --merge-multiarch --build --library=schex.buildbin-libdir schex_1.2.0.tar.gz && C:\Users\biocbuild\bbs-3.11-bioc\R\bin\R.exe CMD INSTALL schex_1.2.0.zip && rm schex_1.2.0.tar.gz schex_1.2.0.zip |
| StartedAt: 2020-10-16 19:04:32 -0400 (Fri, 16 Oct 2020) |
| EndedAt: 2020-10-16 19:09:04 -0400 (Fri, 16 Oct 2020) |
| EllapsedTime: 272.4 seconds |
| RetCode: 0 |
| Status: OK |
##############################################################################
##############################################################################
###
### Running command:
###
### C:\cygwin\bin\curl.exe -O https://malbec2.bioconductor.org/BBS/3.11/bioc/src/contrib/schex_1.2.0.tar.gz && rm -rf schex.buildbin-libdir && mkdir schex.buildbin-libdir && C:\Users\biocbuild\bbs-3.11-bioc\R\bin\R.exe CMD INSTALL --merge-multiarch --build --library=schex.buildbin-libdir schex_1.2.0.tar.gz && C:\Users\biocbuild\bbs-3.11-bioc\R\bin\R.exe CMD INSTALL schex_1.2.0.zip && rm schex_1.2.0.tar.gz schex_1.2.0.zip
###
##############################################################################
##############################################################################
% Total % Received % Xferd Average Speed Time Time Time Current
Dload Upload Total Spent Left Speed
0 0 0 0 0 0 0 0 --:--:-- --:--:-- --:--:-- 0
100 2723k 100 2723k 0 0 26.0M 0 --:--:-- --:--:-- --:--:-- 27.9M
install for i386
* installing *source* package 'schex' ...
** using staged installation
** R
** byte-compile and prepare package for lazy loading
** help
*** installing help indices
converting help for package 'schex'
finding HTML links ... done
make_hexbin html
make_hexbin_label html
plot_hexbin_bivariate html
finding level-2 HTML links ... done
plot_hexbin_density html
plot_hexbin_fc html
plot_hexbin_feature html
plot_hexbin_feature_plus html
plot_hexbin_feature_shiny html
plot_hexbin_gene html
plot_hexbin_interact html
plot_hexbin_meta html
plot_hexbin_meta_plus html
plot_hexbin_meta_shiny html
schex html
*** copying figures
** building package indices
** installing vignettes
** testing if installed package can be loaded from temporary location
** testing if installed package can be loaded from final location
** testing if installed package keeps a record of temporary installation path
install for x64
* installing *source* package 'schex' ...
** testing if installed package can be loaded
* MD5 sums
packaged installation of 'schex' as schex_1.2.0.zip
* DONE (schex)
* installing to library 'C:/Users/biocbuild/bbs-3.11-bioc/R/library'
package 'schex' successfully unpacked and MD5 sums checked