| Back to Multiple platform build/check report for BioC 3.11 |
|
This page was generated on 2020-10-17 11:57:46 -0400 (Sat, 17 Oct 2020).
| TO THE DEVELOPERS/MAINTAINERS OF THE scPCA PACKAGE: Please make sure to use the following settings in order to reproduce any error or warning you see on this page. |
| Package 1607/1905 | Hostname | OS / Arch | INSTALL | BUILD | CHECK | BUILD BIN | ||||||
| scPCA 1.2.0 Philippe Boileau
| malbec2 | Linux (Ubuntu 18.04.4 LTS) / x86_64 | OK | OK | OK | |||||||
| tokay2 | Windows Server 2012 R2 Standard / x64 | [ OK ] | OK | OK | OK | |||||||
| machv2 | macOS 10.14.6 Mojave / x86_64 | OK | OK | OK | OK |
| Package: scPCA |
| Version: 1.2.0 |
| Command: C:\cygwin\bin\curl.exe -O https://malbec2.bioconductor.org/BBS/3.11/bioc/src/contrib/scPCA_1.2.0.tar.gz && rm -rf scPCA.buildbin-libdir && mkdir scPCA.buildbin-libdir && C:\Users\biocbuild\bbs-3.11-bioc\R\bin\R.exe CMD INSTALL --merge-multiarch --build --library=scPCA.buildbin-libdir scPCA_1.2.0.tar.gz && C:\Users\biocbuild\bbs-3.11-bioc\R\bin\R.exe CMD INSTALL scPCA_1.2.0.zip && rm scPCA_1.2.0.tar.gz scPCA_1.2.0.zip |
| StartedAt: 2020-10-16 18:21:20 -0400 (Fri, 16 Oct 2020) |
| EndedAt: 2020-10-16 18:21:41 -0400 (Fri, 16 Oct 2020) |
| EllapsedTime: 22.0 seconds |
| RetCode: 0 |
| Status: OK |
##############################################################################
##############################################################################
###
### Running command:
###
### C:\cygwin\bin\curl.exe -O https://malbec2.bioconductor.org/BBS/3.11/bioc/src/contrib/scPCA_1.2.0.tar.gz && rm -rf scPCA.buildbin-libdir && mkdir scPCA.buildbin-libdir && C:\Users\biocbuild\bbs-3.11-bioc\R\bin\R.exe CMD INSTALL --merge-multiarch --build --library=scPCA.buildbin-libdir scPCA_1.2.0.tar.gz && C:\Users\biocbuild\bbs-3.11-bioc\R\bin\R.exe CMD INSTALL scPCA_1.2.0.zip && rm scPCA_1.2.0.tar.gz scPCA_1.2.0.zip
###
##############################################################################
##############################################################################
% Total % Received % Xferd Average Speed Time Time Time Current
Dload Upload Total Spent Left Speed
0 0 0 0 0 0 0 0 --:--:-- --:--:-- --:--:-- 0
100 232k 100 232k 0 0 2038k 0 --:--:-- --:--:-- --:--:-- 2176k
install for i386
* installing *source* package 'scPCA' ...
** using staged installation
** R
** data
*** moving datasets to lazyload DB
** inst
** byte-compile and prepare package for lazy loading
** help
Loading required namespace: scPCA
*** installing help indices
converting help for package 'scPCA'
finding HTML links ... done
background_df html
bpContrastiveCov html
bpFitCPCA html
bpFitGrid html
checkArgs html
coerceMatrix html
contrastiveCov html
covMat html
cvSelectParams html
fitCPCA html
fitGrid html
safeColScale html
scPCA html
selectParams html
spcaWrapper html
toy_df html
*** copying figures
** building package indices
** installing vignettes
** testing if installed package can be loaded from temporary location
** testing if installed package can be loaded from final location
** testing if installed package keeps a record of temporary installation path
install for x64
* installing *source* package 'scPCA' ...
** testing if installed package can be loaded
* MD5 sums
packaged installation of 'scPCA' as scPCA_1.2.0.zip
* DONE (scPCA)
* installing to library 'C:/Users/biocbuild/bbs-3.11-bioc/R/library'
package 'scPCA' successfully unpacked and MD5 sums checked