| Back to Multiple platform build/check report for BioC 3.11 |
|
This page was generated on 2020-10-17 11:59:32 -0400 (Sat, 17 Oct 2020).
| TO THE DEVELOPERS/MAINTAINERS OF THE scMAGeCK PACKAGE: Please make sure to use the following settings in order to reproduce any error or warning you see on this page. |
| Package 1598/1905 | Hostname | OS / Arch | INSTALL | BUILD | CHECK | BUILD BIN | ||||||
| scMAGeCK 1.0.0 Xiaolong Cheng
| malbec2 | Linux (Ubuntu 18.04.4 LTS) / x86_64 | OK | OK | OK | |||||||
| tokay2 | Windows Server 2012 R2 Standard / x64 | OK | OK | OK | OK | |||||||
| machv2 | macOS 10.14.6 Mojave / x86_64 | OK | OK | [ OK ] | OK |
| Package: scMAGeCK |
| Version: 1.0.0 |
| Command: /Library/Frameworks/R.framework/Versions/Current/Resources/bin/R CMD check --install=check:scMAGeCK.install-out.txt --library=/Library/Frameworks/R.framework/Versions/Current/Resources/library --no-vignettes --timings scMAGeCK_1.0.0.tar.gz |
| StartedAt: 2020-10-17 05:04:53 -0400 (Sat, 17 Oct 2020) |
| EndedAt: 2020-10-17 05:08:32 -0400 (Sat, 17 Oct 2020) |
| EllapsedTime: 218.6 seconds |
| RetCode: 0 |
| Status: OK |
| CheckDir: scMAGeCK.Rcheck |
| Warnings: 0 |
##############################################################################
##############################################################################
###
### Running command:
###
### /Library/Frameworks/R.framework/Versions/Current/Resources/bin/R CMD check --install=check:scMAGeCK.install-out.txt --library=/Library/Frameworks/R.framework/Versions/Current/Resources/library --no-vignettes --timings scMAGeCK_1.0.0.tar.gz
###
##############################################################################
##############################################################################
* using log directory ‘/Users/biocbuild/bbs-3.11-bioc/meat/scMAGeCK.Rcheck’
* using R version 4.0.3 (2020-10-10)
* using platform: x86_64-apple-darwin17.0 (64-bit)
* using session charset: UTF-8
* using option ‘--no-vignettes’
* checking for file ‘scMAGeCK/DESCRIPTION’ ... OK
* checking extension type ... Package
* this is package ‘scMAGeCK’ version ‘1.0.0’
* checking package namespace information ... OK
* checking package dependencies ... OK
* checking if this is a source package ... OK
* checking if there is a namespace ... OK
* checking for hidden files and directories ... OK
* checking for portable file names ... OK
* checking for sufficient/correct file permissions ... OK
* checking whether package ‘scMAGeCK’ can be installed ... OK
* checking installed package size ... OK
* checking package directory ... OK
* checking ‘build’ directory ... OK
* checking DESCRIPTION meta-information ... NOTE
Malformed Description field: should contain one or more complete sentences.
License components which are templates and need '+ file LICENSE':
BSD_2_clause
* checking top-level files ... OK
* checking for left-over files ... OK
* checking index information ... OK
* checking package subdirectories ... OK
* checking R files for non-ASCII characters ... OK
* checking R files for syntax errors ... OK
* checking whether the package can be loaded ... OK
* checking whether the package can be loaded with stated dependencies ... OK
* checking whether the package can be unloaded cleanly ... OK
* checking whether the namespace can be loaded with stated dependencies ... OK
* checking whether the namespace can be unloaded cleanly ... OK
* checking dependencies in R code ... NOTE
'library' or 'require' call to ‘utils’ in package code.
Please use :: or requireNamespace() instead.
See section 'Suggested packages' in the 'Writing R Extensions' manual.
* checking S3 generic/method consistency ... OK
* checking replacement functions ... OK
* checking foreign function calls ... OK
* checking R code for possible problems ... NOTE
get_rank_tables: no visible global function definition for
‘getoriginalgseascore’
get_sc_signature: no visible binding for global variable ‘gs_c2_exps’
plot_gi_genes: no visible global function definition for ‘ggplot’
plot_gi_genes: no visible global function definition for ‘aes’
plot_gi_genes: no visible binding for global variable ‘Type’
plot_gi_genes: no visible binding for global variable ‘Expression’
plot_gi_genes: no visible global function definition for ‘geom_violin’
plot_gi_genes: no visible global function definition for ‘geom_point’
plot_gi_genes: no visible global function definition for
‘position_jitter’
plot_gi_genes: no visible global function definition for ‘ggtitle’
plot_gi_genes: no visible global function definition for
‘scale_y_log10’
plot_single_genes: no visible binding for global variable ‘targetobj’
plot_single_genes: no visible global function definition for ‘ggplot’
plot_single_genes: no visible global function definition for ‘aes’
plot_single_genes: no visible binding for global variable ‘Type’
plot_single_genes: no visible binding for global variable ‘Expression’
plot_single_genes: no visible global function definition for
‘geom_violin’
plot_single_genes: no visible global function definition for
‘geom_point’
plot_single_genes: no visible global function definition for
‘position_jitter’
plot_single_genes: no visible global function definition for ‘ggtitle’
plot_single_genes: no visible global function definition for
‘scale_y_log10’
Undefined global functions or variables:
Expression Type aes geom_point geom_violin getoriginalgseascore
ggplot ggtitle gs_c2_exps position_jitter scale_y_log10 targetobj
* checking Rd files ... OK
* checking Rd metadata ... OK
* checking Rd cross-references ... OK
* checking for missing documentation entries ... OK
* checking for code/documentation mismatches ... OK
* checking Rd \usage sections ... OK
* checking Rd contents ... OK
* checking for unstated dependencies in examples ... OK
* checking files in ‘vignettes’ ... OK
* checking examples ... OK
Examples with CPU (user + system) or elapsed time > 5s
user system elapsed
scMAGeCK_LR 31.231 1.263 33.345
scMAGeCK-package 30.646 1.069 31.753
* checking for unstated dependencies in vignettes ... OK
* checking package vignettes in ‘inst/doc’ ... OK
* checking running R code from vignettes ... SKIPPED
* checking re-building of vignette outputs ... SKIPPED
* checking PDF version of manual ... OK
* DONE
Status: 3 NOTEs
See
‘/Users/biocbuild/bbs-3.11-bioc/meat/scMAGeCK.Rcheck/00check.log’
for details.
scMAGeCK.Rcheck/00install.out
############################################################################## ############################################################################## ### ### Running command: ### ### /Library/Frameworks/R.framework/Versions/Current/Resources/bin/R CMD INSTALL scMAGeCK ### ############################################################################## ############################################################################## * installing to library ‘/Library/Frameworks/R.framework/Versions/4.0/Resources/library’ * installing *source* package ‘scMAGeCK’ ... ** using staged installation ** R ** inst ** byte-compile and prepare package for lazy loading ** help *** installing help indices ** building package indices ** installing vignettes ** testing if installed package can be loaded from temporary location ** testing if installed package can be loaded from final location ** testing if installed package keeps a record of temporary installation path * DONE (scMAGeCK)
scMAGeCK.Rcheck/scMAGeCK-Ex.timings
| name | user | system | elapsed | |
| scMAGeCK-package | 30.646 | 1.069 | 31.753 | |
| scMAGeCK_LR | 31.231 | 1.263 | 33.345 | |
| scMAGeCK_RRA | 0.045 | 0.001 | 0.047 | |