| Back to Multiple platform build/check report for BioC 3.11 | 
  | 
This page was generated on 2020-10-17 11:57:45 -0400 (Sat, 17 Oct 2020).
| TO THE DEVELOPERS/MAINTAINERS OF THE scFeatureFilter PACKAGE: Please make sure to use the following settings in order to reproduce any error or warning you see on this page. | 
| Package 1592/1905 | Hostname | OS / Arch | INSTALL | BUILD | CHECK | BUILD BIN | ||||||
| scFeatureFilter 1.8.0 Guillaume Devailly 
  | malbec2 | Linux (Ubuntu 18.04.4 LTS) / x86_64 | OK | OK | OK | |||||||
| tokay2 | Windows Server 2012 R2 Standard / x64 | [ OK ] | OK | OK | OK | |||||||
| machv2 | macOS 10.14.6 Mojave / x86_64 | OK | OK | OK | OK | 
| Package: scFeatureFilter | 
| Version: 1.8.0 | 
| Command: C:\cygwin\bin\curl.exe -O https://malbec2.bioconductor.org/BBS/3.11/bioc/src/contrib/scFeatureFilter_1.8.0.tar.gz && rm -rf scFeatureFilter.buildbin-libdir && mkdir scFeatureFilter.buildbin-libdir && C:\Users\biocbuild\bbs-3.11-bioc\R\bin\R.exe CMD INSTALL --merge-multiarch --build --library=scFeatureFilter.buildbin-libdir scFeatureFilter_1.8.0.tar.gz && C:\Users\biocbuild\bbs-3.11-bioc\R\bin\R.exe CMD INSTALL scFeatureFilter_1.8.0.zip && rm scFeatureFilter_1.8.0.tar.gz scFeatureFilter_1.8.0.zip | 
| StartedAt: 2020-10-16 17:16:34 -0400 (Fri, 16 Oct 2020) | 
| EndedAt: 2020-10-16 17:17:05 -0400 (Fri, 16 Oct 2020) | 
| EllapsedTime: 30.9 seconds | 
| RetCode: 0 | 
| Status: OK | 
##############################################################################
##############################################################################
###
### Running command:
###
###   C:\cygwin\bin\curl.exe -O https://malbec2.bioconductor.org/BBS/3.11/bioc/src/contrib/scFeatureFilter_1.8.0.tar.gz && rm -rf scFeatureFilter.buildbin-libdir && mkdir scFeatureFilter.buildbin-libdir && C:\Users\biocbuild\bbs-3.11-bioc\R\bin\R.exe CMD INSTALL --merge-multiarch --build --library=scFeatureFilter.buildbin-libdir scFeatureFilter_1.8.0.tar.gz && C:\Users\biocbuild\bbs-3.11-bioc\R\bin\R.exe CMD INSTALL scFeatureFilter_1.8.0.zip && rm scFeatureFilter_1.8.0.tar.gz scFeatureFilter_1.8.0.zip
###
##############################################################################
##############################################################################
  % Total    % Received % Xferd  Average Speed   Time    Time     Time  Current
                                 Dload  Upload   Total   Spent    Left  Speed
  0     0    0     0    0     0      0      0 --:--:-- --:--:-- --:--:--     0
100 2919k  100 2919k    0     0  30.6M      0 --:--:-- --:--:-- --:--:-- 33.1M
install for i386
* installing *source* package 'scFeatureFilter' ...
** using staged installation
** R
** data
*** moving datasets to lazyload DB
** inst
** byte-compile and prepare package for lazy loading
** help
*** installing help indices
  converting help for package 'scFeatureFilter'
    finding HTML links ... done
    bin_scdata                              html  
    calculate_cvs                           html  
    correlate_windows                       html  
    correlations_to_densities               html  
    finding level-2 HTML links ... done
    define_top_genes                        html  
    determine_bin_cutoff                    html  
    filter_expression_table                 html  
    get_mean_median                         html  
    plot_correlations_distributions         html  
    plot_mean_variance                      html  
    plot_metric                             html  
    plot_top_window_autocor                 html  
    scData_hESC                             html  
    sc_feature_filter                       html  
** building package indices
** installing vignettes
** testing if installed package can be loaded from temporary location
** testing if installed package can be loaded from final location
** testing if installed package keeps a record of temporary installation path
install for x64
* installing *source* package 'scFeatureFilter' ...
** testing if installed package can be loaded
* MD5 sums
packaged installation of 'scFeatureFilter' as scFeatureFilter_1.8.0.zip
* DONE (scFeatureFilter)
* installing to library 'C:/Users/biocbuild/bbs-3.11-bioc/R/library'
package 'scFeatureFilter' successfully unpacked and MD5 sums checked