| Back to Multiple platform build/check report for BioC 3.11 |
|
This page was generated on 2020-10-17 11:57:45 -0400 (Sat, 17 Oct 2020).
| TO THE DEVELOPERS/MAINTAINERS OF THE scDD PACKAGE: Please make sure to use the following settings in order to reproduce any error or warning you see on this page. |
| Package 1589/1905 | Hostname | OS / Arch | INSTALL | BUILD | CHECK | BUILD BIN | ||||||
| scDD 1.12.0 Keegan Korthauer
| malbec2 | Linux (Ubuntu 18.04.4 LTS) / x86_64 | OK | OK | OK | |||||||
| tokay2 | Windows Server 2012 R2 Standard / x64 | OK | OK | OK | [ OK ] | |||||||
| machv2 | macOS 10.14.6 Mojave / x86_64 | OK | OK | OK | OK |
| Package: scDD |
| Version: 1.12.0 |
| Command: rm -rf scDD.buildbin-libdir && mkdir scDD.buildbin-libdir && C:\Users\biocbuild\bbs-3.11-bioc\R\bin\R.exe CMD INSTALL --merge-multiarch --build --library=scDD.buildbin-libdir scDD_1.12.0.tar.gz |
| StartedAt: 2020-10-17 11:35:37 -0400 (Sat, 17 Oct 2020) |
| EndedAt: 2020-10-17 11:36:32 -0400 (Sat, 17 Oct 2020) |
| EllapsedTime: 55.1 seconds |
| RetCode: 0 |
| Status: OK |
| PackageFile: scDD_1.12.0.zip |
| PackageFileSize: 1.057 MiB |
##############################################################################
##############################################################################
###
### Running command:
###
### rm -rf scDD.buildbin-libdir && mkdir scDD.buildbin-libdir && C:\Users\biocbuild\bbs-3.11-bioc\R\bin\R.exe CMD INSTALL --merge-multiarch --build --library=scDD.buildbin-libdir scDD_1.12.0.tar.gz
###
##############################################################################
##############################################################################
install for i386
* installing *source* package 'scDD' ...
** using staged installation
** R
** data
** inst
** byte-compile and prepare package for lazy loading
** help
*** installing help indices
converting help for package 'scDD'
finding HTML links ... done
calcMV html
calcRP html
classifyDD html
feDP html
findFC html
findIndex html
findOutliers html
getPosteriorParams html
jointPosterior html
lu html
luOutlier html
mclustRestricted html
permMclust html
permMclustCov html
permMclustGene html
permZero html
preprocess html
results html
scDD html
scDatEx html
scDatExList html
scDatExSim html
sideHist html
sideViolin html
simuDB html
simuDE html
simuDM html
simuDP html
simulateSet html
singleCellSimu html
testKS html
testZeroes html
validation html
** building package indices
** installing vignettes
** testing if installed package can be loaded from temporary location
** testing if installed package can be loaded from final location
** testing if installed package keeps a record of temporary installation path
install for x64
* installing *source* package 'scDD' ...
** testing if installed package can be loaded
* MD5 sums
packaged installation of 'scDD' as scDD_1.12.0.zip
* DONE (scDD)