| Back to Multiple platform build/check report for BioC 3.11 |
|
This page was generated on 2020-01-16 13:54:57 -0500 (Thu, 16 Jan 2020).
| Package 1520/1818 | Hostname | OS / Arch | INSTALL | BUILD | CHECK | BUILD BIN | ||||||
| scBFA 1.1.0 Ruoxin Li
| malbec2 | Linux (Ubuntu 18.04.3 LTS) / x86_64 | OK | OK | OK | |||||||
| tokay2 | Windows Server 2012 R2 Standard / x64 | OK | OK | OK | OK | |||||||
| celaya2 | OS X 10.11.6 El Capitan / x86_64 | OK | [ OK ] | OK | OK |
| Package: scBFA |
| Version: 1.1.0 |
| Command: /Library/Frameworks/R.framework/Versions/Current/Resources/bin/R CMD build --keep-empty-dirs --no-resave-data scBFA |
| StartedAt: 2020-01-16 00:51:00 -0500 (Thu, 16 Jan 2020) |
| EndedAt: 2020-01-16 00:52:38 -0500 (Thu, 16 Jan 2020) |
| EllapsedTime: 98.1 seconds |
| RetCode: 0 |
| Status: OK |
| PackageFile: scBFA_1.1.0.tar.gz |
| PackageFileSize: 1.206 MiB |
############################################################################## ############################################################################## ### ### Running command: ### ### /Library/Frameworks/R.framework/Versions/Current/Resources/bin/R CMD build --keep-empty-dirs --no-resave-data scBFA ### ############################################################################## ############################################################################## * checking for file ‘scBFA/DESCRIPTION’ ... OK * preparing ‘scBFA’: * checking DESCRIPTION meta-information ... OK * installing the package to build vignettes * creating vignettes ... OK * checking for LF line-endings in source and make files and shell scripts * checking for empty or unneeded directories * building ‘scBFA_1.1.0.tar.gz’