| Back to Multiple platform build/check report for BioC 3.11 | 
  | 
This page was generated on 2020-10-17 11:55:34 -0400 (Sat, 17 Oct 2020).
| TO THE DEVELOPERS/MAINTAINERS OF THE rhdf5client PACKAGE: Please make sure to use the following settings in order to reproduce any error or warning you see on this page. | 
| Package 1482/1905 | Hostname | OS / Arch | INSTALL | BUILD | CHECK | BUILD BIN | ||||||
| rhdf5client 1.10.0 Vincent Carey 
  | malbec2 | Linux (Ubuntu 18.04.4 LTS) / x86_64 | OK | [ OK ] | OK | |||||||
| tokay2 | Windows Server 2012 R2 Standard / x64 | OK | OK | OK | OK | |||||||
| machv2 | macOS 10.14.6 Mojave / x86_64 | OK | OK | OK | OK | 
| Package: rhdf5client | 
| Version: 1.10.0 | 
| Command: /home/biocbuild/bbs-3.11-bioc/R/bin/R CMD build --keep-empty-dirs --no-resave-data rhdf5client | 
| StartedAt: 2020-10-16 21:21:41 -0400 (Fri, 16 Oct 2020) | 
| EndedAt: 2020-10-16 21:22:22 -0400 (Fri, 16 Oct 2020) | 
| EllapsedTime: 40.9 seconds | 
| RetCode: 0 | 
| Status: OK | 
| PackageFile: rhdf5client_1.10.0.tar.gz | 
| PackageFileSize: 535.4 KiB | 
############################################################################## ############################################################################## ### ### Running command: ### ### /home/biocbuild/bbs-3.11-bioc/R/bin/R CMD build --keep-empty-dirs --no-resave-data rhdf5client ### ############################################################################## ############################################################################## * checking for file ‘rhdf5client/DESCRIPTION’ ... OK * preparing ‘rhdf5client’: * checking DESCRIPTION meta-information ... OK * cleaning src * installing the package to build vignettes * creating vignettes ... OK * cleaning src * checking for LF line-endings in source and make files and shell scripts * checking for empty or unneeded directories * building ‘rhdf5client_1.10.0.tar.gz’