| Back to Multiple platform build/check report for BioC 3.11 |
|
This page was generated on 2020-10-17 11:57:36 -0400 (Sat, 17 Oct 2020).
| TO THE DEVELOPERS/MAINTAINERS OF THE rfaRm PACKAGE: Please make sure to use the following settings in order to reproduce any error or warning you see on this page. |
| Package 1470/1905 | Hostname | OS / Arch | INSTALL | BUILD | CHECK | BUILD BIN | ||||||
| rfaRm 1.0.0 Lara Selles Vidal
| malbec2 | Linux (Ubuntu 18.04.4 LTS) / x86_64 | OK | OK | OK | |||||||
| tokay2 | Windows Server 2012 R2 Standard / x64 | OK | OK | OK | [ OK ] | |||||||
| machv2 | macOS 10.14.6 Mojave / x86_64 | OK | OK | OK | OK |
| Package: rfaRm |
| Version: 1.0.0 |
| Command: rm -rf rfaRm.buildbin-libdir && mkdir rfaRm.buildbin-libdir && C:\Users\biocbuild\bbs-3.11-bioc\R\bin\R.exe CMD INSTALL --merge-multiarch --build --library=rfaRm.buildbin-libdir rfaRm_1.0.0.tar.gz |
| StartedAt: 2020-10-17 11:27:15 -0400 (Sat, 17 Oct 2020) |
| EndedAt: 2020-10-17 11:27:34 -0400 (Sat, 17 Oct 2020) |
| EllapsedTime: 18.8 seconds |
| RetCode: 0 |
| Status: OK |
| PackageFile: rfaRm_1.0.0.zip |
| PackageFileSize: 458.7 KiB |
##############################################################################
##############################################################################
###
### Running command:
###
### rm -rf rfaRm.buildbin-libdir && mkdir rfaRm.buildbin-libdir && C:\Users\biocbuild\bbs-3.11-bioc\R\bin\R.exe CMD INSTALL --merge-multiarch --build --library=rfaRm.buildbin-libdir rfaRm_1.0.0.tar.gz
###
##############################################################################
##############################################################################
install for i386
* installing *source* package 'rfaRm' ...
** using staged installation
** R
** inst
** byte-compile and prepare package for lazy loading
** help
*** installing help indices
converting help for package 'rfaRm'
finding HTML links ... done
rfamConsensusSecondaryStructure html
rfamCovarianceModel html
rfamFamilyAccessionToID html
rfamFamilyIDToAccession html
rfamFamilySummary html
rfamPDBMapping html
rfamSecondaryStructurePlot html
rfamSecondaryStructureXMLSVG html
rfamSeedAlignment html
rfamSeedTree html
rfamSeedTreeImage html
rfamSequenceRegions html
rfamSequenceSearch html
rfamTextSearchFamilyAccession html
** building package indices
** installing vignettes
** testing if installed package can be loaded from temporary location
** testing if installed package can be loaded from final location
** testing if installed package keeps a record of temporary installation path
install for x64
* installing *source* package 'rfaRm' ...
** testing if installed package can be loaded
* MD5 sums
packaged installation of 'rfaRm' as rfaRm_1.0.0.zip
* DONE (rfaRm)