| Back to Multiple platform build/check report for BioC 3.11 | 
 | 
This page was generated on 2020-10-17 11:59:22 -0400 (Sat, 17 Oct 2020).
| TO THE DEVELOPERS/MAINTAINERS OF THE recount PACKAGE: Please make sure to use the following settings in order to reproduce any error or warning you see on this page. | 
| Package 1453/1905 | Hostname | OS / Arch | INSTALL | BUILD | CHECK | BUILD BIN | ||||||
| recount 1.14.0 Leonardo Collado-Torres 
 | malbec2 | Linux (Ubuntu 18.04.4 LTS) / x86_64 | OK | OK | OK |  | ||||||
| tokay2 | Windows Server 2012 R2 Standard / x64 | OK | OK | OK | OK |  | ||||||
| machv2 | macOS 10.14.6 Mojave / x86_64 | OK | [ OK ] | OK | OK |  | 
| Package: recount | 
| Version: 1.14.0 | 
| Command: /Library/Frameworks/R.framework/Versions/Current/Resources/bin/R CMD build --keep-empty-dirs --no-resave-data recount | 
| StartedAt: 2020-10-16 20:48:18 -0400 (Fri, 16 Oct 2020) | 
| EndedAt: 2020-10-16 20:52:40 -0400 (Fri, 16 Oct 2020) | 
| EllapsedTime: 261.9 seconds | 
| RetCode: 0 | 
| Status: OK | 
| PackageFile: recount_1.14.0.tar.gz | 
| PackageFileSize: 6.868 MiB | 
############################################################################## ############################################################################## ### ### Running command: ### ### /Library/Frameworks/R.framework/Versions/Current/Resources/bin/R CMD build --keep-empty-dirs --no-resave-data recount ### ############################################################################## ############################################################################## * checking for file ‘recount/DESCRIPTION’ ... OK * preparing ‘recount’: * checking DESCRIPTION meta-information ... OK * installing the package to build vignettes * creating vignettes ... OK * checking for LF line-endings in source and make files and shell scripts * checking for empty or unneeded directories * building ‘recount_1.14.0.tar.gz’