| Back to Multiple platform build/check report for BioC 3.11 |
|
This page was generated on 2020-10-17 11:57:33 -0400 (Sat, 17 Oct 2020).
| TO THE DEVELOPERS/MAINTAINERS OF THE randRotation PACKAGE: Please make sure to use the following settings in order to reproduce any error or warning you see on this page. |
| Package 1416/1905 | Hostname | OS / Arch | INSTALL | BUILD | CHECK | BUILD BIN | ||||||
| randRotation 1.0.0 Peter Hettegger
| malbec2 | Linux (Ubuntu 18.04.4 LTS) / x86_64 | OK | OK | OK | |||||||
| tokay2 | Windows Server 2012 R2 Standard / x64 | [ OK ] | OK | OK | OK | |||||||
| machv2 | macOS 10.14.6 Mojave / x86_64 | OK | OK | OK | OK |
| Package: randRotation |
| Version: 1.0.0 |
| Command: C:\cygwin\bin\curl.exe -O https://malbec2.bioconductor.org/BBS/3.11/bioc/src/contrib/randRotation_1.0.0.tar.gz && rm -rf randRotation.buildbin-libdir && mkdir randRotation.buildbin-libdir && C:\Users\biocbuild\bbs-3.11-bioc\R\bin\R.exe CMD INSTALL --merge-multiarch --build --library=randRotation.buildbin-libdir randRotation_1.0.0.tar.gz && C:\Users\biocbuild\bbs-3.11-bioc\R\bin\R.exe CMD INSTALL randRotation_1.0.0.zip && rm randRotation_1.0.0.tar.gz randRotation_1.0.0.zip |
| StartedAt: 2020-10-16 16:54:57 -0400 (Fri, 16 Oct 2020) |
| EndedAt: 2020-10-16 16:55:45 -0400 (Fri, 16 Oct 2020) |
| EllapsedTime: 48.3 seconds |
| RetCode: 0 |
| Status: OK |
##############################################################################
##############################################################################
###
### Running command:
###
### C:\cygwin\bin\curl.exe -O https://malbec2.bioconductor.org/BBS/3.11/bioc/src/contrib/randRotation_1.0.0.tar.gz && rm -rf randRotation.buildbin-libdir && mkdir randRotation.buildbin-libdir && C:\Users\biocbuild\bbs-3.11-bioc\R\bin\R.exe CMD INSTALL --merge-multiarch --build --library=randRotation.buildbin-libdir randRotation_1.0.0.tar.gz && C:\Users\biocbuild\bbs-3.11-bioc\R\bin\R.exe CMD INSTALL randRotation_1.0.0.zip && rm randRotation_1.0.0.tar.gz randRotation_1.0.0.zip
###
##############################################################################
##############################################################################
% Total % Received % Xferd Average Speed Time Time Time Current
Dload Upload Total Spent Left Speed
0 0 0 0 0 0 0 0 --:--:-- --:--:-- --:--:-- 0
100 38441 100 38441 0 0 614k 0 --:--:-- --:--:-- --:--:-- 695k
install for i386
* installing *source* package 'randRotation' ...
** using staged installation
** R
** inst
** byte-compile and prepare package for lazy loading
** help
Loading required namespace: randRotation
*** installing help indices
converting help for package 'randRotation'
finding HTML links ... done
X_decomp html
df_estimate html
dim html
dimnames html
fdr_p html
initBatchRandrot-class html
initRandrot-class html
initRandrot html
initRandrotW html
pFdr html
qqunif html
randRotation-package html
randorth html
randpermut html
randrot html
rotateStat-class html
rotateStat html
show html
weights html
** building package indices
** installing vignettes
** testing if installed package can be loaded from temporary location
** testing if installed package can be loaded from final location
** testing if installed package keeps a record of temporary installation path
install for x64
* installing *source* package 'randRotation' ...
** testing if installed package can be loaded
* MD5 sums
packaged installation of 'randRotation' as randRotation_1.0.0.zip
* DONE (randRotation)
* installing to library 'C:/Users/biocbuild/bbs-3.11-bioc/R/library'
package 'randRotation' successfully unpacked and MD5 sums checked