| Back to Multiple platform build/check report for BioC 3.11 |
|
This page was generated on 2020-10-17 11:57:32 -0400 (Sat, 17 Oct 2020).
| TO THE DEVELOPERS/MAINTAINERS OF THE qvalue PACKAGE: Please make sure to use the following settings in order to reproduce any error or warning you see on this page. |
| Package 1405/1905 | Hostname | OS / Arch | INSTALL | BUILD | CHECK | BUILD BIN | ||||||
| qvalue 2.20.0 John D. Storey
| malbec2 | Linux (Ubuntu 18.04.4 LTS) / x86_64 | OK | OK | OK | |||||||
| tokay2 | Windows Server 2012 R2 Standard / x64 | OK | OK | OK | [ OK ] | |||||||
| machv2 | macOS 10.14.6 Mojave / x86_64 | OK | OK | OK | OK |
| Package: qvalue |
| Version: 2.20.0 |
| Command: rm -rf qvalue.buildbin-libdir && mkdir qvalue.buildbin-libdir && C:\Users\biocbuild\bbs-3.11-bioc\R\bin\R.exe CMD INSTALL --merge-multiarch --build --library=qvalue.buildbin-libdir qvalue_2.20.0.tar.gz |
| StartedAt: 2020-10-17 11:23:04 -0400 (Sat, 17 Oct 2020) |
| EndedAt: 2020-10-17 11:23:32 -0400 (Sat, 17 Oct 2020) |
| EllapsedTime: 27.8 seconds |
| RetCode: 0 |
| Status: OK |
| PackageFile: qvalue_2.20.0.zip |
| PackageFileSize: 2.687 MiB |
##############################################################################
##############################################################################
###
### Running command:
###
### rm -rf qvalue.buildbin-libdir && mkdir qvalue.buildbin-libdir && C:\Users\biocbuild\bbs-3.11-bioc\R\bin\R.exe CMD INSTALL --merge-multiarch --build --library=qvalue.buildbin-libdir qvalue_2.20.0.tar.gz
###
##############################################################################
##############################################################################
install for i386
* installing *source* package 'qvalue' ...
** using staged installation
** R
** data
** inst
** byte-compile and prepare package for lazy loading
** help
*** installing help indices
converting help for package 'qvalue'
finding HTML links ... done
empPvals html
hedenfalk html
hist.qvalue html
lfdr html
pi0est html
plot.qvalue html
qvalue html
summary.qvalue html
write.qvalue html
** building package indices
** installing vignettes
** testing if installed package can be loaded from temporary location
** testing if installed package can be loaded from final location
** testing if installed package keeps a record of temporary installation path
install for x64
* installing *source* package 'qvalue' ...
** testing if installed package can be loaded
* MD5 sums
packaged installation of 'qvalue' as qvalue_2.20.0.zip
* DONE (qvalue)