| Back to Multiple platform build/check report for BioC 3.11 |
|
This page was generated on 2020-10-17 11:57:32 -0400 (Sat, 17 Oct 2020).
| TO THE DEVELOPERS/MAINTAINERS OF THE quantsmooth PACKAGE: Please make sure to use the following settings in order to reproduce any error or warning you see on this page. |
| Package 1399/1905 | Hostname | OS / Arch | INSTALL | BUILD | CHECK | BUILD BIN | ||||||
| quantsmooth 1.54.0 Jan Oosting
| malbec2 | Linux (Ubuntu 18.04.4 LTS) / x86_64 | OK | OK | OK | |||||||
| tokay2 | Windows Server 2012 R2 Standard / x64 | OK | OK | OK | [ OK ] | |||||||
| machv2 | macOS 10.14.6 Mojave / x86_64 | OK | OK | OK | OK |
| Package: quantsmooth |
| Version: 1.54.0 |
| Command: rm -rf quantsmooth.buildbin-libdir && mkdir quantsmooth.buildbin-libdir && C:\Users\biocbuild\bbs-3.11-bioc\R\bin\R.exe CMD INSTALL --merge-multiarch --build --library=quantsmooth.buildbin-libdir quantsmooth_1.54.0.tar.gz |
| StartedAt: 2020-10-17 11:22:40 -0400 (Sat, 17 Oct 2020) |
| EndedAt: 2020-10-17 11:23:12 -0400 (Sat, 17 Oct 2020) |
| EllapsedTime: 31.9 seconds |
| RetCode: 0 |
| Status: OK |
| PackageFile: quantsmooth_1.54.0.zip |
| PackageFileSize: 389.3 KiB |
##############################################################################
##############################################################################
###
### Running command:
###
### rm -rf quantsmooth.buildbin-libdir && mkdir quantsmooth.buildbin-libdir && C:\Users\biocbuild\bbs-3.11-bioc\R\bin\R.exe CMD INSTALL --merge-multiarch --build --library=quantsmooth.buildbin-libdir quantsmooth_1.54.0.tar.gz
###
##############################################################################
##############################################################################
install for i386
* installing *source* package 'quantsmooth' ...
** using staged installation
** R
** data
** inst
** byte-compile and prepare package for lazy loading
** help
*** installing help indices
converting help for package 'quantsmooth'
finding HTML links ... done
Chromosome14 html
chrom.bands html
drawSimpleChrom html
getChangedIdx html
getChangedRegions html
getLambdaMin html
grid.chromosome html
lengthChromosome html
numericCHR html
paintCytobands html
plotChromosome html
plotSmoothed html
position2Cytoband html
prepareGenomePlot html
quantsmooth html
quantsmooth.cv html
quantsmooth.seg html
scaleto html
** building package indices
** installing vignettes
** testing if installed package can be loaded from temporary location
** testing if installed package can be loaded from final location
** testing if installed package keeps a record of temporary installation path
install for x64
* installing *source* package 'quantsmooth' ...
** testing if installed package can be loaded
* MD5 sums
packaged installation of 'quantsmooth' as quantsmooth_1.54.0.zip
* DONE (quantsmooth)