| Back to Multiple platform build/check report for BioC 3.11 | 
 | 
This page was generated on 2020-10-17 11:57:31 -0400 (Sat, 17 Oct 2020).
| TO THE DEVELOPERS/MAINTAINERS OF THE pwrEWAS PACKAGE: Please make sure to use the following settings in order to reproduce any error or warning you see on this page. | 
| Package 1385/1905 | Hostname | OS / Arch | INSTALL | BUILD | CHECK | BUILD BIN | ||||||
| pwrEWAS 1.2.0 Stefan Graw 
 | malbec2 | Linux (Ubuntu 18.04.4 LTS) / x86_64 | OK | OK | OK |  | ||||||
| tokay2 | Windows Server 2012 R2 Standard / x64 | OK | OK | OK | [ OK ] |  | ||||||
| machv2 | macOS 10.14.6 Mojave / x86_64 | OK | OK | OK | OK |  | 
| Package: pwrEWAS | 
| Version: 1.2.0 | 
| Command: rm -rf pwrEWAS.buildbin-libdir && mkdir pwrEWAS.buildbin-libdir && C:\Users\biocbuild\bbs-3.11-bioc\R\bin\R.exe CMD INSTALL --merge-multiarch --build --library=pwrEWAS.buildbin-libdir pwrEWAS_1.2.0.tar.gz | 
| StartedAt: 2020-10-17 11:21:47 -0400 (Sat, 17 Oct 2020) | 
| EndedAt: 2020-10-17 11:22:20 -0400 (Sat, 17 Oct 2020) | 
| EllapsedTime: 32.4 seconds | 
| RetCode: 0 | 
| Status: OK | 
| PackageFile: pwrEWAS_1.2.0.zip | 
| PackageFileSize: 240.3 KiB | 
##############################################################################
##############################################################################
###
### Running command:
###
###   rm -rf pwrEWAS.buildbin-libdir && mkdir pwrEWAS.buildbin-libdir && C:\Users\biocbuild\bbs-3.11-bioc\R\bin\R.exe CMD INSTALL --merge-multiarch --build --library=pwrEWAS.buildbin-libdir pwrEWAS_1.2.0.tar.gz
###
##############################################################################
##############################################################################
install for i386
* installing *source* package 'pwrEWAS' ...
** using staged installation
** R
** inst
** byte-compile and prepare package for lazy loading
** help
*** installing help indices
  converting help for package 'pwrEWAS'
    finding HTML links ... done
    pwrEWAS                                 html  
    pwrEWAS_deltaDensity                    html  
    pwrEWAS_powerPlot                       html  
    pwrEWAS_shiny                           html  
** building package indices
** installing vignettes
** testing if installed package can be loaded from temporary location
** testing if installed package can be loaded from final location
** testing if installed package keeps a record of temporary installation path
install for x64
* installing *source* package 'pwrEWAS' ...
** testing if installed package can be loaded
* MD5 sums
packaged installation of 'pwrEWAS' as pwrEWAS_1.2.0.zip
* DONE (pwrEWAS)