| Back to Multiple platform build/check report for BioC 3.11 | 
 | 
This page was generated on 2020-10-17 11:57:26 -0400 (Sat, 17 Oct 2020).
| TO THE DEVELOPERS/MAINTAINERS OF THE powerTCR PACKAGE: Please make sure to use the following settings in order to reproduce any error or warning you see on this page. | 
| Package 1337/1905 | Hostname | OS / Arch | INSTALL | BUILD | CHECK | BUILD BIN | ||||||
| powerTCR 1.8.0 Hillary Koch 
 | malbec2 | Linux (Ubuntu 18.04.4 LTS) / x86_64 | OK | OK | OK |  | ||||||
| tokay2 | Windows Server 2012 R2 Standard / x64 | [ OK ] | OK | OK | OK |  | ||||||
| machv2 | macOS 10.14.6 Mojave / x86_64 | OK | OK | OK | OK |  | 
| Package: powerTCR | 
| Version: 1.8.0 | 
| Command: C:\cygwin\bin\curl.exe -O https://malbec2.bioconductor.org/BBS/3.11/bioc/src/contrib/powerTCR_1.8.0.tar.gz && rm -rf powerTCR.buildbin-libdir && mkdir powerTCR.buildbin-libdir && C:\Users\biocbuild\bbs-3.11-bioc\R\bin\R.exe CMD INSTALL --merge-multiarch --build --library=powerTCR.buildbin-libdir powerTCR_1.8.0.tar.gz && C:\Users\biocbuild\bbs-3.11-bioc\R\bin\R.exe CMD INSTALL powerTCR_1.8.0.zip && rm powerTCR_1.8.0.tar.gz powerTCR_1.8.0.zip | 
| StartedAt: 2020-10-16 17:36:02 -0400 (Fri, 16 Oct 2020) | 
| EndedAt: 2020-10-16 17:38:19 -0400 (Fri, 16 Oct 2020) | 
| EllapsedTime: 137.3 seconds | 
| RetCode: 0 | 
| Status: OK | 
##############################################################################
##############################################################################
###
### Running command:
###
###   C:\cygwin\bin\curl.exe -O https://malbec2.bioconductor.org/BBS/3.11/bioc/src/contrib/powerTCR_1.8.0.tar.gz && rm -rf powerTCR.buildbin-libdir && mkdir powerTCR.buildbin-libdir && C:\Users\biocbuild\bbs-3.11-bioc\R\bin\R.exe CMD INSTALL --merge-multiarch --build --library=powerTCR.buildbin-libdir powerTCR_1.8.0.tar.gz && C:\Users\biocbuild\bbs-3.11-bioc\R\bin\R.exe CMD INSTALL powerTCR_1.8.0.zip && rm powerTCR_1.8.0.tar.gz powerTCR_1.8.0.zip
###
##############################################################################
##############################################################################
  % Total    % Received % Xferd  Average Speed   Time    Time     Time  Current
                                 Dload  Upload   Total   Spent    Left  Speed
  0     0    0     0    0     0      0      0 --:--:-- --:--:-- --:--:--     0
100 30053  100 30053    0     0   500k      0 --:--:-- --:--:-- --:--:--  564k
install for i386
* installing *source* package 'powerTCR' ...
** using staged installation
** R
** data
*** moving datasets to lazyload DB
** inst
** byte-compile and prepare package for lazy loading
** help
*** installing help indices
  converting help for package 'powerTCR'
    finding HTML links ... done
    Accessors                               html  
    JS_desponds                             html  
    JS_dist                                 html  
    JS_spliced                              html  
    clusterPlot                             html  
    discgammagpd                            html  
    fdesponds                               html  
    fdiscgammagpd                           html  
    get_bootstraps                          html  
    get_distances                           html  
    parse                                   html  
    repertoires                             html  
** building package indices
** installing vignettes
** testing if installed package can be loaded from temporary location
** testing if installed package can be loaded from final location
** testing if installed package keeps a record of temporary installation path
install for x64
* installing *source* package 'powerTCR' ...
** testing if installed package can be loaded
* MD5 sums
packaged installation of 'powerTCR' as powerTCR_1.8.0.zip
* DONE (powerTCR)
* installing to library 'C:/Users/biocbuild/bbs-3.11-bioc/R/library'
package 'powerTCR' successfully unpacked and MD5 sums checked